BEGIN:VCALENDAR
VERSION:2.0
PRODID:-//Sendero Prep - ECPv6.15.20//NONSGML v1.0//EN
CALSCALE:GREGORIAN
METHOD:PUBLISH
X-WR-CALNAME:Sendero Prep
X-ORIGINAL-URL:https://senderoprep.com
X-WR-CALDESC:Events for Sendero Prep
REFRESH-INTERVAL;VALUE=DURATION:PT1H
X-Robots-Tag:noindex
X-PUBLISHED-TTL:PT1H
BEGIN:VTIMEZONE
TZID:America/Denver
BEGIN:DAYLIGHT
TZOFFSETFROM:-0700
TZOFFSETTO:-0600
TZNAME:MDT
DTSTART:20240310T090000
END:DAYLIGHT
BEGIN:STANDARD
TZOFFSETFROM:-0600
TZOFFSETTO:-0700
TZNAME:MST
DTSTART:20241103T080000
END:STANDARD
BEGIN:DAYLIGHT
TZOFFSETFROM:-0700
TZOFFSETTO:-0600
TZNAME:MDT
DTSTART:20250309T090000
END:DAYLIGHT
BEGIN:STANDARD
TZOFFSETFROM:-0600
TZOFFSETTO:-0700
TZNAME:MST
DTSTART:20251102T080000
END:STANDARD
BEGIN:DAYLIGHT
TZOFFSETFROM:-0700
TZOFFSETTO:-0600
TZNAME:MDT
DTSTART:20260308T090000
END:DAYLIGHT
BEGIN:STANDARD
TZOFFSETFROM:-0600
TZOFFSETTO:-0700
TZNAME:MST
DTSTART:20261101T080000
END:STANDARD
BEGIN:DAYLIGHT
TZOFFSETFROM:-0700
TZOFFSETTO:-0600
TZNAME:MDT
DTSTART:20270314T090000
END:DAYLIGHT
BEGIN:STANDARD
TZOFFSETFROM:-0600
TZOFFSETTO:-0700
TZNAME:MST
DTSTART:20271107T080000
END:STANDARD
END:VTIMEZONE
BEGIN:VEVENT
DTSTART;TZID=America/Denver:20260423T080000
DTEND;TZID=America/Denver:20260423T170000
DTSTAMP:20260419T151823
CREATED:20250712T000208Z
LAST-MODIFIED:20250712T000208Z
UID:10000773-1776931200-1776963600@senderoprep.com
SUMMARY:Term 7 Ends
DESCRIPTION:
URL:https://senderoprep.com/event/term-7-ends-3/
CATEGORIES:Student Body Events
END:VEVENT
BEGIN:VEVENT
DTSTART;TZID=America/Denver:20260406T080000
DTEND;TZID=America/Denver:20260406T170000
DTSTAMP:20260419T151823
CREATED:20250712T000134Z
LAST-MODIFIED:20250712T000134Z
UID:10000772-1775462400-1775494800@senderoprep.com
SUMMARY:Remote Learning Day
DESCRIPTION:
URL:https://senderoprep.com/event/remote-learning-day-4/
CATEGORIES:Student Body Events
END:VEVENT
BEGIN:VEVENT
DTSTART;TZID=America/Denver:20260316T080000
DTEND;TZID=America/Denver:20260319T170000
DTSTAMP:20260419T151823
CREATED:20250712T000048Z
LAST-MODIFIED:20250712T000048Z
UID:10000771-1773648000-1773939600@senderoprep.com
SUMMARY:Spring Break
DESCRIPTION:
URL:https://senderoprep.com/event/spring-break-5/
END:VEVENT
BEGIN:VEVENT
DTSTART;TZID=America/Denver:20260312T080000
DTEND;TZID=America/Denver:20260312T170000
DTSTAMP:20260419T151823
CREATED:20250712T000010Z
LAST-MODIFIED:20250712T000010Z
UID:10000770-1773302400-1773334800@senderoprep.com
SUMMARY:Term 6 Ends
DESCRIPTION:
URL:https://senderoprep.com/event/term-6-ends-4/
END:VEVENT
BEGIN:VEVENT
DTSTART;TZID=America/Denver:20260220T080000
DTEND;TZID=America/Denver:20260220T170000
DTSTAMP:20260419T151823
CREATED:20250711T235935Z
LAST-MODIFIED:20250711T235935Z
UID:10000769-1771574400-1771606800@senderoprep.com
SUMMARY:Next Step Planning
DESCRIPTION:
URL:https://senderoprep.com/event/next-step-planning-2/
END:VEVENT
BEGIN:VEVENT
DTSTART;TZID=America/Denver:20260216T080000
DTEND;TZID=America/Denver:20260216T170000
DTSTAMP:20260419T151823
CREATED:20250711T235907Z
LAST-MODIFIED:20250711T235907Z
UID:10000768-1771228800-1771261200@senderoprep.com
SUMMARY:Presidents' Day No School
DESCRIPTION:
URL:https://senderoprep.com/event/presidents-day-no-school-2/
END:VEVENT
BEGIN:VEVENT
DTSTART;TZID=America/Denver:20260205T080000
DTEND;TZID=America/Denver:20260205T170000
DTSTAMP:20260419T151823
CREATED:20250711T235832Z
LAST-MODIFIED:20250711T235832Z
UID:10000767-1770278400-1770310800@senderoprep.com
SUMMARY:Term 5 Ends
DESCRIPTION:
URL:https://senderoprep.com/event/term-5-ends/
END:VEVENT
BEGIN:VEVENT
DTSTART;TZID=America/Denver:20260123T080000
DTEND;TZID=America/Denver:20260123T170000
DTSTAMP:20260419T151823
CREATED:20250711T235803Z
LAST-MODIFIED:20250711T235803Z
UID:10000766-1769155200-1769187600@senderoprep.com
SUMMARY:Remote Learning Day
DESCRIPTION:
URL:https://senderoprep.com/event/remote-learning-day-3/
END:VEVENT
BEGIN:VEVENT
DTSTART;TZID=America/Denver:20260119T080000
DTEND;TZID=America/Denver:20260119T170000
DTSTAMP:20260419T151823
CREATED:20250711T235738Z
LAST-MODIFIED:20250711T235738Z
UID:10000765-1768809600-1768842000@senderoprep.com
SUMMARY:ML King Day No School
DESCRIPTION:
URL:https://senderoprep.com/event/ml-king-day-no-school/
END:VEVENT
BEGIN:VEVENT
DTSTART;TZID=America/Denver:20260106T080000
DTEND;TZID=America/Denver:20260106T170000
DTSTAMP:20260419T151823
CREATED:20250711T235658Z
LAST-MODIFIED:20250711T235658Z
UID:10000764-1767686400-1767718800@senderoprep.com
SUMMARY:Term 5 Begins
DESCRIPTION:
URL:https://senderoprep.com/event/term-5-begins-6/
END:VEVENT
BEGIN:VEVENT
DTSTART;VALUE=DATE:20260105
DTEND;VALUE=DATE:20260106
DTSTAMP:20260419T151823
CREATED:20250711T235632Z
LAST-MODIFIED:20250711T235632Z
UID:10000763-1767571200-1767657599@senderoprep.com
SUMMARY:Teacher PD
DESCRIPTION:
URL:https://senderoprep.com/event/teacher-pd-3/
END:VEVENT
BEGIN:VEVENT
DTSTART;TZID=America/Denver:20251222T080000
DTEND;TZID=America/Denver:20251231T170000
DTSTAMP:20260419T151823
CREATED:20250711T235540Z
LAST-MODIFIED:20250711T235540Z
UID:10000762-1766390400-1767200400@senderoprep.com
SUMMARY:Winter Break No School
DESCRIPTION:
URL:https://senderoprep.com/event/winter-break-no-school-3/
END:VEVENT
BEGIN:VEVENT
DTSTART;TZID=America/Denver:20251218T080000
DTEND;TZID=America/Denver:20251218T170000
DTSTAMP:20260419T151823
CREATED:20250711T235451Z
LAST-MODIFIED:20250711T235451Z
UID:10000761-1766044800-1766077200@senderoprep.com
SUMMARY:End of Fall Semester
DESCRIPTION:
URL:https://senderoprep.com/event/end-of-fall-semester-2/
END:VEVENT
BEGIN:VEVENT
DTSTART;TZID=America/Denver:20251124T080000
DTEND;TZID=America/Denver:20251128T170000
DTSTAMP:20260419T151823
CREATED:20250711T235356Z
LAST-MODIFIED:20250711T235356Z
UID:10000760-1763971200-1764349200@senderoprep.com
SUMMARY:Thanksgiving Break No School
DESCRIPTION:
URL:https://senderoprep.com/event/thanksgiving-break-no-school/
END:VEVENT
BEGIN:VEVENT
DTSTART;TZID=America/Denver:20251113T080000
DTEND;TZID=America/Denver:20251113T170000
DTSTAMP:20260419T151823
CREATED:20250711T235316Z
LAST-MODIFIED:20250711T235316Z
UID:10000759-1763020800-1763053200@senderoprep.com
SUMMARY:Term 3 Ends
DESCRIPTION:
URL:https://senderoprep.com/event/term-3-ends/
END:VEVENT
BEGIN:VEVENT
DTSTART;TZID=America/Denver:20251107T080000
DTEND;TZID=America/Denver:20251107T170000
DTSTAMP:20260419T151823
CREATED:20250711T235153Z
LAST-MODIFIED:20250711T235224Z
UID:10000758-1762502400-1762534800@senderoprep.com
SUMMARY:Remote Learning Day
DESCRIPTION:
URL:https://senderoprep.com/event/remote-learning-day-2/
CATEGORIES:Student Body Events
END:VEVENT
BEGIN:VEVENT
DTSTART;TZID=America/Denver:20251104T080000
DTEND;TZID=America/Denver:20251104T170000
DTSTAMP:20260419T151823
CREATED:20250711T235101Z
LAST-MODIFIED:20250711T235101Z
UID:10000757-1762243200-1762275600@senderoprep.com
SUMMARY:Election Day No School
DESCRIPTION:
URL:https://senderoprep.com/event/election-day-no-school-2/
END:VEVENT
BEGIN:VEVENT
DTSTART;VALUE=DATE:20251014
DTEND;VALUE=DATE:20251015
DTSTAMP:20260419T151823
CREATED:20250711T235020Z
LAST-MODIFIED:20250711T235020Z
UID:10000756-1760400000-1760486399@senderoprep.com
SUMMARY:Remote Learning Day
DESCRIPTION:
URL:https://senderoprep.com/event/remote-learning-day/
END:VEVENT
BEGIN:VEVENT
DTSTART;TZID=America/Denver:20251006T080000
DTEND;TZID=America/Denver:20251009T170000
DTSTAMP:20260419T151823
CREATED:20250711T234728Z
LAST-MODIFIED:20250711T234728Z
UID:10000754-1759737600-1760029200@senderoprep.com
SUMMARY:Fall Break
DESCRIPTION:
URL:https://senderoprep.com/event/fall-break-3/
END:VEVENT
BEGIN:VEVENT
DTSTART;TZID=America/Denver:20251002T080000
DTEND;TZID=America/Denver:20251002T170000
DTSTAMP:20260419T151823
CREATED:20250711T234645Z
LAST-MODIFIED:20250711T234645Z
UID:10000753-1759392000-1759424400@senderoprep.com
SUMMARY:Term 2 Ends
DESCRIPTION:
URL:https://senderoprep.com/event/term-2-ends-2/
END:VEVENT
BEGIN:VEVENT
DTSTART;VALUE=DATE:20250901
DTEND;VALUE=DATE:20250902
DTSTAMP:20260419T151823
CREATED:20250711T234544Z
LAST-MODIFIED:20250711T234544Z
UID:10000752-1756684800-1756771199@senderoprep.com
SUMMARY:Labor Day No School
DESCRIPTION:
URL:https://senderoprep.com/event/labor-day-no-school-6/
END:VEVENT
BEGIN:VEVENT
DTSTART;TZID=America/Denver:20250821T080000
DTEND;TZID=America/Denver:20250821T170000
DTSTAMP:20260419T151823
CREATED:20250711T234511Z
LAST-MODIFIED:20250711T234511Z
UID:10000751-1755763200-1755795600@senderoprep.com
SUMMARY:Term 1 Ends
DESCRIPTION:
URL:https://senderoprep.com/event/term-1-ends-2/
END:VEVENT
BEGIN:VEVENT
DTSTART;VALUE=DATE:20250813
DTEND;VALUE=DATE:20250814
DTSTAMP:20260419T151823
CREATED:20250711T234940Z
LAST-MODIFIED:20250711T234940Z
UID:10000755-1755043200-1755129599@senderoprep.com
SUMMARY:Teacher PD
DESCRIPTION:
URL:https://senderoprep.com/event/teacher-pd-2/
END:VEVENT
BEGIN:VEVENT
DTSTART;TZID=America/Denver:20250716T080000
DTEND;TZID=America/Denver:20250716T170000
DTSTAMP:20260419T151823
CREATED:20250711T234438Z
LAST-MODIFIED:20250711T234438Z
UID:10000750-1752652800-1752685200@senderoprep.com
SUMMARY:Term 1 Begins
DESCRIPTION:
URL:https://senderoprep.com/event/term-1-begins-2/
END:VEVENT
BEGIN:VEVENT
DTSTART;VALUE=DATE:20250714
DTEND;VALUE=DATE:20250716
DTSTAMP:20260419T151823
CREATED:20250711T234323Z
LAST-MODIFIED:20250711T234323Z
UID:10000749-1752451200-1752623999@senderoprep.com
SUMMARY:Teacher PD
DESCRIPTION:
URL:https://senderoprep.com/event/teacher-pd/
END:VEVENT
BEGIN:VEVENT
DTSTART;TZID=America/Denver:20250617T173000
DTEND;TZID=America/Denver:20250617T183000
DTSTAMP:20260419T151823
CREATED:20200827T170027Z
LAST-MODIFIED:20200827T170027Z
UID:10000017-1750181400-1750185000@senderoprep.com
SUMMARY:LMCHS Governance Council September Meeting
DESCRIPTION:NOTICE IS GIVEN that a regular meeting of Las Montañas Charter High School\nGovernance Council will be held at:\nLAS MONTAÑAS CHARTER HIGH SCHOOL\n1405 S. Solano\nLas Cruces\, NM 88001\nTuesday\, September 15\, 2020\nHELD VIRTUALLY: ZOOM\nJoin Zoom Meeting\nhttps://us04web.zoom.us/j/75332616536?pwd=eXhjajQ0eVhWT3R0S\nlZxWWlvNzBHUT09\nMeeting ID: 753 3261 6536\nPasscode: 39CPuL    at 5:30 PM\nFor The Transaction Of The Following Business\nDiscussion and Action on August\, 2020 Fiscal.\nPrincipal’s Report including School reentry\, enrollment\, student engagement\,\nand other items as may be included on the agenda.\nA final agenda for the foregoing meeting may be obtained at\nwww.lasmontanashigh.com\nthree days prior to the meeting.\nIf you have any questions\, call\nLas Montañas Charter High School\nat 575-527-5916.\n“Home of the Rams”\nVirtual Meeting (ensure Zoom is setup 20 min prior to meeting) \n 
URL:https://senderoprep.com/event/lmchs-governance-council-september-meeting-2/2025-06-17/
CATEGORIES:Governance Council Meetings
ATTACH;FMTTYPE=image/png:https://senderoprep.com/wp-content/uploads/2020/06/no-photo-available.png
END:VEVENT
BEGIN:VEVENT
DTSTART;TZID=America/Denver:20250617T173000
DTEND;TZID=America/Denver:20250617T183000
DTSTAMP:20260419T151823
CREATED:20200827T170027Z
LAST-MODIFIED:20200827T170027Z
UID:10000389-1750181400-1750185000@senderoprep.com
SUMMARY:LMCHS Governance Council September Meeting
DESCRIPTION:NOTICE IS GIVEN that a regular meeting of Las Montañas Charter High School\nGovernance Council will be held at:\nLAS MONTAÑAS CHARTER HIGH SCHOOL\n1405 S. Solano\nLas Cruces\, NM 88001\nTuesday\, September 15\, 2020\nHELD VIRTUALLY: ZOOM\nJoin Zoom Meeting\nhttps://us04web.zoom.us/j/75332616536?pwd=eXhjajQ0eVhWT3R0S\nlZxWWlvNzBHUT09\nMeeting ID: 753 3261 6536\nPasscode: 39CPuL    at 5:30 PM\nFor The Transaction Of The Following Business\nDiscussion and Action on August\, 2020 Fiscal.\nPrincipal’s Report including School reentry\, enrollment\, student engagement\,\nand other items as may be included on the agenda.\nA final agenda for the foregoing meeting may be obtained at\nwww.lasmontanashigh.com\nthree days prior to the meeting.\nIf you have any questions\, call\nLas Montañas Charter High School\nat 575-527-5916.\n“Home of the Rams”\nVirtual Meeting (ensure Zoom is setup 20 min prior to meeting) \n 
URL:https://senderoprep.com/event/lmchs-governance-council-september-meeting-2-2/2025-06-17/
CATEGORIES:Governance Council Meetings
ATTACH;FMTTYPE=image/png:https://senderoprep.com/wp-content/uploads/2020/06/no-photo-available.png
END:VEVENT
BEGIN:VEVENT
DTSTART;TZID=America/Denver:20250617T173000
DTEND;TZID=America/Denver:20250617T183000
DTSTAMP:20260419T151823
CREATED:20200827T170027Z
LAST-MODIFIED:20200827T170027Z
UID:10000036-1750181400-1750185000@senderoprep.com
SUMMARY:LMCHS Governance Council September Meeting
DESCRIPTION:NOTICE IS GIVEN that a regular meeting of Las Montañas Charter High School\nGovernance Council will be held at:\nLAS MONTAÑAS CHARTER HIGH SCHOOL\n1405 S. Solano\nLas Cruces\, NM 88001\nTuesday\, September 15\, 2020\nHELD VIRTUALLY: ZOOM\nJoin Zoom Meeting\nhttps://us04web.zoom.us/j/75332616536?pwd=eXhjajQ0eVhWT3R0S\nlZxWWlvNzBHUT09\nMeeting ID: 753 3261 6536\nPasscode: 39CPuL    at 5:30 PM\nFor The Transaction Of The Following Business\nDiscussion and Action on August\, 2020 Fiscal.\nPrincipal’s Report including School reentry\, enrollment\, student engagement\,\nand other items as may be included on the agenda.\nA final agenda for the foregoing meeting may be obtained at\nwww.lasmontanashigh.com\nthree days prior to the meeting.\nIf you have any questions\, call\nLas Montañas Charter High School\nat 575-527-5916.\n“Home of the Rams”\nVirtual Meeting (ensure Zoom is setup 20 min prior to meeting) \n 
URL:https://senderoprep.com/event/lmchs-governance-council-september-meeting-2022-09-20-2022-10-18-2/2025-06-17/
CATEGORIES:Governance Council Meetings
ATTACH;FMTTYPE=image/png:https://senderoprep.com/wp-content/uploads/2020/06/no-photo-available.png
END:VEVENT
BEGIN:VEVENT
DTSTART;TZID=America/Denver:20250617T173000
DTEND;TZID=America/Denver:20250617T183000
DTSTAMP:20260419T151823
CREATED:20200827T170027Z
LAST-MODIFIED:20200827T170027Z
UID:10000408-1750181400-1750185000@senderoprep.com
SUMMARY:LMCHS Governance Council September Meeting
DESCRIPTION:NOTICE IS GIVEN that a regular meeting of Las Montañas Charter High School\nGovernance Council will be held at:\nLAS MONTAÑAS CHARTER HIGH SCHOOL\n1405 S. Solano\nLas Cruces\, NM 88001\nTuesday\, September 15\, 2020\nHELD VIRTUALLY: ZOOM\nJoin Zoom Meeting\nhttps://us04web.zoom.us/j/75332616536?pwd=eXhjajQ0eVhWT3R0S\nlZxWWlvNzBHUT09\nMeeting ID: 753 3261 6536\nPasscode: 39CPuL    at 5:30 PM\nFor The Transaction Of The Following Business\nDiscussion and Action on August\, 2020 Fiscal.\nPrincipal’s Report including School reentry\, enrollment\, student engagement\,\nand other items as may be included on the agenda.\nA final agenda for the foregoing meeting may be obtained at\nwww.lasmontanashigh.com\nthree days prior to the meeting.\nIf you have any questions\, call\nLas Montañas Charter High School\nat 575-527-5916.\n“Home of the Rams”\nVirtual Meeting (ensure Zoom is setup 20 min prior to meeting) \n 
URL:https://senderoprep.com/event/lmchs-governance-council-september-meeting-2022-09-20-2022-10-18-2-2025-06-17-2/
CATEGORIES:Governance Council Meetings
ATTACH;FMTTYPE=image/png:https://senderoprep.com/wp-content/uploads/2020/06/no-photo-available.png
END:VEVENT
BEGIN:VEVENT
DTSTART;TZID=America/Denver:20250617T173000
DTEND;TZID=America/Denver:20250617T183000
DTSTAMP:20260419T151823
CREATED:20200827T170027Z
LAST-MODIFIED:20200827T170027Z
UID:10000037-1750181400-1750185000@senderoprep.com
SUMMARY:LMCHS Governance Council September Meeting
DESCRIPTION:NOTICE OF ONLINE MEETING \n NOTICE IS GIVEN that a regular meeting of Las Montañas Charter High School Governance Council will be held at:  \nLAS MONTAÑAS CHARTER HIGH SCHOOL \n1405 S. Solano\, Las Cruces\, NM 88001 \nTopic: December GC Meeting \nTime: Dec 13\, 2022 05:30 PM Mountain Time (US and Canada) \nJoin Zoom Meeting \nhttps://us04web.zoom.us/j/78332806153?pwd=RJ3MDxm1U7xvaxwUuPbLw3AIHMdnrM.1 \nMeeting ID: 783 3280 6153 \nPasscode: WZHVG3 \nDecember  13\, 2022\, 5:30 PM \nFor The Transaction Of The Following Business \nDiscussion and Action on November\, 2022 Fiscal\, potential board member addition.  \n Principal’s Report including Enrollment\, End of Semester\, Accelerated Learning\, and other items that may be included on the agenda. \n A final agenda for the foregoing meeting may be obtained at www.lasmontanashigh.com three days prior to the meeting. \n If you have any questions\, call Las Montañas Charter High School at 575-527-5916. \n “Home of the Rams”  \n  \n\n 
URL:https://senderoprep.com/event/lmchs-governance-council-september-meeting-2022-09-20-2022-12-20/2025-06-17/
CATEGORIES:Governance Council Meetings
ATTACH;FMTTYPE=image/png:https://senderoprep.com/wp-content/uploads/2020/06/no-photo-available.png
END:VEVENT
END:VCALENDAR