BEGIN:VCALENDAR
VERSION:2.0
PRODID:-//Sendero Prep - ECPv6.15.20//NONSGML v1.0//EN
CALSCALE:GREGORIAN
METHOD:PUBLISH
X-WR-CALNAME:Sendero Prep
X-ORIGINAL-URL:https://senderoprep.com
X-WR-CALDESC:Events for Sendero Prep
REFRESH-INTERVAL;VALUE=DURATION:PT1H
X-Robots-Tag:noindex
X-PUBLISHED-TTL:PT1H
BEGIN:VTIMEZONE
TZID:America/Denver
BEGIN:DAYLIGHT
TZOFFSETFROM:-0700
TZOFFSETTO:-0600
TZNAME:MDT
DTSTART:20210314T090000
END:DAYLIGHT
BEGIN:STANDARD
TZOFFSETFROM:-0600
TZOFFSETTO:-0700
TZNAME:MST
DTSTART:20211107T080000
END:STANDARD
BEGIN:DAYLIGHT
TZOFFSETFROM:-0700
TZOFFSETTO:-0600
TZNAME:MDT
DTSTART:20220313T090000
END:DAYLIGHT
BEGIN:STANDARD
TZOFFSETFROM:-0600
TZOFFSETTO:-0700
TZNAME:MST
DTSTART:20221106T080000
END:STANDARD
BEGIN:DAYLIGHT
TZOFFSETFROM:-0700
TZOFFSETTO:-0600
TZNAME:MDT
DTSTART:20230312T090000
END:DAYLIGHT
BEGIN:STANDARD
TZOFFSETFROM:-0600
TZOFFSETTO:-0700
TZNAME:MST
DTSTART:20231105T080000
END:STANDARD
BEGIN:DAYLIGHT
TZOFFSETFROM:-0700
TZOFFSETTO:-0600
TZNAME:MDT
DTSTART:20240310T090000
END:DAYLIGHT
BEGIN:STANDARD
TZOFFSETFROM:-0600
TZOFFSETTO:-0700
TZNAME:MST
DTSTART:20241103T080000
END:STANDARD
END:VTIMEZONE
BEGIN:VEVENT
DTSTART;TZID=America/Denver:20230213T080000
DTEND;TZID=America/Denver:20230511T170000
DTSTAMP:20260420T113021
CREATED:20230213T230830Z
LAST-MODIFIED:20230213T230830Z
UID:10000273-1676275200-1683824400@senderoprep.com
SUMMARY:SENIORS LAST DAY!!!
DESCRIPTION:SENIORS LAST DAY! SENIORS MUST COMPLETE ALL REQUIRED ASSIGNMENTS
URL:https://senderoprep.com/event/seniors-last-day/
END:VEVENT
BEGIN:VEVENT
DTSTART;TZID=America/Denver:20230210T080000
DTEND;TZID=America/Denver:20230210T170000
DTSTAMP:20260420T113021
CREATED:20230213T215734Z
LAST-MODIFIED:20230213T215734Z
UID:10000259-1676016000-1676048400@senderoprep.com
SUMMARY:Staff PD
DESCRIPTION:Teaching staff Professional Development
URL:https://senderoprep.com/event/staff-pd/
END:VEVENT
BEGIN:VEVENT
DTSTART;TZID=America/Denver:20230206T080000
DTEND;TZID=America/Denver:20230206T170000
DTSTAMP:20260420T113021
CREATED:20230213T215658Z
LAST-MODIFIED:20230213T215658Z
UID:10000258-1675670400-1675702800@senderoprep.com
SUMMARY:Start of Term 6
DESCRIPTION:
URL:https://senderoprep.com/event/start-of-term-6/
END:VEVENT
BEGIN:VEVENT
DTSTART;TZID=America/Denver:20230120T083000
DTEND;TZID=America/Denver:20230120T160000
DTSTAMP:20260420T113021
CREATED:20230112T232405Z
LAST-MODIFIED:20230112T232405Z
UID:10000254-1674203400-1674230400@senderoprep.com
SUMMARY:Extended Learning
DESCRIPTION:Classes are in Session.
URL:https://senderoprep.com/event/extended-learning-18/
END:VEVENT
BEGIN:VEVENT
DTSTART;TZID=America/Denver:20230117T173000
DTEND;TZID=America/Denver:20230117T183000
DTSTAMP:20260420T113021
CREATED:20230112T162310Z
LAST-MODIFIED:20230112T162310Z
UID:10000253-1673976600-1673980200@senderoprep.com
SUMMARY:LMCHS GOVERNANCE COUNCIL ONLINE MEETING
DESCRIPTION:
URL:https://senderoprep.com/event/lmchs-governance-council-online-meeting-2/
END:VEVENT
BEGIN:VEVENT
DTSTART;TZID=America/Denver:20230116T080000
DTEND;TZID=America/Denver:20230116T170000
DTSTAMP:20260420T113021
CREATED:20230112T161604Z
LAST-MODIFIED:20230112T161604Z
UID:10000252-1673856000-1673888400@senderoprep.com
SUMMARY:Dr. King Holiday- No School
DESCRIPTION:NO SCHOOL
URL:https://senderoprep.com/event/dr-king-holiday/
END:VEVENT
BEGIN:VEVENT
DTSTART;TZID=America/Denver:20230103T080000
DTEND;TZID=America/Denver:20230103T170000
DTSTAMP:20260420T113021
CREATED:20230112T161444Z
LAST-MODIFIED:20230112T161444Z
UID:10000251-1672732800-1672765200@senderoprep.com
SUMMARY:Term 5 Begins
DESCRIPTION:
URL:https://senderoprep.com/event/term-5-begins-3/
END:VEVENT
BEGIN:VEVENT
DTSTART;TZID=America/Denver:20221215T080000
DTEND;TZID=America/Denver:20221215T170000
DTSTAMP:20260420T113021
CREATED:20221206T175345Z
LAST-MODIFIED:20221206T175345Z
UID:10000250-1671091200-1671123600@senderoprep.com
SUMMARY:Finals Day! Last day of T5
DESCRIPTION:
URL:https://senderoprep.com/event/finals-day-last-day-of-t5/
CATEGORIES:Faculty Events,Governance Council Meetings,Parent Events,Staff Events,Student Body Events
END:VEVENT
BEGIN:VEVENT
DTSTART;TZID=America/Denver:20221213T173000
DTEND;TZID=America/Denver:20221213T183000
DTSTAMP:20260420T113021
CREATED:20200827T170027Z
LAST-MODIFIED:20200827T170027Z
UID:10000003-1670952600-1670956200@senderoprep.com
SUMMARY:LMCHS Governance Council September Meeting
DESCRIPTION:NOTICE OF ONLINE MEETING \n NOTICE IS GIVEN that a regular meeting of Las Montañas Charter High School Governance Council will be held at:  \nLAS MONTAÑAS CHARTER HIGH SCHOOL \n1405 S. Solano\, Las Cruces\, NM 88001 \nTopic: December GC Meeting \nTime: Dec 13\, 2022 05:30 PM Mountain Time (US and Canada) \nJoin Zoom Meeting \nhttps://us04web.zoom.us/j/78332806153?pwd=RJ3MDxm1U7xvaxwUuPbLw3AIHMdnrM.1 \nMeeting ID: 783 3280 6153 \nPasscode: WZHVG3 \nDecember  13\, 2022\, 5:30 PM \nFor The Transaction Of The Following Business \nDiscussion and Action on November\, 2022 Fiscal\, potential board member addition.  \n Principal’s Report including Enrollment\, End of Semester\, Accelerated Learning\, and other items that may be included on the agenda. \n A final agenda for the foregoing meeting may be obtained at www.lasmontanashigh.com three days prior to the meeting. \n If you have any questions\, call Las Montañas Charter High School at 575-527-5916. \n “Home of the Rams”  \n  \n\n 
URL:https://senderoprep.com/event/lmchs-governance-council-september-meeting-2022-09-20-2022-12-20/2022-12-13/
CATEGORIES:Governance Council Meetings
END:VEVENT
BEGIN:VEVENT
DTSTART;TZID=America/Denver:20221018T173000
DTEND;TZID=America/Denver:20221018T183000
DTSTAMP:20260420T113021
CREATED:20200827T170027Z
LAST-MODIFIED:20200827T170027Z
UID:10000009-1666114200-1666117800@senderoprep.com
SUMMARY:LMCHS Governance Council September Meeting
DESCRIPTION:NOTICE IS GIVEN that a regular meeting of Las Montañas Charter High School\nGovernance Council will be held at:\nLAS MONTAÑAS CHARTER HIGH SCHOOL\n1405 S. Solano\nLas Cruces\, NM 88001\nTuesday\, September 15\, 2020\nHELD VIRTUALLY: ZOOM\nJoin Zoom Meeting\nhttps://us04web.zoom.us/j/75332616536?pwd=eXhjajQ0eVhWT3R0S\nlZxWWlvNzBHUT09\nMeeting ID: 753 3261 6536\nPasscode: 39CPuL    at 5:30 PM\nFor The Transaction Of The Following Business\nDiscussion and Action on August\, 2020 Fiscal.\nPrincipal’s Report including School reentry\, enrollment\, student engagement\,\nand other items as may be included on the agenda.\nA final agenda for the foregoing meeting may be obtained at\nwww.lasmontanashigh.com\nthree days prior to the meeting.\nIf you have any questions\, call\nLas Montañas Charter High School\nat 575-527-5916.\n“Home of the Rams”\nVirtual Meeting (ensure Zoom is setup 20 min prior to meeting) \n 
URL:https://senderoprep.com/event/lmchs-governance-council-september-meeting-2022-09-20-2022-10-18-2/2022-10-18/
CATEGORIES:Governance Council Meetings
END:VEVENT
BEGIN:VEVENT
DTSTART;TZID=America/Denver:20220922T080000
DTEND;TZID=America/Denver:20220922T170000
DTSTAMP:20260420T113021
CREATED:20220915T211823Z
LAST-MODIFIED:20220915T211823Z
UID:10000249-1663833600-1663866000@senderoprep.com
SUMMARY:SPIRIT WEEK DAY 4!
DESCRIPTION:ANYTHING BUT A BACKPACK! \n\n\n\nBring something else than a backpack to carry your books/laptop!
URL:https://senderoprep.com/event/spirit-week-day-4/
END:VEVENT
BEGIN:VEVENT
DTSTART;TZID=America/Denver:20220920T173000
DTEND;TZID=America/Denver:20220920T183000
DTSTAMP:20260420T113021
CREATED:20200827T170027Z
LAST-MODIFIED:20200827T170027Z
UID:10000007-1663695000-1663698600@senderoprep.com
SUMMARY:LMCHS Governance Council September Meeting
DESCRIPTION:NOTICE OF ONLINE MEETING \n NOTICE IS GIVEN that a regular meeting of Las Montañas Charter High School Governance Council will be held at:  \nLAS MONTAÑAS CHARTER HIGH SCHOOL \n1405 S. Solano \nLas Cruces\, NM 88001 \nTopic: September\, 2022 GC Meeting \nTime: Sept. 20\, 2022 05:30 PM Mountain Time (US and Canada) \n  \nJoin Zoom Meeting \nhttps://us04web.zoom.us/j/78181317496?pwd=1z8EXelS3vZjUvUaoHxw7rXT0AcoYm.1 \n  \nMeeting ID: 781 8131 7496 \nPasscode: 5TcSU1 \nSeptember 20\, 2022\, 5:30 PM \n  \nFor The Transaction Of The Following Business \nDiscussion and Action on August\, 2022 Fiscal.  \n Principal’s Report including Enrollment\, Term 2\, CTE Pathways\, Extended Learning\, Fall Break\, Accelerated Learning\, Restorative Justice\, Lease with LCPS\, and other items that may be included on the agenda. \n  \nA final agenda for the foregoing meeting may be obtained at \nwww.lasmontanashigh.com \nthree days prior to the meeting. \n  \nIf you have any questions\, call \nLas Montañas Charter High School \nat 575-527-5916. \n  \n“Home of the Rams”  \n 
URL:https://senderoprep.com/event/lmchs-governance-council-september-meeting-2022-09-20-2/
CATEGORIES:Governance Council Meetings
END:VEVENT
BEGIN:VEVENT
DTSTART;TZID=America/Denver:20220920T173000
DTEND;TZID=America/Denver:20220920T183000
DTSTAMP:20260420T113021
CREATED:20200827T170027Z
LAST-MODIFIED:20200827T170027Z
UID:10000379-1663695000-1663698600@senderoprep.com
SUMMARY:LMCHS Governance Council September Meeting
DESCRIPTION:NOTICE OF ONLINE MEETING \n NOTICE IS GIVEN that a regular meeting of Las Montañas Charter High School Governance Council will be held at:  \nLAS MONTAÑAS CHARTER HIGH SCHOOL \n1405 S. Solano \nLas Cruces\, NM 88001 \nTopic: September\, 2022 GC Meeting \nTime: Sept. 20\, 2022 05:30 PM Mountain Time (US and Canada) \n  \nJoin Zoom Meeting \nhttps://us04web.zoom.us/j/78181317496?pwd=1z8EXelS3vZjUvUaoHxw7rXT0AcoYm.1 \n  \nMeeting ID: 781 8131 7496 \nPasscode: 5TcSU1 \nSeptember 20\, 2022\, 5:30 PM \n  \nFor The Transaction Of The Following Business \nDiscussion and Action on August\, 2022 Fiscal.  \n Principal’s Report including Enrollment\, Term 2\, CTE Pathways\, Extended Learning\, Fall Break\, Accelerated Learning\, Restorative Justice\, Lease with LCPS\, and other items that may be included on the agenda. \n  \nA final agenda for the foregoing meeting may be obtained at \nwww.lasmontanashigh.com \nthree days prior to the meeting. \n  \nIf you have any questions\, call \nLas Montañas Charter High School \nat 575-527-5916. \n  \n“Home of the Rams”  \n 
URL:https://senderoprep.com/event/lmchs-governance-council-september-meeting-2022-09-20-2-2/
CATEGORIES:Governance Council Meetings
END:VEVENT
BEGIN:VEVENT
DTSTART;TZID=America/Denver:20220920T080000
DTEND;TZID=America/Denver:20220920T170000
DTSTAMP:20260420T113021
CREATED:20220915T211317Z
LAST-MODIFIED:20220915T211317Z
UID:10000248-1663660800-1663693200@senderoprep.com
SUMMARY:SPIRIT WEEK DAY 2
DESCRIPTION:Wear a HAT Day!
URL:https://senderoprep.com/event/spirit-week-day-2/
END:VEVENT
BEGIN:VEVENT
DTSTART;TZID=America/Denver:20220919T043000
DTEND;TZID=America/Denver:20220919T170000
DTSTAMP:20260420T113021
CREATED:20220915T211133Z
LAST-MODIFIED:20220915T211133Z
UID:10000247-1663561800-1663606800@senderoprep.com
SUMMARY:SPIRIT WEEK DAY 1
DESCRIPTION:PAJAMA DAY \n\n\n\nDress in your best PJ’s!
URL:https://senderoprep.com/event/spirit-week/
END:VEVENT
BEGIN:VEVENT
DTSTART;TZID=America/Denver:20220816T173000
DTEND;TZID=America/Denver:20220816T183000
DTSTAMP:20260420T113021
CREATED:20220810T171448Z
LAST-MODIFIED:20220810T171448Z
UID:10000246-1660671000-1660674600@senderoprep.com
SUMMARY:NOTICE OF ONLINE MEETING: LMCHS Governance\, August 16\, 2022
DESCRIPTION:NOTICE OF ONLINE MEETING \n\n\n\n NOTICE IS GIVEN that a regular meeting of Las Montañas Charter High School Governance Council will be held at:  \n\n\n\nLAS MONTAÑAS CHARTER HIGH SCHOOL \n\n\n\n1405 S. Solano \n\n\n\nLas Cruces\, NM 88001 \n\n\n\nTopic: August\, 2022 GC Meeting \n\n\n\nTime: Aug 16\, 2022 05:30 PM Mountain Time (US and Canada) \n\n\n\nJoin Zoom Meeting \n\n\n\nhttps://us04web.zoom.us/j/78818545078?pwd=yG0Aj2FAxr3vdithrSR-GPINMpJfp5.1 \n\n\n\nMeeting ID: 788 1854 5078 \n\n\n\nPasscode: NQs2jp \n\n\n\nAugust 16\, 2022\, 5:30 PM \n\n\n\nFor The Transaction Of The Following Business \n\n\n\nDiscussion and Action on July\, 2022 Fiscal.  \n\n\n\n Principal’s Report including enrollment\, Term 1\, Extended Learning\, \n\n\n\nand other items that may be included on the agenda. \n\n\n\nA final agenda for the foregoing meeting may be obtained at \n\n\n\nwww.lasmontanashigh.com \n\n\n\nthree days prior to the meeting. \n\n\n\nIf you have any questions\, call \n\n\n\nLas Montañas Charter High School \n\n\n\nat 575-527-5916. \n\n\n\n“Home of the Rams” 
URL:https://senderoprep.com/event/notice-of-online-meeting-lmchs-governance-august-16-2022/
END:VEVENT
BEGIN:VEVENT
DTSTART;TZID=America/Denver:20220719T173000
DTEND;TZID=America/Denver:20220719T183000
DTSTAMP:20260420T113021
CREATED:20220712T193815Z
LAST-MODIFIED:20220712T193815Z
UID:10000245-1658251800-1658255400@senderoprep.com
SUMMARY:Governance Council Meeting
DESCRIPTION:
URL:https://senderoprep.com/event/governance-council-meeting-11/
END:VEVENT
BEGIN:VEVENT
DTSTART;TZID=America/Denver:20220718T081500
DTEND;TZID=America/Denver:20220718T164300
DTSTAMP:20260420T113021
CREATED:20220711T225126Z
LAST-MODIFIED:20220711T225126Z
UID:10000244-1658132100-1658162580@senderoprep.com
SUMMARY:First Day of Term 1
DESCRIPTION:
URL:https://senderoprep.com/event/first-day-of-term-1/
END:VEVENT
BEGIN:VEVENT
DTSTART;TZID=America/Denver:20220621T053000
DTEND;TZID=America/Denver:20220621T183000
DTSTAMP:20260420T113021
CREATED:20220614T205753Z
LAST-MODIFIED:20220614T205753Z
UID:10000243-1655789400-1655836200@senderoprep.com
SUMMARY:NOTICE OF ONLINE LMCHS GOVERNANCE COUNCIL MEETING
DESCRIPTION:
URL:https://senderoprep.com/event/notice-of-online-meeting/
END:VEVENT
BEGIN:VEVENT
DTSTART;TZID=America/Denver:20220526T081500
DTEND;TZID=America/Denver:20220526T164300
DTSTAMP:20260420T113021
CREATED:20220106T233454Z
LAST-MODIFIED:20220106T233454Z
UID:10000239-1653552900-1653583380@senderoprep.com
SUMMARY:End of Spring Semester
DESCRIPTION:Last Day of School
URL:https://senderoprep.com/event/last-day-of-school/
END:VEVENT
BEGIN:VEVENT
DTSTART;TZID=America/Denver:20220519T180000
DTEND;TZID=America/Denver:20220519T193000
DTSTAMP:20260420T113021
CREATED:20220106T233306Z
LAST-MODIFIED:20220106T233306Z
UID:10000235-1652983200-1652988600@senderoprep.com
SUMMARY:LMCHS Graduation
DESCRIPTION:
URL:https://senderoprep.com/event/lmchs-graduation/
END:VEVENT
BEGIN:VEVENT
DTSTART;TZID=America/Denver:20220517T053000
DTEND;TZID=America/Denver:20220517T183000
DTSTAMP:20260420T113021
CREATED:20220510T202150Z
LAST-MODIFIED:20220510T202150Z
UID:10000242-1652765400-1652812200@senderoprep.com
SUMMARY:Notice is Given: LMCHS Governance Council May\, 2022 Meeting
DESCRIPTION:NOTICE OF ONLINE MEETING \n\n\n\n NOTICE IS GIVEN that a regular meeting of Las Montañas Charter High School Governance Council will be held at:  \n\n\n\nLAS MONTAÑAS CHARTER HIGH SCHOOL \n\n\n\n1405 S. Solano \n\n\n\nLas Cruces\, NM 88001 \n\n\n\nHELD VIRTUALLY: ZOOM \n\n\n\nTopic: May\, 2022 GC Meeting \n\n\n\nTime: May 17\, 2022 05:30 PM Mountain Time (US and Canada) \n\n\n\nJoin Zoom Meeting \n\n\n\nhttps://us04web.zoom.us/j/78021902711?pwd=gnf2Dcb7jPW-pM69FvNBLGAp3IAdw9.1 \n\n\n\nMeeting ID: 780 2190 2711 \n\n\n\nPasscode: JM09eQ \n\n\n\nMay 17\, 2022\, 5:30 PM \n\n\n\nFor The Transaction Of The Following Business \n\n\n\nDiscussion and Action on April\, 2022 Fiscal.  \n\n\n\n Principal’s Report including Updated COVID-19 Safe Practices\, Surveillance Testing\, State Required Testing\, Term 8\, CTE update\,Graduation. \n\n\n\nand other items that may be included on the agenda. \n\n\n\nA final agenda for the foregoing meeting may be obtained at \n\n\n\nwww.lasmontanashigh.com \n\n\n\nthree days prior to the meeting. \n\n\n\nIf you have any questions\, call \n\n\n\nLas Montañas Charter High School \n\n\n\nat 575-527-5916. \n\n\n\n“Home of the Rams” 
URL:https://senderoprep.com/event/3890/
END:VEVENT
BEGIN:VEVENT
DTSTART;TZID=America/Denver:20220513T080000
DTEND;TZID=America/Denver:20220513T170000
DTSTAMP:20260420T113021
CREATED:20220106T233204Z
LAST-MODIFIED:20220106T233204Z
UID:10000234-1652428800-1652461200@senderoprep.com
SUMMARY:Teacher Professional Development
DESCRIPTION:
URL:https://senderoprep.com/event/teacher-professional-development-6/
END:VEVENT
BEGIN:VEVENT
DTSTART;TZID=America/Denver:20220506T090000
DTEND;TZID=America/Denver:20220506T140000
DTSTAMP:20260420T113021
CREATED:20220106T233357Z
LAST-MODIFIED:20220106T233357Z
UID:10000238-1651827600-1651845600@senderoprep.com
SUMMARY:Extended Learning
DESCRIPTION:
URL:https://senderoprep.com/event/extended-learning-17/
END:VEVENT
BEGIN:VEVENT
DTSTART;TZID=America/Denver:20220422T080000
DTEND;TZID=America/Denver:20220422T170000
DTSTAMP:20260420T113021
CREATED:20220106T231257Z
LAST-MODIFIED:20220106T231257Z
UID:10000233-1650614400-1650646800@senderoprep.com
SUMMARY:Teacher Professional Development
DESCRIPTION:
URL:https://senderoprep.com/event/teacher-professional-development-5/
END:VEVENT
BEGIN:VEVENT
DTSTART;TZID=America/Denver:20220419T053000
DTEND;TZID=America/Denver:20220419T183000
DTSTAMP:20260420T113021
CREATED:20220407T152321Z
LAST-MODIFIED:20220407T152321Z
UID:10000241-1650346200-1650393000@senderoprep.com
SUMMARY:NOTICE OF ONLINE MEETING: LMCHS Governance Council
DESCRIPTION: NOTICE IS GIVEN that a regular meeting of Las Montañas Charter High School Governance Council will be held at:  \n\n\n\nLAS MONTAÑAS CHARTER HIGH SCHOOL \n\n\n\n1405 S. Solano \n\n\n\nLas Cruces\, NM 88001 \n\n\n\nHELD VIRTUALLY: ZOOM \n\n\n\nTopic: April\, 2022 GC Meeting \n\n\n\nTime: Apr 19\, 2022 05:30 PM Mountain Time (US and Canada) \n\n\n\nJoin Zoom Meeting \n\n\n\nhttps://us04web.zoom.us/j/77603053894?pwd=XbVxUyClU4q8sdSSmShWlIWYtFKBHv.1 \n\n\n\nMeeting ID: 776 0305 3894Passcode: 27EiN4 \n\n\n\nApril 19\, 2022\, 5:30 PM \n\n\n\nFor The Transaction Of The Following Business \n\n\n\nDiscussion and Action on March\, 2022 Fiscal.  \n\n\n\nAction Items include the 2022-2023 School Budget and the 2022-2023 School Calendar \n\n\n\n Principal’s Report including Updated COVID-19 Safe Practices\, Surveillance Testing\, State Required Testing\, Term 8\, CTE update. \n\n\n\nand other items that may be included on the agenda. \n\n\n\nA final agenda for the foregoing meeting may be obtained at \n\n\n\nwww.lasmontanashigh.com \n\n\n\nthree days prior to the meeting. \n\n\n\nIf you have any questions\, call \n\n\n\nLas Montañas Charter High School \n\n\n\nat 575-527-5916.
URL:https://senderoprep.com/event/notice-of-online-meeting-lmchs-governance-council/
CATEGORIES:Faculty Events,Governance Council Meetings,Parent Events,Staff Events
END:VEVENT
BEGIN:VEVENT
DTSTART;TZID=America/Denver:20220418T080000
DTEND;TZID=America/Denver:20220418T170000
DTSTAMP:20260420T113021
CREATED:20220106T231223Z
LAST-MODIFIED:20220106T231223Z
UID:10000232-1650268800-1650301200@senderoprep.com
SUMMARY:Spring Holiday - No School
DESCRIPTION:
URL:https://senderoprep.com/event/spring-holiday-no-school-3/
END:VEVENT
BEGIN:VEVENT
DTSTART;TZID=America/Denver:20220408T080000
DTEND;TZID=America/Denver:20220408T170000
DTSTAMP:20260420T113021
CREATED:20220106T231138Z
LAST-MODIFIED:20220106T231138Z
UID:10000231-1649404800-1649437200@senderoprep.com
SUMMARY:Next Step/Extended Learning
DESCRIPTION:
URL:https://senderoprep.com/event/next-step-extended-learning/
END:VEVENT
BEGIN:VEVENT
DTSTART;TZID=America/Denver:20220321T080000
DTEND;TZID=America/Denver:20220325T170000
DTSTAMP:20260420T113021
CREATED:20220106T230819Z
LAST-MODIFIED:20220106T230819Z
UID:10000230-1647849600-1648227600@senderoprep.com
SUMMARY:Spring Break
DESCRIPTION:
URL:https://senderoprep.com/event/spring-break-3/
END:VEVENT
BEGIN:VEVENT
DTSTART;TZID=America/Denver:20220315T173000
DTEND;TZID=America/Denver:20220315T183000
DTSTAMP:20260420T113021
CREATED:20220310T235014Z
LAST-MODIFIED:20220310T235014Z
UID:10000240-1647365400-1647369000@senderoprep.com
SUMMARY:LMCHS Governance Council Online Meeting
DESCRIPTION:NOTICE OF ONLINE MEETING \n\n\n\n NOTICE IS GIVEN that a regular meeting of Las Montañas Charter High School Governance Council will be held at:  \n\n\n\nLAS MONTAÑAS CHARTER HIGH SCHOOL \n\n\n\n1405 S. Solano \n\n\n\nLas Cruces\, NM 88001 \n\n\n\nTuesday\, March 15\, 2022 \n\n\n\nHELD VIRTUALLY: ZOOM \n\n\n\nTopic: March\, 2022 GC Meeting \n\n\n\nTime: March 15\, 2022 05:30 PM Mountain Time (US and Canada) \n\n\n\nJoin Zoom Meeting \n\n\n\nhttps://us04web.zoom.us/j/74622696503?pwd=QTPenlw6GO6G1h2R_XDyN60-8QVjGc.1 \n\n\n\nMeeting ID: 746 2269 6503 \n\n\n\nPasscode: xpis20 \n\n\n\nMarch 15\, 2022\, 5:30 PM \n\n\n\nFor The Transaction Of The Following Business \n\n\n\nDiscussion and Action on February\, 2022 Fiscal.  \n\n\n\n Principal’s Report including Updated COVID-19 Safe Practices\, Surveillance Testing\, Term 7\, CTE update\, Legislation pertaining to public education \n\n\n\nand other items that may be included on the agenda. \n\n\n\nA final agenda for the foregoing meeting may be obtained at \n\n\n\nwww.lasmontanashigh.com \n\n\n\nthree days prior to the meeting. \n\n\n\nIf you have any questions\, call \n\n\n\nLas Montañas Charter High School \n\n\n\nat 575-527-5916.
URL:https://senderoprep.com/event/lmchs-governance-council-online-meeting/
END:VEVENT
END:VCALENDAR