BEGIN:VCALENDAR
VERSION:2.0
PRODID:-//Sendero Prep - ECPv6.15.20//NONSGML v1.0//EN
CALSCALE:GREGORIAN
METHOD:PUBLISH
X-WR-CALNAME:Sendero Prep
X-ORIGINAL-URL:https://senderoprep.com
X-WR-CALDESC:Events for Sendero Prep
REFRESH-INTERVAL;VALUE=DURATION:PT1H
X-Robots-Tag:noindex
X-PUBLISHED-TTL:PT1H
BEGIN:VTIMEZONE
TZID:America/Denver
BEGIN:DAYLIGHT
TZOFFSETFROM:-0700
TZOFFSETTO:-0600
TZNAME:MDT
DTSTART:20200308T090000
END:DAYLIGHT
BEGIN:STANDARD
TZOFFSETFROM:-0600
TZOFFSETTO:-0700
TZNAME:MST
DTSTART:20201101T080000
END:STANDARD
BEGIN:DAYLIGHT
TZOFFSETFROM:-0700
TZOFFSETTO:-0600
TZNAME:MDT
DTSTART:20210314T090000
END:DAYLIGHT
BEGIN:STANDARD
TZOFFSETFROM:-0600
TZOFFSETTO:-0700
TZNAME:MST
DTSTART:20211107T080000
END:STANDARD
BEGIN:DAYLIGHT
TZOFFSETFROM:-0700
TZOFFSETTO:-0600
TZNAME:MDT
DTSTART:20220313T090000
END:DAYLIGHT
BEGIN:STANDARD
TZOFFSETFROM:-0600
TZOFFSETTO:-0700
TZNAME:MST
DTSTART:20221106T080000
END:STANDARD
BEGIN:DAYLIGHT
TZOFFSETFROM:-0700
TZOFFSETTO:-0600
TZNAME:MDT
DTSTART:20230312T090000
END:DAYLIGHT
BEGIN:STANDARD
TZOFFSETFROM:-0600
TZOFFSETTO:-0700
TZNAME:MST
DTSTART:20231105T080000
END:STANDARD
END:VTIMEZONE
BEGIN:VEVENT
DTSTART;TZID=America/Denver:20220215T173000
DTEND;TZID=America/Denver:20220215T183000
DTSTAMP:20260420T154232
CREATED:20211014T204329Z
LAST-MODIFIED:20211014T204329Z
UID:10000220-1644946200-1644949800@senderoprep.com
SUMMARY:LMCHS Governance Council Meeting
DESCRIPTION:NOTICE OF ONLINE MEETING \n\n\n\n NOTICE IS GIVEN that a regular meeting of Las Montañas Charter High School Governance Council will be held at:  \n\n\n\nLAS MONTAÑAS CHARTER HIGH SCHOOL \n\n\n\n1405 S. Solano \n\n\n\nLas Cruces\, NM 88001 \n\n\n\nTuesday\, February 15\, 2022 \n\n\n\nHELD VIRTUALLY: ZOOM \n\n\n\nTopic: February\, 2022 GC Meeting \n\n\n\nTime: Feb 15\, 2022 05:30 PM Mountain Time (US and Canada) \n\n\n\nJoin Zoom Meeting \n\n\n\nhttps://us04web.zoom.us/j/75028881902?pwd=MeTD4LSVJUrveTYJx4XI2wSAbPS609.1 \n\n\n\nMeeting ID: 750 2888 1902 \n\n\n\nPasscode: g3QF4d \n\n\n\nFebruary 15\, 2022\, 5:30 PM \n\n\n\nFor The Transaction Of The Following Business \n\n\n\nDiscussion and Action on January\, 2022 Fiscal.  \n\n\n\n Principal’s Report including Updated COVID-19 Safe Practices\, Surveillance Testing\, Term 6\, CTE update\, Charter School Fair \n\n\n\nand other items that may be included on the agenda. \n\n\n\nA final agenda for the foregoing meeting may be obtained at \n\n\n\nwww.lasmontanashigh.com \n\n\n\nthree days prior to the meeting. \n\n\n\nIf you have any questions\, call \n\n\n\nLas Montañas Charter High School \n\n\n\nat 575-527-5916. \n\n\n\n“Home of the Rams” 
URL:https://senderoprep.com/event/lmchs-governance-council-meeting-2-2022-02-15/
END:VEVENT
BEGIN:VEVENT
DTSTART;TZID=America/Denver:20220215T173000
DTEND;TZID=America/Denver:20220215T183000
DTSTAMP:20260420T154232
CREATED:20211014T204329Z
LAST-MODIFIED:20211014T204329Z
UID:10000237-1644946200-1644949800@senderoprep.com
SUMMARY:LMCHS Governance Council Meeting
DESCRIPTION:NOTICE OF ONLINE MEETING \n\n\n\n NOTICE IS GIVEN that a regular meeting of Las Montañas Charter High School Governance Council will be held at:  \n\n\n\nLAS MONTAÑAS CHARTER HIGH SCHOOL \n\n\n\n1405 S. Solano \n\n\n\nLas Cruces\, NM 88001
URL:https://senderoprep.com/event/lmchs-governance-council-meeting-2/2022-02-15/
ATTACH;FMTTYPE=image/png:https://senderoprep.com/wp-content/uploads/2020/06/no-photo-available.png
END:VEVENT
BEGIN:VEVENT
DTSTART;TZID=America/Denver:20220128T090000
DTEND;TZID=America/Denver:20220128T140000
DTSTAMP:20260420T154232
CREATED:20220106T230242Z
LAST-MODIFIED:20220106T230242Z
UID:10000225-1643360400-1643378400@senderoprep.com
SUMMARY:Extended Learning
DESCRIPTION:
URL:https://senderoprep.com/event/extended-learning-15/
END:VEVENT
BEGIN:VEVENT
DTSTART;TZID=America/Denver:20220118T173000
DTEND;TZID=America/Denver:20220118T183000
DTSTAMP:20260420T154232
CREATED:20211014T204329Z
LAST-MODIFIED:20211014T204329Z
UID:10000608-1642527000-1642530600@senderoprep.com
SUMMARY:LMCHS Governance Council Meeting
DESCRIPTION:NOTICE OF ONLINE MEETING \n\n\n\n NOTICE IS GIVEN that a regular meeting of Las Montañas Charter High School Governance Council will be held at:  \n\n\n\nLAS MONTAÑAS CHARTER HIGH SCHOOL \n\n\n\n1405 S. Solano \n\n\n\nLas Cruces\, NM 88001
URL:https://senderoprep.com/event/lmchs-governance-council-meeting-2-2022-01-18-2-2/
ATTACH;FMTTYPE=image/png:https://senderoprep.com/wp-content/uploads/2020/06/no-photo-available.png
END:VEVENT
BEGIN:VEVENT
DTSTART;TZID=America/Denver:20220118T173000
DTEND;TZID=America/Denver:20220118T183000
DTSTAMP:20260420T154232
CREATED:20211014T204329Z
LAST-MODIFIED:20211014T204329Z
UID:10000219-1642527000-1642530600@senderoprep.com
SUMMARY:LMCHS Governance Council Meeting
DESCRIPTION:NOTICE IS GIVEN that a regular meeting of Las Montañas Charter High School Governance Council will be held via ZOOM.  \n\n\n\nHELD VIRTUALLY: ZOOM \n\n\n\nTopic: January 18\, 2022 GC Meeting \n\n\n\nTime: Jan. 18\, 2022 05:30 PM Mountain Time (US and Canada) \n\n\n\nJoin Zoom Meeting \n\n\n\nhttps://us04web.zoom.us/j/72270372727?pwd=2OUjEk3TtCfuACk_xfFQMZ6rSwJ2ke.1 \n\n\n\nMeeting ID: 722 7037 2727 \n\n\n\nPasscode: 68w9ke
URL:https://senderoprep.com/event/lmchs-governance-council-meeting-2-2022-01-18/
END:VEVENT
BEGIN:VEVENT
DTSTART;TZID=America/Denver:20220118T173000
DTEND;TZID=America/Denver:20220118T183000
DTSTAMP:20260420T154232
CREATED:20211014T204329Z
LAST-MODIFIED:20211014T204329Z
UID:10000236-1642527000-1642530600@senderoprep.com
SUMMARY:LMCHS Governance Council Meeting
DESCRIPTION:NOTICE OF ONLINE MEETING \n\n\n\n NOTICE IS GIVEN that a regular meeting of Las Montañas Charter High School Governance Council will be held at:  \n\n\n\nLAS MONTAÑAS CHARTER HIGH SCHOOL \n\n\n\n1405 S. Solano \n\n\n\nLas Cruces\, NM 88001
URL:https://senderoprep.com/event/lmchs-governance-council-meeting-2/2022-01-18/
ATTACH;FMTTYPE=image/png:https://senderoprep.com/wp-content/uploads/2020/06/no-photo-available.png
END:VEVENT
BEGIN:VEVENT
DTSTART;TZID=America/Denver:20220117T080000
DTEND;TZID=America/Denver:20220117T170000
DTSTAMP:20260420T154232
CREATED:20220106T230156Z
LAST-MODIFIED:20220106T230156Z
UID:10000224-1642406400-1642438800@senderoprep.com
SUMMARY:Dr. King Holiday - No School
DESCRIPTION:
URL:https://senderoprep.com/event/dr-king-holiday-no-school-4/
END:VEVENT
BEGIN:VEVENT
DTSTART;TZID=America/Denver:20220107T080000
DTEND;TZID=America/Denver:20220107T170000
DTSTAMP:20260420T154232
CREATED:20220106T230121Z
LAST-MODIFIED:20220106T230121Z
UID:10000223-1641542400-1641574800@senderoprep.com
SUMMARY:Teacher Professional Development
DESCRIPTION:
URL:https://senderoprep.com/event/teacher-professional-development-2/
END:VEVENT
BEGIN:VEVENT
DTSTART;TZID=America/Denver:20220104T081500
DTEND;TZID=America/Denver:20220104T164500
DTSTAMP:20260420T154232
CREATED:20220106T225924Z
LAST-MODIFIED:20220106T225924Z
UID:10000222-1641284100-1641314700@senderoprep.com
SUMMARY:Student Return to School
DESCRIPTION:First Day of Term 5
URL:https://senderoprep.com/event/student-return-to-school/
END:VEVENT
BEGIN:VEVENT
DTSTART;TZID=America/Denver:20211220T080000
DTEND;TZID=America/Denver:20220103T170000
DTSTAMP:20260420T154232
CREATED:20210830T224218Z
LAST-MODIFIED:20210830T224218Z
UID:10000213-1639987200-1641229200@senderoprep.com
SUMMARY:Winter Holiday Break
DESCRIPTION:Winter Holiday Break – NO SCHOOL
URL:https://senderoprep.com/event/winter-holiday-break/
END:VEVENT
BEGIN:VEVENT
DTSTART;TZID=America/Denver:20211216T080000
DTEND;TZID=America/Denver:20211216T170000
DTSTAMP:20260420T154232
CREATED:20210830T224016Z
LAST-MODIFIED:20210830T224016Z
UID:10000212-1639641600-1639674000@senderoprep.com
SUMMARY:End of Term 4
DESCRIPTION:Last day of school for Term 4.
URL:https://senderoprep.com/event/end-of-fall-semester/
END:VEVENT
BEGIN:VEVENT
DTSTART;TZID=America/Denver:20211214T173000
DTEND;TZID=America/Denver:20211214T183000
DTSTAMP:20260420T154232
CREATED:20211209T181229Z
LAST-MODIFIED:20211209T181229Z
UID:10000221-1639503000-1639506600@senderoprep.com
SUMMARY:LMCHS Governance Council December Online Meeting
DESCRIPTION:
URL:https://senderoprep.com/event/lmchs-governance-council-december-online-meeting/
END:VEVENT
BEGIN:VEVENT
DTSTART;TZID=America/Denver:20211210T080000
DTEND;TZID=America/Denver:20211210T170000
DTSTAMP:20260420T154232
CREATED:20210830T223919Z
LAST-MODIFIED:20210830T223919Z
UID:10000211-1639123200-1639155600@senderoprep.com
SUMMARY:Extended Learning
DESCRIPTION:A variety of learning opportunities will be provided in and outside of the classroom.
URL:https://senderoprep.com/event/extended-learning-14/
END:VEVENT
BEGIN:VEVENT
DTSTART;TZID=America/Denver:20211122T080000
DTEND;TZID=America/Denver:20211125T170000
DTSTAMP:20260420T154232
CREATED:20210830T223714Z
LAST-MODIFIED:20210830T223714Z
UID:10000210-1637568000-1637859600@senderoprep.com
SUMMARY:Thanksgiving Holiday
DESCRIPTION:No School – Thanksgiving Holiday
URL:https://senderoprep.com/event/thanksgiving-holiday/
END:VEVENT
BEGIN:VEVENT
DTSTART;TZID=America/Denver:20211116T173000
DTEND;TZID=America/Denver:20211116T183000
DTSTAMP:20260420T154232
CREATED:20211014T204329Z
LAST-MODIFIED:20211014T204329Z
UID:10000590-1637083800-1637087400@senderoprep.com
SUMMARY:LMCHS Governance Council Meeting
DESCRIPTION:NOTICE OF ONLINE MEETING \n\n\n\n NOTICE IS GIVEN that a regular meeting of Las Montañas Charter High School Governance Council will be held at:  \n\n\n\nLAS MONTAÑAS CHARTER HIGH SCHOOL \n\n\n\n1405 S. Solano \n\n\n\nLas Cruces\, NM 88001
URL:https://senderoprep.com/event/lmchs-governance-council-meeting-2-2021-11-16-2/
ATTACH;FMTTYPE=image/png:https://senderoprep.com/wp-content/uploads/2020/06/no-photo-available.png
END:VEVENT
BEGIN:VEVENT
DTSTART;TZID=America/Denver:20211116T173000
DTEND;TZID=America/Denver:20211116T183000
DTSTAMP:20260420T154232
CREATED:20211014T204329Z
LAST-MODIFIED:20211014T204329Z
UID:10000218-1637083800-1637087400@senderoprep.com
SUMMARY:LMCHS Governance Council Meeting
DESCRIPTION:NOTICE OF ONLINE MEETING \n\n\n\n NOTICE IS GIVEN that a regular meeting of Las Montañas Charter High School Governance Council will be held at:  \n\n\n\nLAS MONTAÑAS CHARTER HIGH SCHOOL \n\n\n\n1405 S. Solano \n\n\n\nLas Cruces\, NM 88001
URL:https://senderoprep.com/event/lmchs-governance-council-meeting-2/2021-11-16/
ATTACH;FMTTYPE=image/png:https://senderoprep.com/wp-content/uploads/2020/06/no-photo-available.png
END:VEVENT
BEGIN:VEVENT
DTSTART;TZID=America/Denver:20211112T080000
DTEND;TZID=America/Denver:20211112T170000
DTSTAMP:20260420T154232
CREATED:20210830T223606Z
LAST-MODIFIED:20210830T223606Z
UID:10000209-1636704000-1636736400@senderoprep.com
SUMMARY:Professional Development
DESCRIPTION:Teacher Training
URL:https://senderoprep.com/event/professional-development-12/
END:VEVENT
BEGIN:VEVENT
DTSTART;TZID=America/Denver:20211112T080000
DTEND;TZID=America/Denver:20211112T160000
DTSTAMP:20260420T154232
CREATED:20210830T221910Z
LAST-MODIFIED:20210830T221910Z
UID:10000208-1636704000-1636732800@senderoprep.com
SUMMARY:Extended Learning
DESCRIPTION:Variety of learning will be offered for student to participate in and out of the classroom.
URL:https://senderoprep.com/event/extended-learning-13/
END:VEVENT
BEGIN:VEVENT
DTSTART;TZID=America/Denver:20211022T080000
DTEND;TZID=America/Denver:20211022T170000
DTSTAMP:20260420T154232
CREATED:20210830T221722Z
LAST-MODIFIED:20210830T221722Z
UID:10000207-1634889600-1634922000@senderoprep.com
SUMMARY:Professional Development
DESCRIPTION:Teacher Training
URL:https://senderoprep.com/event/professional-development-11/
END:VEVENT
BEGIN:VEVENT
DTSTART;TZID=America/Denver:20211019T173000
DTEND;TZID=America/Denver:20211019T183000
DTSTAMP:20260420T154232
CREATED:20211014T204329Z
LAST-MODIFIED:20211014T204329Z
UID:10000217-1634664600-1634668200@senderoprep.com
SUMMARY:LMCHS Governance Council Meeting
DESCRIPTION:NOTICE OF ONLINE MEETING \n\n\n\n NOTICE IS GIVEN that a regular meeting of Las Montañas Charter High School Governance Council will be held at:  \n\n\n\nLAS MONTAÑAS CHARTER HIGH SCHOOL \n\n\n\n1405 S. Solano \n\n\n\nLas Cruces\, NM 88001
URL:https://senderoprep.com/event/lmchs-governance-council-meeting-2/2021-10-19/
END:VEVENT
BEGIN:VEVENT
DTSTART;TZID=America/Denver:20211001T080000
DTEND;TZID=America/Denver:20211001T133000
DTSTAMP:20260420T154232
CREATED:20210830T221628Z
LAST-MODIFIED:20210830T221628Z
UID:10000206-1633075200-1633095000@senderoprep.com
SUMMARY:Extended Learning
DESCRIPTION:A variety of learning opportunities will be conducted in and outside of the classroom.
URL:https://senderoprep.com/event/extended-learning-12/
END:VEVENT
BEGIN:VEVENT
DTSTART;TZID=America/Denver:20211001T080000
DTEND;TZID=America/Denver:20211001T133000
DTSTAMP:20260420T154232
CREATED:20210830T221628Z
LAST-MODIFIED:20210830T221628Z
UID:10000578-1633075200-1633095000@senderoprep.com
SUMMARY:Extended Learning
DESCRIPTION:A variety of learning opportunities will be conducted in and outside of the classroom.
URL:https://senderoprep.com/event/extended-learning-12-2/
END:VEVENT
BEGIN:VEVENT
DTSTART;TZID=America/Denver:20210921T173000
DTEND;TZID=America/Denver:20210921T183000
DTSTAMP:20260420T154232
CREATED:20210910T221422Z
LAST-MODIFIED:20210910T221422Z
UID:10000216-1632245400-1632249000@senderoprep.com
SUMMARY:LMCHS Governance Council Meeting-Online
DESCRIPTION:
URL:https://senderoprep.com/event/lmchs-governance-council-meeting-online/
END:VEVENT
BEGIN:VEVENT
DTSTART;TZID=America/Denver:20210917T080000
DTEND;TZID=America/Denver:20210917T170000
DTSTAMP:20260420T154232
CREATED:20210830T150036Z
LAST-MODIFIED:20210830T150036Z
UID:10000205-1631865600-1631898000@senderoprep.com
SUMMARY:Parent Teacher Conferences
DESCRIPTION:Parents and Teacher Conferences
URL:https://senderoprep.com/event/parent-teacher-conferences-3/
END:VEVENT
BEGIN:VEVENT
DTSTART;TZID=America/Denver:20210913T080000
DTEND;TZID=America/Denver:20210913T170000
DTSTAMP:20260420T154232
CREATED:20210830T224521Z
LAST-MODIFIED:20210830T224521Z
UID:10000215-1631520000-1631552400@senderoprep.com
SUMMARY:Start of Term 2
DESCRIPTION:First Day of Term 2 – See front office for you new schedules.
URL:https://senderoprep.com/event/start-of-term-2/
END:VEVENT
BEGIN:VEVENT
DTSTART;TZID=America/Denver:20210910T080000
DTEND;TZID=America/Denver:20210910T163000
DTSTAMP:20260420T154232
CREATED:20210830T145854Z
LAST-MODIFIED:20210830T145854Z
UID:10000204-1631260800-1631291400@senderoprep.com
SUMMARY:Professional Development
DESCRIPTION:Teacher Training
URL:https://senderoprep.com/event/professional-development-10/
END:VEVENT
BEGIN:VEVENT
DTSTART;TZID=America/Denver:20210907T080000
DTEND;TZID=America/Denver:20210909T170000
DTSTAMP:20260420T154232
CREATED:20210830T224403Z
LAST-MODIFIED:20210830T224403Z
UID:10000214-1631001600-1631206800@senderoprep.com
SUMMARY:Finals Week - End of Term 1
DESCRIPTION:The end of Term 1
URL:https://senderoprep.com/event/finals-week-end-of-term-1/
END:VEVENT
BEGIN:VEVENT
DTSTART;TZID=America/Denver:20210906T080000
DTEND;TZID=America/Denver:20210906T170000
DTSTAMP:20260420T154232
CREATED:20210830T145719Z
LAST-MODIFIED:20210830T145719Z
UID:10000203-1630915200-1630947600@senderoprep.com
SUMMARY:Labor Day
DESCRIPTION:NO School
URL:https://senderoprep.com/event/labor-day/
END:VEVENT
BEGIN:VEVENT
DTSTART;TZID=America/Denver:20210827T090000
DTEND;TZID=America/Denver:20210827T120000
DTSTAMP:20260420T154232
CREATED:20210514T013718Z
LAST-MODIFIED:20210514T013718Z
UID:10000194-1630054800-1630065600@senderoprep.com
SUMMARY:Extended Learning
DESCRIPTION:
URL:https://senderoprep.com/event/extended-learning-11-2/
CATEGORIES:Cafeteria Menu,Faculty Events,Governance Council Meetings,Parent Events,Staff Events,Student Body Events
END:VEVENT
BEGIN:VEVENT
DTSTART;TZID=America/Denver:20210817T173000
DTEND;TZID=America/Denver:20210817T183000
DTSTAMP:20260420T154232
CREATED:20210810T190418Z
LAST-MODIFIED:20210810T190418Z
UID:10000202-1629221400-1629225000@senderoprep.com
SUMMARY:Notice of LMCHS Governance Council Online Meeting\, August 17\, 2021
DESCRIPTION:NOTICE IS GIVEN that a regular meeting of Las Montañas Charter High School Governance Council will be held at: \n\n\n\nLAS MONTAÑAS CHARTER HIGH SCHOOL \n\n\n\n1405 S. Solano \n\n\n\nLas Cruces\, NM 88001 \n\n\n\nTuesday\, August 17\, 2021 \n\n\n\nHELD VIRTUALLY: ZOOM \n\n\n\nTopic: August 17\, 2021 GC Meeting \n\n\n\nTime: Aug 17\, 2021 05:30 PM Mountain Time (US and Canada) \n\n\n\nJoin Zoom Meeting \n\n\n\nhttps://us04web.zoom.us/j/75190478480?pwd=Vmd6M0UvM29UZ2R0WnhnYTk5c1ppUT09 \n\n\n\nMeeting ID: 751 9047 8480 \n\n\n\nPasscode: APB5k6 \n\n\n\nAugust 17\, 2021\, 5:30 PM \n\n\n\nFor The Transaction Of The Following Business \n\n\n\nDiscussion and Action on July\, 2021 Fiscal. \n\n\n\n Principal’s Report including NMPED Toolkit\, Fall Reentry\, CTE training\, and other items that may be included on the agenda. \n\n\n\nA final agenda for the foregoing meeting may be obtained at www.lasmontanashigh.com \n\n\n\nthree days prior to the meeting.  If you have any questions\, call \n\n\n\nLas Montañas Charter High School \n\n\n\nat 575-527-5916. \n\n\n\n“Home of the Rams”  \n\n\n\nVirtual Meeting (ensure Zoom is setup 20 min prior to meeting)
URL:https://senderoprep.com/event/notice-of-lmchs-governance-council-online-meeting-august-17-2021/
CATEGORIES:Faculty Events,Governance Council Meetings,Parent Events,Staff Events,Student Body Events
END:VEVENT
END:VCALENDAR