BEGIN:VCALENDAR
VERSION:2.0
PRODID:-//Sendero Prep - ECPv6.15.20//NONSGML v1.0//EN
CALSCALE:GREGORIAN
METHOD:PUBLISH
X-WR-CALNAME:Sendero Prep
X-ORIGINAL-URL:https://senderoprep.com
X-WR-CALDESC:Events for Sendero Prep
REFRESH-INTERVAL;VALUE=DURATION:PT1H
X-Robots-Tag:noindex
X-PUBLISHED-TTL:PT1H
BEGIN:VTIMEZONE
TZID:America/Denver
BEGIN:DAYLIGHT
TZOFFSETFROM:-0700
TZOFFSETTO:-0600
TZNAME:MDT
DTSTART:20200308T090000
END:DAYLIGHT
BEGIN:STANDARD
TZOFFSETFROM:-0600
TZOFFSETTO:-0700
TZNAME:MST
DTSTART:20201101T080000
END:STANDARD
BEGIN:DAYLIGHT
TZOFFSETFROM:-0700
TZOFFSETTO:-0600
TZNAME:MDT
DTSTART:20210314T090000
END:DAYLIGHT
BEGIN:STANDARD
TZOFFSETFROM:-0600
TZOFFSETTO:-0700
TZNAME:MST
DTSTART:20211107T080000
END:STANDARD
BEGIN:DAYLIGHT
TZOFFSETFROM:-0700
TZOFFSETTO:-0600
TZNAME:MDT
DTSTART:20220313T090000
END:DAYLIGHT
BEGIN:STANDARD
TZOFFSETFROM:-0600
TZOFFSETTO:-0700
TZNAME:MST
DTSTART:20221106T080000
END:STANDARD
END:VTIMEZONE
BEGIN:VEVENT
DTSTART;VALUE=DATE:20210726
DTEND;VALUE=DATE:20210730
DTSTAMP:20260421T002339
CREATED:20210514T012750Z
LAST-MODIFIED:20210514T012750Z
UID:10000190-1627257600-1627603199@senderoprep.com
SUMMARY:Summer Break (No School)
DESCRIPTION:
URL:https://senderoprep.com/event/summer-break-no-school/
CATEGORIES:Cafeteria Menu,Faculty Events,Governance Council Meetings,Parent Events,Staff Events,Student Body Events
END:VEVENT
BEGIN:VEVENT
DTSTART;VALUE=DATE:20210726
DTEND;VALUE=DATE:20210730
DTSTAMP:20260421T002339
CREATED:20210514T012750Z
LAST-MODIFIED:20210514T012750Z
UID:10000562-1627257600-1627603199@senderoprep.com
SUMMARY:Summer Break (No School)
DESCRIPTION:
URL:https://senderoprep.com/event/summer-break-no-school-2/
CATEGORIES:Cafeteria Menu,Faculty Events,Governance Council Meetings,Parent Events,Staff Events,Student Body Events
END:VEVENT
BEGIN:VEVENT
DTSTART;VALUE=DATE:20210722
DTEND;VALUE=DATE:20210723
DTSTAMP:20260421T002339
CREATED:20210514T012509Z
LAST-MODIFIED:20210514T012509Z
UID:10000189-1626912000-1626998399@senderoprep.com
SUMMARY:Summer School Ends (Online Remote)
DESCRIPTION:
URL:https://senderoprep.com/event/summer-school-ends-remote/
CATEGORIES:Cafeteria Menu,Faculty Events,Governance Council Meetings,Parent Events,Staff Events,Student Body Events
END:VEVENT
BEGIN:VEVENT
DTSTART;VALUE=DATE:20210722
DTEND;VALUE=DATE:20210723
DTSTAMP:20260421T002339
CREATED:20210514T012509Z
LAST-MODIFIED:20210514T012509Z
UID:10000561-1626912000-1626998399@senderoprep.com
SUMMARY:Summer School Ends (Online Remote)
DESCRIPTION:
URL:https://senderoprep.com/event/summer-school-ends-remote-2/
CATEGORIES:Cafeteria Menu,Faculty Events,Governance Council Meetings,Parent Events,Staff Events,Student Body Events
END:VEVENT
BEGIN:VEVENT
DTSTART;VALUE=DATE:20210719
DTEND;VALUE=DATE:20210723
DTSTAMP:20260421T002339
CREATED:20210610T184329Z
LAST-MODIFIED:20210610T184329Z
UID:10000200-1626652800-1626998399@senderoprep.com
SUMMARY:Summer School Hours
DESCRIPTION:Online Remote Classes Start at 9 am  to 4 pm\nSchool open from 9-2pm for the Summer.
URL:https://senderoprep.com/event/summer-school-hours-3/
CATEGORIES:Cafeteria Menu,Faculty Events,Governance Council Meetings,Parent Events,Staff Events,Student Body Events
END:VEVENT
BEGIN:VEVENT
DTSTART;VALUE=DATE:20210712
DTEND;VALUE=DATE:20210716
DTSTAMP:20260421T002339
CREATED:20210610T184248Z
LAST-MODIFIED:20210610T184248Z
UID:10000199-1626048000-1626393599@senderoprep.com
SUMMARY:Summer School Hours
DESCRIPTION:Online Remote Classes Start at 9 am  to 4 pm\nSchool open from 9-2pm for the Summer.
URL:https://senderoprep.com/event/summer-school-hours-2/
CATEGORIES:Cafeteria Menu,Faculty Events,Governance Council Meetings,Parent Events,Staff Events,Student Body Events
END:VEVENT
BEGIN:VEVENT
DTSTART;VALUE=DATE:20210706
DTEND;VALUE=DATE:20210709
DTSTAMP:20260421T002339
CREATED:20210610T184156Z
LAST-MODIFIED:20210610T184156Z
UID:10000198-1625529600-1625788799@senderoprep.com
SUMMARY:Summer School Hours
DESCRIPTION:Online Remote Classes Start at 9 am  to 4 pm\nSchool open from 9-2pm for the Summer.
URL:https://senderoprep.com/event/summer-school-hours/
CATEGORIES:Cafeteria Menu,Faculty Events,Governance Council Meetings,Parent Events,Staff Events,Student Body Events
END:VEVENT
BEGIN:VEVENT
DTSTART;VALUE=DATE:20210705
DTEND;VALUE=DATE:20210706
DTSTAMP:20260421T002339
CREATED:20210514T012355Z
LAST-MODIFIED:20210514T012355Z
UID:10000188-1625443200-1625529599@senderoprep.com
SUMMARY:Fourth of July Holiday-No School
DESCRIPTION:
URL:https://senderoprep.com/event/fourth-of-july-holiday-no-school/
END:VEVENT
BEGIN:VEVENT
DTSTART;VALUE=DATE:20210628
DTEND;VALUE=DATE:20210702
DTSTAMP:20260421T002339
CREATED:20210610T183351Z
LAST-MODIFIED:20210610T183351Z
UID:10000197-1624838400-1625183999@senderoprep.com
SUMMARY:Summer School Hours
DESCRIPTION:Online Remote Classes Start at 9 am  to 4 pm\nSchool open from 9-2pm for the Summer.
URL:https://senderoprep.com/event/summer-school-hours-10/
CATEGORIES:Cafeteria Menu,Faculty Events,Governance Council Meetings,Parent Events,Staff Events,Student Body Events
END:VEVENT
BEGIN:VEVENT
DTSTART;VALUE=DATE:20210621
DTEND;VALUE=DATE:20210625
DTSTAMP:20260421T002339
CREATED:20210610T182735Z
LAST-MODIFIED:20210610T182735Z
UID:10000196-1624233600-1624579199@senderoprep.com
SUMMARY:Summer School Hours
DESCRIPTION:Online Remote Classes Start at 9 am  to 4 pm\nSchool open from 9-2pm for the Summer.
URL:https://senderoprep.com/event/summer-school-hours-8/
CATEGORIES:Cafeteria Menu,Faculty Events,Governance Council Meetings,Parent Events,Staff Events,Student Body Events
END:VEVENT
BEGIN:VEVENT
DTSTART;TZID=America/Denver:20210615T173000
DTEND;TZID=America/Denver:20210615T183000
DTSTAMP:20260421T002339
CREATED:20210614T163337Z
LAST-MODIFIED:20210614T163337Z
UID:10000201-1623778200-1623781800@senderoprep.com
SUMMARY:LMCHS Governance Council Meeting
DESCRIPTION:NOTICE OF ONLINE MEETING \nNOTICE IS GIVEN that a regular meeting of Las Montañas Charter High School Governance Council will be held at: \nLAS MONTAÑAS CHARTER HIGH SCHOOL\n1405 S. Solano\nLas Cruces\, NM 88001\nTuesday\, June 15\, 2021\nHELD VIRTUALLY: ZOOM\nTopic: June 15 GC Meeting\nTime: Jun 15\, 2021 05:30 PM Mountain Time (US and Canada)\nJoin Zoom Meeting\nhttps://us04web.zoom.us/j/74759040277?pwd=V2xURnpxZnpMOVFMelhsZlBqQWFCQT09 \nMeeting ID: 747 5904 0277\nPasscode: d4y2HJ\n5:30 PM \nFor The Transaction Of The Following Business\nDiscussion and Action on May\, 2021 Fiscal. \n Principal’s Report including Summer School Update\, CTE training\,\nand other items that may be included on the agenda. \nA final agenda for the foregoing meeting may be obtained at\nwww.lasmontanashigh.com\nthree days prior to the meeting. \nIf you have any questions\, call\nLas Montañas Charter High School\nat 575-527-5916. \n“Home of the Rams”\nVirtual Meeting (ensure Zoom is setup 20 min prior to meeting)
URL:https://senderoprep.com/event/lmchs-governance-council-meeting/
CATEGORIES:Cafeteria Menu,Faculty Events,Governance Council Meetings,Parent Events,Staff Events,Student Body Events
END:VEVENT
BEGIN:VEVENT
DTSTART;TZID=America/Denver:20210615T173000
DTEND;TZID=America/Denver:20210615T183000
DTSTAMP:20260421T002339
CREATED:20200930T172950Z
LAST-MODIFIED:20200930T172950Z
UID:10000082-1623778200-1623781800@senderoprep.com
SUMMARY:Governance Council Meeting
DESCRIPTION:Governance Council Meeting
URL:https://senderoprep.com/event/governance-council-meeting-8/
CATEGORIES:Cafeteria Menu,Faculty Events,Governance Council Meetings,Parent Events,Staff Events,Student Assessment,Student Body Events,Student Council
END:VEVENT
BEGIN:VEVENT
DTSTART;VALUE=DATE:20210614
DTEND;VALUE=DATE:20210618
DTSTAMP:20260421T002339
CREATED:20210610T182324Z
LAST-MODIFIED:20210610T182324Z
UID:10000195-1623628800-1623974399@senderoprep.com
SUMMARY:Summer School Hours
DESCRIPTION:Online Remote Classes Start at 9 am  to 4 pm\nSchool open from 9-2pm for the Summer.
URL:https://senderoprep.com/event/summer-school-hours-4/
CATEGORIES:Faculty Events,Governance Council Meetings,Parent Events,Staff Events,Student Body Events
END:VEVENT
BEGIN:VEVENT
DTSTART;VALUE=DATE:20210607
DTEND;VALUE=DATE:20210611
DTSTAMP:20260421T002339
CREATED:20210514T011908Z
LAST-MODIFIED:20210514T011908Z
UID:10000187-1623024000-1623369599@senderoprep.com
SUMMARY:Summer School Begins
DESCRIPTION:Online Remote Classes Start at 9 am  to 4 pm\nSchool open from 9-2pm for the Summer.
URL:https://senderoprep.com/event/summer-school-begins/
CATEGORIES:Cafeteria Menu,Faculty Events,Governance Council Meetings,Parent Events,Staff Events,Student Body Events
END:VEVENT
BEGIN:VEVENT
DTSTART;VALUE=DATE:20210601
DTEND;VALUE=DATE:20210604
DTSTAMP:20260421T002339
CREATED:20210514T011148Z
LAST-MODIFIED:20210514T011148Z
UID:10000186-1622505600-1622764799@senderoprep.com
SUMMARY:Summer Break
DESCRIPTION:Summer Break No School
URL:https://senderoprep.com/event/summer-break/
CATEGORIES:Cafeteria Menu,Faculty Events,Governance Council Meetings,Parent Events,Staff Events,Student Body Events
END:VEVENT
BEGIN:VEVENT
DTSTART;VALUE=DATE:20210601
DTEND;VALUE=DATE:20210604
DTSTAMP:20260421T002339
CREATED:20210514T011148Z
LAST-MODIFIED:20210514T011148Z
UID:10000558-1622505600-1622764799@senderoprep.com
SUMMARY:Summer Break
DESCRIPTION:Summer Break No School
URL:https://senderoprep.com/event/summer-break-2/
CATEGORIES:Cafeteria Menu,Faculty Events,Governance Council Meetings,Parent Events,Staff Events,Student Body Events
END:VEVENT
BEGIN:VEVENT
DTSTART;VALUE=DATE:20210531
DTEND;VALUE=DATE:20210601
DTSTAMP:20260421T002339
CREATED:20210514T010954Z
LAST-MODIFIED:20210514T010954Z
UID:10000181-1622419200-1622505599@senderoprep.com
SUMMARY:Memorial Day/Summer Break
DESCRIPTION:School Closed
URL:https://senderoprep.com/event/memorial-day-summer-break/
CATEGORIES:Cafeteria Menu,Faculty Events,Governance Council Meetings,Parent Events,Staff Events,Student Body Events
END:VEVENT
BEGIN:VEVENT
DTSTART;VALUE=DATE:20210531
DTEND;VALUE=DATE:20210601
DTSTAMP:20260421T002339
CREATED:20210514T010954Z
LAST-MODIFIED:20210514T010954Z
UID:10000553-1622419200-1622505599@senderoprep.com
SUMMARY:Memorial Day/Summer Break
DESCRIPTION:School Closed
URL:https://senderoprep.com/event/memorial-day-summer-break-2/
CATEGORIES:Cafeteria Menu,Faculty Events,Governance Council Meetings,Parent Events,Staff Events,Student Body Events
END:VEVENT
BEGIN:VEVENT
DTSTART;TZID=America/Denver:20210527T080000
DTEND;TZID=America/Denver:20210527T170000
DTSTAMP:20260421T002339
CREATED:20200930T174022Z
LAST-MODIFIED:20200930T174022Z
UID:10000100-1622102400-1622134800@senderoprep.com
SUMMARY:End of Term 8
DESCRIPTION:End of Term 8
URL:https://senderoprep.com/event/end-of-term-8/
CATEGORIES:Cafeteria Menu,Faculty Events,Governance Council Meetings,Parent Events,Staff Events,Student Assessment,Student Body Events,Student Council
END:VEVENT
BEGIN:VEVENT
DTSTART;TZID=America/Denver:20210527T080000
DTEND;TZID=America/Denver:20210527T170000
DTSTAMP:20260421T002339
CREATED:20200930T174022Z
LAST-MODIFIED:20200930T174022Z
UID:10000472-1622102400-1622134800@senderoprep.com
SUMMARY:End of Term 8
DESCRIPTION:End of Term 8
URL:https://senderoprep.com/event/end-of-term-8-3/
CATEGORIES:Cafeteria Menu,Faculty Events,Governance Council Meetings,Parent Events,Staff Events,Student Assessment,Student Body Events,Student Council
END:VEVENT
BEGIN:VEVENT
DTSTART;VALUE=DATE:20210527
DTEND;VALUE=DATE:20210528
DTSTAMP:20260421T002339
CREATED:20200930T174022Z
LAST-MODIFIED:20200930T174022Z
UID:10000111-1622073600-1622159999@senderoprep.com
SUMMARY:Last Day of School
DESCRIPTION:Last Day of School
URL:https://senderoprep.com/event/end-of-term-8-2/
CATEGORIES:Cafeteria Menu,Faculty Events,Governance Council Meetings,Parent Events,Staff Events,Student Assessment,Student Body Events,Student Council
END:VEVENT
BEGIN:VEVENT
DTSTART;VALUE=DATE:20210527
DTEND;VALUE=DATE:20210528
DTSTAMP:20260421T002339
CREATED:20200930T174022Z
LAST-MODIFIED:20200930T174022Z
UID:10000483-1622073600-1622159999@senderoprep.com
SUMMARY:Last Day of School
DESCRIPTION:Last Day of School
URL:https://senderoprep.com/event/end-of-term-8-2-2/
CATEGORIES:Cafeteria Menu,Faculty Events,Governance Council Meetings,Parent Events,Staff Events,Student Assessment,Student Body Events,Student Council
END:VEVENT
BEGIN:VEVENT
DTSTART;TZID=America/Denver:20210525T183000
DTEND;TZID=America/Denver:20210525T193000
DTSTAMP:20260421T002339
CREATED:20210514T010234Z
LAST-MODIFIED:20210514T010234Z
UID:10000185-1621967400-1621971000@senderoprep.com
SUMMARY:Graduation
DESCRIPTION:Graduation will be held at the Las Cruces Convention Center\, 680 E. University Ave.
URL:https://senderoprep.com/event/graduation/
CATEGORIES:Faculty Events,Parent Events,Staff Events,Student Body Events
END:VEVENT
BEGIN:VEVENT
DTSTART;TZID=America/Denver:20210525T183000
DTEND;TZID=America/Denver:20210525T193000
DTSTAMP:20260421T002339
CREATED:20210514T010234Z
LAST-MODIFIED:20210514T010234Z
UID:10000557-1621967400-1621971000@senderoprep.com
SUMMARY:Graduation
DESCRIPTION:Graduation will be held at the Las Cruces Convention Center\, 680 E. University Ave.
URL:https://senderoprep.com/event/graduation-2/
CATEGORIES:Faculty Events,Parent Events,Staff Events,Student Body Events
END:VEVENT
BEGIN:VEVENT
DTSTART;TZID=America/Denver:20210520T080000
DTEND;TZID=America/Denver:20210520T170000
DTSTAMP:20260421T002339
CREATED:20200930T174226Z
LAST-MODIFIED:20200930T174226Z
UID:10000101-1621497600-1621530000@senderoprep.com
SUMMARY:Tentative Graduation
DESCRIPTION:Tentative Graduation \nDate can change and location to be announced.
URL:https://senderoprep.com/event/tentative-graduation/
CATEGORIES:Cafeteria Menu,Faculty Events,Governance Council Meetings,Parent Events,Staff Events,Student Assessment,Student Body Events,Student Council
END:VEVENT
BEGIN:VEVENT
DTSTART;VALUE=DATE:20210520
DTEND;VALUE=DATE:20210521
DTSTAMP:20260421T002339
CREATED:20210428T181226Z
LAST-MODIFIED:20210428T181226Z
UID:10000166-1621468800-1621555199@senderoprep.com
SUMMARY:Meal Menu
DESCRIPTION:Breakfast\nWG Pancakes\nFruit\nLF Milk \nLunch\nBeef Soft Tacos (2)\nSpanish Rice ( 1/3 c )\nChopped Salad ( ½ c )\nFruit\nLF Milk
URL:https://senderoprep.com/event/meal-menu-23/
CATEGORIES:Cafeteria Menu,Faculty Events,Staff Events,Student Body Events
END:VEVENT
BEGIN:VEVENT
DTSTART;VALUE=DATE:20210520
DTEND;VALUE=DATE:20210521
DTSTAMP:20260421T002340
CREATED:20210428T181226Z
LAST-MODIFIED:20210428T181226Z
UID:10000538-1621468800-1621555199@senderoprep.com
SUMMARY:Meal Menu
DESCRIPTION:Breakfast\nWG Pancakes\nFruit\nLF Milk \nLunch\nBeef Soft Tacos (2)\nSpanish Rice ( 1/3 c )\nChopped Salad ( ½ c )\nFruit\nLF Milk
URL:https://senderoprep.com/event/meal-menu-23-3/
CATEGORIES:Cafeteria Menu,Faculty Events,Staff Events,Student Body Events
END:VEVENT
BEGIN:VEVENT
DTSTART;VALUE=DATE:20210519
DTEND;VALUE=DATE:20210520
DTSTAMP:20260421T002340
CREATED:20210428T181113Z
LAST-MODIFIED:20210428T181113Z
UID:10000537-1621382400-1621468799@senderoprep.com
SUMMARY:Meal Menu
DESCRIPTION:Breakfast\nWG Muffin\nFruit\nLF Milk \nLunch\nTurkey & Cheese Sandwich\nBroccoli Salad\nFruit\nLF Milk
URL:https://senderoprep.com/event/meal-menu-22-3/
CATEGORIES:Cafeteria Menu,Faculty Events,Parent Events,Staff Events,Student Body Events
END:VEVENT
BEGIN:VEVENT
DTSTART;VALUE=DATE:20210519
DTEND;VALUE=DATE:20210520
DTSTAMP:20260421T002340
CREATED:20210428T181113Z
LAST-MODIFIED:20210428T181113Z
UID:10000165-1621382400-1621468799@senderoprep.com
SUMMARY:Meal Menu
DESCRIPTION:Breakfast\nWG Muffin\nFruit\nLF Milk \nLunch\nTurkey & Cheese Sandwich\nBroccoli Salad\nFruit\nLF Milk
URL:https://senderoprep.com/event/meal-menu-22/
CATEGORIES:Cafeteria Menu,Faculty Events,Parent Events,Staff Events,Student Body Events
END:VEVENT
BEGIN:VEVENT
DTSTART;TZID=America/Denver:20210518T173000
DTEND;TZID=America/Denver:20210518T183000
DTSTAMP:20260421T002340
CREATED:20200930T172737Z
LAST-MODIFIED:20200930T172737Z
UID:10000081-1621359000-1621362600@senderoprep.com
SUMMARY:Governance Council Meeting
DESCRIPTION:Governance Council Meeting
URL:https://senderoprep.com/event/governance-council-meeting-7/
CATEGORIES:Cafeteria Menu,Faculty Events,Governance Council Meetings,Parent Events,Staff Events,Student Assessment,Student Body Events,Student Council
END:VEVENT
END:VCALENDAR