BEGIN:VCALENDAR
VERSION:2.0
PRODID:-//Sendero Prep - ECPv6.15.20//NONSGML v1.0//EN
CALSCALE:GREGORIAN
METHOD:PUBLISH
X-WR-CALNAME:Sendero Prep
X-ORIGINAL-URL:https://senderoprep.com
X-WR-CALDESC:Events for Sendero Prep
REFRESH-INTERVAL;VALUE=DURATION:PT1H
X-Robots-Tag:noindex
X-PUBLISHED-TTL:PT1H
BEGIN:VTIMEZONE
TZID:America/Denver
BEGIN:DAYLIGHT
TZOFFSETFROM:-0700
TZOFFSETTO:-0600
TZNAME:MDT
DTSTART:20200308T090000
END:DAYLIGHT
BEGIN:STANDARD
TZOFFSETFROM:-0600
TZOFFSETTO:-0700
TZNAME:MST
DTSTART:20201101T080000
END:STANDARD
BEGIN:DAYLIGHT
TZOFFSETFROM:-0700
TZOFFSETTO:-0600
TZNAME:MDT
DTSTART:20210314T090000
END:DAYLIGHT
BEGIN:STANDARD
TZOFFSETFROM:-0600
TZOFFSETTO:-0700
TZNAME:MST
DTSTART:20211107T080000
END:STANDARD
BEGIN:DAYLIGHT
TZOFFSETFROM:-0700
TZOFFSETTO:-0600
TZNAME:MDT
DTSTART:20220313T090000
END:DAYLIGHT
BEGIN:STANDARD
TZOFFSETFROM:-0600
TZOFFSETTO:-0700
TZNAME:MST
DTSTART:20221106T080000
END:STANDARD
END:VTIMEZONE
BEGIN:VEVENT
DTSTART;TZID=America/Denver:20210520T080000
DTEND;TZID=America/Denver:20210520T170000
DTSTAMP:20260420T233313
CREATED:20200930T174226Z
LAST-MODIFIED:20200930T174226Z
UID:10000101-1621497600-1621530000@senderoprep.com
SUMMARY:Tentative Graduation
DESCRIPTION:Tentative Graduation \nDate can change and location to be announced.
URL:https://senderoprep.com/event/tentative-graduation/
CATEGORIES:Cafeteria Menu,Faculty Events,Governance Council Meetings,Parent Events,Staff Events,Student Assessment,Student Body Events,Student Council
END:VEVENT
BEGIN:VEVENT
DTSTART;VALUE=DATE:20210520
DTEND;VALUE=DATE:20210521
DTSTAMP:20260420T233313
CREATED:20210428T181226Z
LAST-MODIFIED:20210428T181226Z
UID:10000166-1621468800-1621555199@senderoprep.com
SUMMARY:Meal Menu
DESCRIPTION:Breakfast\nWG Pancakes\nFruit\nLF Milk \nLunch\nBeef Soft Tacos (2)\nSpanish Rice ( 1/3 c )\nChopped Salad ( ½ c )\nFruit\nLF Milk
URL:https://senderoprep.com/event/meal-menu-23/
CATEGORIES:Cafeteria Menu,Faculty Events,Staff Events,Student Body Events
END:VEVENT
BEGIN:VEVENT
DTSTART;VALUE=DATE:20210520
DTEND;VALUE=DATE:20210521
DTSTAMP:20260420T233313
CREATED:20210428T181226Z
LAST-MODIFIED:20210428T181226Z
UID:10000538-1621468800-1621555199@senderoprep.com
SUMMARY:Meal Menu
DESCRIPTION:Breakfast\nWG Pancakes\nFruit\nLF Milk \nLunch\nBeef Soft Tacos (2)\nSpanish Rice ( 1/3 c )\nChopped Salad ( ½ c )\nFruit\nLF Milk
URL:https://senderoprep.com/event/meal-menu-23-3/
CATEGORIES:Cafeteria Menu,Faculty Events,Staff Events,Student Body Events
END:VEVENT
BEGIN:VEVENT
DTSTART;VALUE=DATE:20210519
DTEND;VALUE=DATE:20210520
DTSTAMP:20260420T233313
CREATED:20210428T181113Z
LAST-MODIFIED:20210428T181113Z
UID:10000165-1621382400-1621468799@senderoprep.com
SUMMARY:Meal Menu
DESCRIPTION:Breakfast\nWG Muffin\nFruit\nLF Milk \nLunch\nTurkey & Cheese Sandwich\nBroccoli Salad\nFruit\nLF Milk
URL:https://senderoprep.com/event/meal-menu-22/
CATEGORIES:Cafeteria Menu,Faculty Events,Parent Events,Staff Events,Student Body Events
END:VEVENT
BEGIN:VEVENT
DTSTART;VALUE=DATE:20210519
DTEND;VALUE=DATE:20210520
DTSTAMP:20260420T233313
CREATED:20210428T181113Z
LAST-MODIFIED:20210428T181113Z
UID:10000537-1621382400-1621468799@senderoprep.com
SUMMARY:Meal Menu
DESCRIPTION:Breakfast\nWG Muffin\nFruit\nLF Milk \nLunch\nTurkey & Cheese Sandwich\nBroccoli Salad\nFruit\nLF Milk
URL:https://senderoprep.com/event/meal-menu-22-3/
CATEGORIES:Cafeteria Menu,Faculty Events,Parent Events,Staff Events,Student Body Events
END:VEVENT
BEGIN:VEVENT
DTSTART;TZID=America/Denver:20210518T173000
DTEND;TZID=America/Denver:20210518T183000
DTSTAMP:20260420T233313
CREATED:20200930T172737Z
LAST-MODIFIED:20200930T172737Z
UID:10000081-1621359000-1621362600@senderoprep.com
SUMMARY:Governance Council Meeting
DESCRIPTION:Governance Council Meeting
URL:https://senderoprep.com/event/governance-council-meeting-7/
CATEGORIES:Cafeteria Menu,Faculty Events,Governance Council Meetings,Parent Events,Staff Events,Student Assessment,Student Body Events,Student Council
END:VEVENT
BEGIN:VEVENT
DTSTART;TZID=America/Denver:20210518T173000
DTEND;TZID=America/Denver:20210518T183000
DTSTAMP:20260420T233313
CREATED:20200930T172737Z
LAST-MODIFIED:20200930T172737Z
UID:10000453-1621359000-1621362600@senderoprep.com
SUMMARY:Governance Council Meeting
DESCRIPTION:Governance Council Meeting
URL:https://senderoprep.com/event/governance-council-meeting-7-3/
CATEGORIES:Cafeteria Menu,Faculty Events,Governance Council Meetings,Parent Events,Staff Events,Student Assessment,Student Body Events,Student Council
END:VEVENT
BEGIN:VEVENT
DTSTART;VALUE=DATE:20210518
DTEND;VALUE=DATE:20210519
DTSTAMP:20260420T233313
CREATED:20210428T180953Z
LAST-MODIFIED:20210428T180953Z
UID:10000164-1621296000-1621382399@senderoprep.com
SUMMARY:Meal Menu
DESCRIPTION:Breakfast\nWG Waffles\nFruit\nLF Milk \nLunch\nBBQ Sandwich ( 3 oz) / WG Roll\nPotato Salad ( ½ c )\nFruit\nLF Milk
URL:https://senderoprep.com/event/meal-menu-21/
CATEGORIES:Cafeteria Menu,Faculty Events,Parent Events,Staff Events,Student Body Events
END:VEVENT
BEGIN:VEVENT
DTSTART;VALUE=DATE:20210518
DTEND;VALUE=DATE:20210519
DTSTAMP:20260420T233313
CREATED:20210428T180953Z
LAST-MODIFIED:20210428T180953Z
UID:10000536-1621296000-1621382399@senderoprep.com
SUMMARY:Meal Menu
DESCRIPTION:Breakfast\nWG Waffles\nFruit\nLF Milk \nLunch\nBBQ Sandwich ( 3 oz) / WG Roll\nPotato Salad ( ½ c )\nFruit\nLF Milk
URL:https://senderoprep.com/event/meal-menu-21-3/
CATEGORIES:Cafeteria Menu,Faculty Events,Parent Events,Staff Events,Student Body Events
END:VEVENT
BEGIN:VEVENT
DTSTART;VALUE=DATE:20210517
DTEND;VALUE=DATE:20210518
DTSTAMP:20260420T233313
CREATED:20210428T180837Z
LAST-MODIFIED:20210428T180837Z
UID:10000545-1621209600-1621295999@senderoprep.com
SUMMARY:Meal Menu
DESCRIPTION:Breakfast\nWG Cereal (1.0 oz)\nFruit\nLF Milk \nLunch\nWG Pepperoni Pizza\nChopped Salad ( ½ c )\nFruit\nLF Milk
URL:https://senderoprep.com/event/meal-menu-20-2-2/
CATEGORIES:Cafeteria Menu,Faculty Events,Parent Events,Staff Events,Student Body Events
END:VEVENT
BEGIN:VEVENT
DTSTART;VALUE=DATE:20210517
DTEND;VALUE=DATE:20210518
DTSTAMP:20260420T233313
CREATED:20210428T180837Z
LAST-MODIFIED:20210428T180837Z
UID:10000163-1621209600-1621295999@senderoprep.com
SUMMARY:Meal Menu
DESCRIPTION:Breakfast\nWG Cereal (1.0 oz)\nFruit\nLF Milk \nLunch\nWG Pepperoni Pizza\nChopped Salad ( ½ c )\nFruit\nLF Milk
URL:https://senderoprep.com/event/meal-menu-20/
CATEGORIES:Cafeteria Menu,Faculty Events,Parent Events,Staff Events,Student Body Events
END:VEVENT
BEGIN:VEVENT
DTSTART;VALUE=DATE:20210517
DTEND;VALUE=DATE:20210518
DTSTAMP:20260420T233313
CREATED:20210428T180837Z
LAST-MODIFIED:20210428T180837Z
UID:10000535-1621209600-1621295999@senderoprep.com
SUMMARY:Meal Menu
DESCRIPTION:Breakfast\nWG Cereal (1.0 oz)\nFruit\nLF Milk \nLunch\nWG Pepperoni Pizza\nChopped Salad ( ½ c )\nFruit\nLF Milk
URL:https://senderoprep.com/event/meal-menu-20-3/
CATEGORIES:Cafeteria Menu,Faculty Events,Parent Events,Staff Events,Student Body Events
END:VEVENT
BEGIN:VEVENT
DTSTART;VALUE=DATE:20210513
DTEND;VALUE=DATE:20210514
DTSTAMP:20260420T233313
CREATED:20210428T180709Z
LAST-MODIFIED:20210428T180709Z
UID:10000162-1620864000-1620950399@senderoprep.com
SUMMARY:Meal Menu
DESCRIPTION:Breakfast\nWG French Toast\n100% Fruit Juice\nLF Milk \nLunch\nWG Corn Dog\nBaked Fries (1/2 c )\nFruit\nLF Milk
URL:https://senderoprep.com/event/meal-menu-19/
CATEGORIES:Cafeteria Menu,Faculty Events,Parent Events,Staff Events,Student Body Events
END:VEVENT
BEGIN:VEVENT
DTSTART;VALUE=DATE:20210513
DTEND;VALUE=DATE:20210514
DTSTAMP:20260420T233313
CREATED:20210428T180709Z
LAST-MODIFIED:20210428T180709Z
UID:10000172-1620864000-1620950399@senderoprep.com
SUMMARY:Meal Menu
DESCRIPTION:Breakfast\nWG French Toast\n100% Fruit Juice\nLF Milk \nLunch\nWG Corn Dog\nBaked Fries (1/2 c )\nFruit\nLF Milk
URL:https://senderoprep.com/event/meal-menu-19-2/
CATEGORIES:Cafeteria Menu,Faculty Events,Parent Events,Staff Events,Student Body Events
END:VEVENT
BEGIN:VEVENT
DTSTART;VALUE=DATE:20210513
DTEND;VALUE=DATE:20210514
DTSTAMP:20260420T233313
CREATED:20210428T180709Z
LAST-MODIFIED:20210428T180709Z
UID:10000534-1620864000-1620950399@senderoprep.com
SUMMARY:Meal Menu
DESCRIPTION:Breakfast\nWG French Toast\n100% Fruit Juice\nLF Milk \nLunch\nWG Corn Dog\nBaked Fries (1/2 c )\nFruit\nLF Milk
URL:https://senderoprep.com/event/meal-menu-19-3/
CATEGORIES:Cafeteria Menu,Faculty Events,Parent Events,Staff Events,Student Body Events
END:VEVENT
BEGIN:VEVENT
DTSTART;VALUE=DATE:20210513
DTEND;VALUE=DATE:20210514
DTSTAMP:20260420T233313
CREATED:20210428T180709Z
LAST-MODIFIED:20210428T180709Z
UID:10000544-1620864000-1620950399@senderoprep.com
SUMMARY:Meal Menu
DESCRIPTION:Breakfast\nWG French Toast\n100% Fruit Juice\nLF Milk \nLunch\nWG Corn Dog\nBaked Fries (1/2 c )\nFruit\nLF Milk
URL:https://senderoprep.com/event/meal-menu-19-2-2/
CATEGORIES:Cafeteria Menu,Faculty Events,Parent Events,Staff Events,Student Body Events
END:VEVENT
BEGIN:VEVENT
DTSTART;VALUE=DATE:20210512
DTEND;VALUE=DATE:20210513
DTSTAMP:20260420T233313
CREATED:20210428T180539Z
LAST-MODIFIED:20210428T180539Z
UID:10000533-1620777600-1620863999@senderoprep.com
SUMMARY:Meal Menu
DESCRIPTION:Breakfast\nWG Breakfast Burrito\nFruit\nLF Milk \nLunch\nChicken Teriyaki (3 oz)\nFried Rice ( 1/3 c )\nMixed vegetables ( ½ c )\nFruit\nLF Milk
URL:https://senderoprep.com/event/meal-menu-18-3/
CATEGORIES:Cafeteria Menu,Faculty Events,Parent Events,Staff Events,Student Body Events
END:VEVENT
BEGIN:VEVENT
DTSTART;VALUE=DATE:20210512
DTEND;VALUE=DATE:20210513
DTSTAMP:20260420T233313
CREATED:20210428T180539Z
LAST-MODIFIED:20210428T180539Z
UID:10000543-1620777600-1620863999@senderoprep.com
SUMMARY:Meal Menu
DESCRIPTION:Breakfast\nWG Breakfast Burrito\nFruit\nLF Milk \nLunch\nChicken Teriyaki (3 oz)\nFried Rice ( 1/3 c )\nMixed vegetables ( ½ c )\nFruit\nLF Milk
URL:https://senderoprep.com/event/meal-menu-18-2-2/
CATEGORIES:Cafeteria Menu,Faculty Events,Parent Events,Staff Events,Student Body Events
END:VEVENT
BEGIN:VEVENT
DTSTART;VALUE=DATE:20210512
DTEND;VALUE=DATE:20210513
DTSTAMP:20260420T233313
CREATED:20210428T180539Z
LAST-MODIFIED:20210428T180539Z
UID:10000161-1620777600-1620863999@senderoprep.com
SUMMARY:Meal Menu
DESCRIPTION:Breakfast\nWG Breakfast Burrito\nFruit\nLF Milk \nLunch\nChicken Teriyaki (3 oz)\nFried Rice ( 1/3 c )\nMixed vegetables ( ½ c )\nFruit\nLF Milk
URL:https://senderoprep.com/event/meal-menu-18/
CATEGORIES:Cafeteria Menu,Faculty Events,Parent Events,Staff Events,Student Body Events
END:VEVENT
BEGIN:VEVENT
DTSTART;VALUE=DATE:20210512
DTEND;VALUE=DATE:20210513
DTSTAMP:20260420T233313
CREATED:20210428T180539Z
LAST-MODIFIED:20210428T180539Z
UID:10000171-1620777600-1620863999@senderoprep.com
SUMMARY:Meal Menu
DESCRIPTION:Breakfast\nWG Breakfast Burrito\nFruit\nLF Milk \nLunch\nChicken Teriyaki (3 oz)\nFried Rice ( 1/3 c )\nMixed vegetables ( ½ c )\nFruit\nLF Milk
URL:https://senderoprep.com/event/meal-menu-18-2/
CATEGORIES:Cafeteria Menu,Faculty Events,Parent Events,Staff Events,Student Body Events
END:VEVENT
BEGIN:VEVENT
DTSTART;VALUE=DATE:20210511
DTEND;VALUE=DATE:20210512
DTSTAMP:20260420T233313
CREATED:20210428T180229Z
LAST-MODIFIED:20210428T180229Z
UID:10000160-1620691200-1620777599@senderoprep.com
SUMMARY:Meal Menu
DESCRIPTION:Breakfast\nWG Chocolate muffin\nFruit\nLF Milk \nLunch\nGreen Chile Meat w/ potato (1/2 c )\nRomaine Salad\nWG Flour tortilla\nFruit\nLF Milk
URL:https://senderoprep.com/event/meal-menu-17/
CATEGORIES:Cafeteria Menu,Faculty Events,Parent Events,Staff Events,Student Body Events
END:VEVENT
BEGIN:VEVENT
DTSTART;VALUE=DATE:20210510
DTEND;VALUE=DATE:20210511
DTSTAMP:20260420T233313
CREATED:20210428T180106Z
LAST-MODIFIED:20210428T180106Z
UID:10000159-1620604800-1620691199@senderoprep.com
SUMMARY:Meal Menu
DESCRIPTION:Breakfast\nWG Cereal ( 1 oz )\nFruit\nLF Milk \nLunch\nBaked Penne w/ chicken and Alfredo sauce\nBroccoli Florets\nFruit\nLF Milk
URL:https://senderoprep.com/event/meal-menu-16/
CATEGORIES:Cafeteria Menu,Faculty Events,Parent Events,Staff Events,Student Body Events
END:VEVENT
BEGIN:VEVENT
DTSTART;TZID=America/Denver:20210507T090000
DTEND;TZID=America/Denver:20210507T150000
DTSTAMP:20260420T233313
CREATED:20200930T171332Z
LAST-MODIFIED:20200930T171332Z
UID:10000065-1620378000-1620399600@senderoprep.com
SUMMARY:Extended Learning
DESCRIPTION:Extended Learning
URL:https://senderoprep.com/event/extended-learning-10/
CATEGORIES:Cafeteria Menu,Faculty Events,Governance Council Meetings,Parent Events,Staff Events,Student Assessment,Student Body Events,Student Council
END:VEVENT
BEGIN:VEVENT
DTSTART;VALUE=DATE:20210506
DTEND;VALUE=DATE:20210507
DTSTAMP:20260420T233313
CREATED:20210428T175927Z
LAST-MODIFIED:20210428T175927Z
UID:10000158-1620259200-1620345599@senderoprep.com
SUMMARY:Meal Menu
DESCRIPTION:Breakfast\nWG Cereal\nFruit\nLF Milk \nLunch\nSpaghetti w/ Meat Sauce\nGreen Beans\nWG Roll\nFruit\nLF Milk
URL:https://senderoprep.com/event/meal-menu-15/
CATEGORIES:Cafeteria Menu,Faculty Events,Parent Events,Staff Events,Student Body Events
END:VEVENT
BEGIN:VEVENT
DTSTART;VALUE=DATE:20210505
DTEND;VALUE=DATE:20210506
DTSTAMP:20260420T233313
CREATED:20210428T175759Z
LAST-MODIFIED:20210428T175759Z
UID:10000147-1620172800-1620172800@senderoprep.com
SUMMARY:Meal Menu
DESCRIPTION:Breakfast\nWG Muffin ( 2 oz )\nFruit\nLF Milk \nLunch\nWG Steak Fingers\nMashed Potatoes/ Gravy\nFruit\nLF Milk
URL:https://senderoprep.com/event/meal-menu-14/
CATEGORIES:Cafeteria Menu,Faculty Events,Parent Events,Staff Events,Student Body Events
END:VEVENT
BEGIN:VEVENT
DTSTART;VALUE=DATE:20210504
DTEND;VALUE=DATE:20210505
DTSTAMP:20260420T233313
CREATED:20210428T175626Z
LAST-MODIFIED:20210428T175626Z
UID:10000146-1620086400-1620172799@senderoprep.com
SUMMARY:Meal Menu
DESCRIPTION:Breakfast\nWG PB & J Sandwich\nFruit\nLF Milk \nLunch\nWG Chicken Sandwich\nBaby Carrots\nMacaroni Salad\nFruit\nLF Milk
URL:https://senderoprep.com/event/meal-menu-13/
CATEGORIES:Cafeteria Menu,Faculty Events,Parent Events,Staff Events,Student Body Events
END:VEVENT
BEGIN:VEVENT
DTSTART;VALUE=DATE:20210504
DTEND;VALUE=DATE:20210505
DTSTAMP:20260420T233313
CREATED:20210428T175626Z
LAST-MODIFIED:20210428T175626Z
UID:10000518-1620086400-1620172799@senderoprep.com
SUMMARY:Meal Menu
DESCRIPTION:Breakfast\nWG PB & J Sandwich\nFruit\nLF Milk \nLunch\nWG Chicken Sandwich\nBaby Carrots\nMacaroni Salad\nFruit\nLF Milk
URL:https://senderoprep.com/event/meal-menu-13-3/
CATEGORIES:Cafeteria Menu,Faculty Events,Parent Events,Staff Events,Student Body Events
END:VEVENT
BEGIN:VEVENT
DTSTART;VALUE=DATE:20210503
DTEND;VALUE=DATE:20210504
DTSTAMP:20260420T233313
CREATED:20210428T175437Z
LAST-MODIFIED:20210428T175437Z
UID:10000145-1620000000-1620086399@senderoprep.com
SUMMARY:Meal Menu
DESCRIPTION:Breakfast\nWG Cereal\nFruit\nLF Milk \nLunch\nHamburger/WG Bun\nBaked Fries\nFruit\nLF Milk
URL:https://senderoprep.com/event/meal-menu-12/
CATEGORIES:Cafeteria Menu,Faculty Events,Parent Events,Staff Events,Student Body Events
END:VEVENT
BEGIN:VEVENT
DTSTART;VALUE=DATE:20210503
DTEND;VALUE=DATE:20210504
DTSTAMP:20260420T233313
CREATED:20210428T175437Z
LAST-MODIFIED:20210428T175437Z
UID:10000517-1620000000-1620086399@senderoprep.com
SUMMARY:Meal Menu
DESCRIPTION:Breakfast\nWG Cereal\nFruit\nLF Milk \nLunch\nHamburger/WG Bun\nBaked Fries\nFruit\nLF Milk
URL:https://senderoprep.com/event/meal-menu-12-3/
CATEGORIES:Cafeteria Menu,Faculty Events,Parent Events,Staff Events,Student Body Events
END:VEVENT
BEGIN:VEVENT
DTSTART;VALUE=DATE:20210429
DTEND;VALUE=DATE:20210430
DTSTAMP:20260420T233313
CREATED:20210428T181909Z
LAST-MODIFIED:20210428T181909Z
UID:10000180-1619654400-1619740799@senderoprep.com
SUMMARY:Meal Menu
DESCRIPTION:Breakfast\nWG Waffles\nFruit\nLF Mil \nLunch\nBean & Cheese Tostada\nChopped Salad ( ½ c )\nFruit\nLF Milk
URL:https://senderoprep.com/event/meal-menu-27/
CATEGORIES:Cafeteria Menu,Faculty Events,Parent Events,Staff Events,Student Body Events
END:VEVENT
END:VCALENDAR