BEGIN:VCALENDAR
VERSION:2.0
PRODID:-//Sendero Prep - ECPv6.15.20//NONSGML v1.0//EN
CALSCALE:GREGORIAN
METHOD:PUBLISH
X-WR-CALNAME:Sendero Prep
X-ORIGINAL-URL:https://senderoprep.com
X-WR-CALDESC:Events for Sendero Prep
REFRESH-INTERVAL;VALUE=DURATION:PT1H
X-Robots-Tag:noindex
X-PUBLISHED-TTL:PT1H
BEGIN:VTIMEZONE
TZID:America/Denver
BEGIN:DAYLIGHT
TZOFFSETFROM:-0700
TZOFFSETTO:-0600
TZNAME:MDT
DTSTART:20200308T090000
END:DAYLIGHT
BEGIN:STANDARD
TZOFFSETFROM:-0600
TZOFFSETTO:-0700
TZNAME:MST
DTSTART:20201101T080000
END:STANDARD
BEGIN:DAYLIGHT
TZOFFSETFROM:-0700
TZOFFSETTO:-0600
TZNAME:MDT
DTSTART:20210314T090000
END:DAYLIGHT
BEGIN:STANDARD
TZOFFSETFROM:-0600
TZOFFSETTO:-0700
TZNAME:MST
DTSTART:20211107T080000
END:STANDARD
BEGIN:DAYLIGHT
TZOFFSETFROM:-0700
TZOFFSETTO:-0600
TZNAME:MDT
DTSTART:20220313T090000
END:DAYLIGHT
BEGIN:STANDARD
TZOFFSETFROM:-0600
TZOFFSETTO:-0700
TZNAME:MST
DTSTART:20221106T080000
END:STANDARD
END:VTIMEZONE
BEGIN:VEVENT
DTSTART;VALUE=DATE:20210426
DTEND;VALUE=DATE:20210427
DTSTAMP:20260421T040751
CREATED:20210428T181448Z
LAST-MODIFIED:20210428T181448Z
UID:10000167-1619395200-1619481599@senderoprep.com
SUMMARY:Meal Menu
DESCRIPTION:Breakfast\nWG Cereal\nFruit\nLF Milk \nLunch\nHot Dog/ WG Bun\nBaked Tots\nFruit\nLF Milk
URL:https://senderoprep.com/event/meal-menu-24/
CATEGORIES:Cafeteria Menu,Faculty Events,Parent Events,Staff Events
END:VEVENT
BEGIN:VEVENT
DTSTART;VALUE=DATE:20210426
DTEND;VALUE=DATE:20210427
DTSTAMP:20260421T040751
CREATED:20210428T181448Z
LAST-MODIFIED:20210428T181448Z
UID:10000177-1619395200-1619481599@senderoprep.com
SUMMARY:Meal Menu
DESCRIPTION:Breakfast\nWG Cereal\nFruit\nLF Milk \nLunch\nHot Dog/ WG Bun\nBaked Tots\nFruit\nLF Milk
URL:https://senderoprep.com/event/meal-menu-24-2/
CATEGORIES:Cafeteria Menu,Faculty Events,Parent Events,Staff Events
END:VEVENT
BEGIN:VEVENT
DTSTART;VALUE=DATE:20210426
DTEND;VALUE=DATE:20210427
DTSTAMP:20260421T040751
CREATED:20210428T181448Z
LAST-MODIFIED:20210428T181448Z
UID:10000539-1619395200-1619481599@senderoprep.com
SUMMARY:Meal Menu
DESCRIPTION:Breakfast\nWG Cereal\nFruit\nLF Milk \nLunch\nHot Dog/ WG Bun\nBaked Tots\nFruit\nLF Milk
URL:https://senderoprep.com/event/meal-menu-24-3/
CATEGORIES:Cafeteria Menu,Faculty Events,Parent Events,Staff Events
END:VEVENT
BEGIN:VEVENT
DTSTART;VALUE=DATE:20210426
DTEND;VALUE=DATE:20210427
DTSTAMP:20260421T040751
CREATED:20210428T181448Z
LAST-MODIFIED:20210428T181448Z
UID:10000549-1619395200-1619481599@senderoprep.com
SUMMARY:Meal Menu
DESCRIPTION:Breakfast\nWG Cereal\nFruit\nLF Milk \nLunch\nHot Dog/ WG Bun\nBaked Tots\nFruit\nLF Milk
URL:https://senderoprep.com/event/meal-menu-24-2-2/
CATEGORIES:Cafeteria Menu,Faculty Events,Parent Events,Staff Events
END:VEVENT
BEGIN:VEVENT
DTSTART;TZID=America/Denver:20210423T080000
DTEND;TZID=America/Denver:20210423T170000
DTSTAMP:20260421T040751
CREATED:20200930T174715Z
LAST-MODIFIED:20200930T174715Z
UID:10000105-1619164800-1619197200@senderoprep.com
SUMMARY:Professional Development
DESCRIPTION:Professional Development Cancelled
URL:https://senderoprep.com/event/professional-development-8/
CATEGORIES:Cafeteria Menu,Faculty Events,Governance Council Meetings,Parent Events,Staff Events,Student Assessment,Student Body Events,Student Council
END:VEVENT
BEGIN:VEVENT
DTSTART;TZID=America/Denver:20210422T080000
DTEND;TZID=America/Denver:20210422T170000
DTSTAMP:20260421T040751
CREATED:20200930T173908Z
LAST-MODIFIED:20200930T173908Z
UID:10000099-1619078400-1619110800@senderoprep.com
SUMMARY:End of Term 7
DESCRIPTION:End of Term 7
URL:https://senderoprep.com/event/end-of-term-7/
CATEGORIES:Cafeteria Menu,Faculty Events,Governance Council Meetings,Parent Events,Staff Events,Student Assessment,Student Body Events,Student Council
END:VEVENT
BEGIN:VEVENT
DTSTART;VALUE=DATE:20210422
DTEND;VALUE=DATE:20210423
DTSTAMP:20260421T040751
CREATED:20210420T201423Z
LAST-MODIFIED:20210420T201423Z
UID:10000144-1619049600-1619135999@senderoprep.com
SUMMARY:Meal Menu
DESCRIPTION:Breakfast\nBreakfast Omelet\nFruit\nLF Milk \nLunch\nBeef Soft Tacos (2)\nSpanish Rice ( 1/3 c )\nChopped Salad ( ½ c )\nFruit\nLF Milk
URL:https://senderoprep.com/event/meal-menu-11/
CATEGORIES:Cafeteria Menu,Faculty Events,Parent Events,Student Body Events
END:VEVENT
BEGIN:VEVENT
DTSTART;VALUE=DATE:20210421
DTEND;VALUE=DATE:20210422
DTSTAMP:20260421T040751
CREATED:20210420T201258Z
LAST-MODIFIED:20210420T201258Z
UID:10000143-1618963200-1619049599@senderoprep.com
SUMMARY:Meal Menu
DESCRIPTION:Breakfast\nWG Muffin\nFruit\nLF Milk \nLunch\nBBQ Sandwich ( 3 oz) / WG Roll\nPotato Salad ( ½ c )\nFruit\nLF Milk
URL:https://senderoprep.com/event/meal-menu-10/
CATEGORIES:Cafeteria Menu,Faculty Events,Parent Events,Student Body Events
END:VEVENT
BEGIN:VEVENT
DTSTART;TZID=America/Denver:20210420T173000
DTEND;TZID=America/Denver:20210420T183000
DTSTAMP:20260421T040751
CREATED:20200930T172640Z
LAST-MODIFIED:20200930T172640Z
UID:10000080-1618939800-1618943400@senderoprep.com
SUMMARY:Governance Council Meeting
DESCRIPTION:Governance Council Meeting
URL:https://senderoprep.com/event/governance-council-meeting-6/
CATEGORIES:Cafeteria Menu,Faculty Events,Governance Council Meetings,Parent Events,Staff Events,Student Assessment,Student Body Events,Student Council
END:VEVENT
BEGIN:VEVENT
DTSTART;VALUE=DATE:20210420
DTEND;VALUE=DATE:20210421
DTSTAMP:20260421T040751
CREATED:20210420T201133Z
LAST-MODIFIED:20210420T201133Z
UID:10000142-1618876800-1618963199@senderoprep.com
SUMMARY:Meal Menu
DESCRIPTION:Breakfast\nWG Waffles\nFruit\nLF Milk \nLunch\nWG Chicken Fried Steak/ gravy\nMashed Potatoes ( ¼  c )\nSteamed Corn ( ¼ c )\nFruit\nLF Milk
URL:https://senderoprep.com/event/meal-menu-9/
CATEGORIES:Cafeteria Menu,Faculty Events,Parent Events,Student Body Events
END:VEVENT
BEGIN:VEVENT
DTSTART;VALUE=DATE:20210419
DTEND;VALUE=DATE:20210420
DTSTAMP:20260421T040751
CREATED:20210420T180451Z
LAST-MODIFIED:20210420T180451Z
UID:10000141-1618790400-1618876799@senderoprep.com
SUMMARY:Meal Menu
DESCRIPTION:Breakfast\nWG Cereal (1.0 oz)\nFruit\nLF Milk \nLunch\nWG Pepperoni Pizza\nChopped Salad ( ½ c )\nFruit\nLF Milk
URL:https://senderoprep.com/event/meal-menu-8/
CATEGORIES:Cafeteria Menu,Faculty Events,Parent Events,Student Body Events
END:VEVENT
BEGIN:VEVENT
DTSTART;TZID=America/Denver:20210416T090000
DTEND;TZID=America/Denver:20210416T150000
DTSTAMP:20260421T040751
CREATED:20200930T171227Z
LAST-MODIFIED:20200930T171227Z
UID:10000064-1618563600-1618585200@senderoprep.com
SUMMARY:Extended Learning
DESCRIPTION:Extended Learning
URL:https://senderoprep.com/event/extended-learning-9/
CATEGORIES:Cafeteria Menu,Faculty Events,Governance Council Meetings,Parent Events,Staff Events,Student Assessment,Student Body Events,Student Council
END:VEVENT
BEGIN:VEVENT
DTSTART;VALUE=DATE:20210415
DTEND;VALUE=DATE:20210416
DTSTAMP:20260421T040751
CREATED:20210420T180321Z
LAST-MODIFIED:20210420T180321Z
UID:10000140-1618444800-1618531199@senderoprep.com
SUMMARY:Meal Menu
DESCRIPTION:Breakfast\nWG French Toast\n100% Fruit Juice\nLF Milk \nLunch\nWG Corn Dog\nBaked Fries (1/2 c )\nFruit\nLF Milk
URL:https://senderoprep.com/event/meal-menu-7/
CATEGORIES:Cafeteria Menu,Faculty Events,Parent Events,Student Body Events
END:VEVENT
BEGIN:VEVENT
DTSTART;VALUE=DATE:20210414
DTEND;VALUE=DATE:20210415
DTSTAMP:20260421T040751
CREATED:20210420T180142Z
LAST-MODIFIED:20210420T180142Z
UID:10000139-1618358400-1618444799@senderoprep.com
SUMMARY:Meal Menu
DESCRIPTION:Breakfast\nWG Breakfast Burrito\nFruit\nLF Milk \nLunch\nWG Chicken Sandwich\nBaby Carrots\nMacaroni Salad\nFruit\nLF Milk
URL:https://senderoprep.com/event/meal-menu-6/
CATEGORIES:Cafeteria Menu,Faculty Events,Parent Events,Student Body Events
END:VEVENT
BEGIN:VEVENT
DTSTART;VALUE=DATE:20210413
DTEND;VALUE=DATE:20210414
DTSTAMP:20260421T040751
CREATED:20210420T180013Z
LAST-MODIFIED:20210420T180013Z
UID:10000138-1618272000-1618358399@senderoprep.com
SUMMARY:Meal Menu
DESCRIPTION:Breakfast\nWG Chocolate muffin\nFruit\nLF Milk \nLunch\nSpaghetti w/ Meat Sauce\nGreen Beans\nWG Roll\nFruit\nLF Milk
URL:https://senderoprep.com/event/meal-menu-5/
CATEGORIES:Cafeteria Menu,Faculty Events,Parent Events,Student Body Events
END:VEVENT
BEGIN:VEVENT
DTSTART;VALUE=DATE:20210412
DTEND;VALUE=DATE:20210413
DTSTAMP:20260421T040751
CREATED:20210420T175832Z
LAST-MODIFIED:20210420T175832Z
UID:10000127-1618185600-1618271999@senderoprep.com
SUMMARY:Meal Menu
DESCRIPTION:Breakfast\nWG Cereal ( 1 oz )\nFruit\nLF Milk \nLunch\nSalisbury Steak w/ gravy\nMashed Potatoes\nWG Roll\nFruit\nLF Milk
URL:https://senderoprep.com/event/meal-menu-4/
CATEGORIES:Cafeteria Menu,Faculty Events,Student Body Events
END:VEVENT
BEGIN:VEVENT
DTSTART;VALUE=DATE:20210408
DTEND;VALUE=DATE:20210409
DTSTAMP:20260421T040751
CREATED:20210420T175637Z
LAST-MODIFIED:20210420T175637Z
UID:10000126-1617840000-1617926399@senderoprep.com
SUMMARY:Meal Menu
DESCRIPTION:Breakfast\nWG Bean & Cheese Burrito (4oz)\nFruit\nLF Milk \nLunch\nWG Pork Chop (1)\nMashed Potato ( ½ c )\nWG Roll (1)\nFruit\nLF Milk
URL:https://senderoprep.com/event/meal-menu-3/
CATEGORIES:Cafeteria Menu,Faculty Events,Parent Events,Student Body Events
END:VEVENT
BEGIN:VEVENT
DTSTART;VALUE=DATE:20210407
DTEND;VALUE=DATE:20210408
DTSTAMP:20260421T040751
CREATED:20210420T175427Z
LAST-MODIFIED:20210420T175427Z
UID:10000125-1617753600-1617839999@senderoprep.com
SUMMARY:Meal Menu
DESCRIPTION:Breakfast\nWG Muffin ( 2 oz )\nYogurt/ Fruit\nLF Milk \nLunch\nHot Dog/ WG Bun\nBaked Tots\nFruit\nLF Milk
URL:https://senderoprep.com/event/meal-menu-2/
CATEGORIES:Cafeteria Menu,Faculty Events,Parent Events,Student Body Events
END:VEVENT
BEGIN:VEVENT
DTSTART;VALUE=DATE:20210406
DTEND;VALUE=DATE:20210407
DTSTAMP:20260421T040751
CREATED:20210420T175120Z
LAST-MODIFIED:20210420T175120Z
UID:10000124-1617667200-1617753599@senderoprep.com
SUMMARY:Meal Menu
DESCRIPTION:Breakfast\nWG Mini Pancakes ( 2.6oz)\nFruit\nLF Milk \nLunch\nChicken Teriyaki (3 oz)\nFried Rice ( 1/3 c )\nMixed vegetables ( ½ c )\nFruit\nLF Milk
URL:https://senderoprep.com/event/meal-menu/
CATEGORIES:Cafeteria Menu,Faculty Events,Parent Events,Student Body Events
END:VEVENT
BEGIN:VEVENT
DTSTART;TZID=America/Denver:20210405T080000
DTEND;TZID=America/Denver:20210405T170000
DTSTAMP:20260421T040751
CREATED:20200930T175311Z
LAST-MODIFIED:20200930T175311Z
UID:10000119-1617609600-1617642000@senderoprep.com
SUMMARY:Spring Holiday-No School
DESCRIPTION:Spring Holiday-No School
URL:https://senderoprep.com/event/spring-holiday-no-school/
CATEGORIES:Cafeteria Menu,Faculty Events,Governance Council Meetings,Parent Events,Staff Events,Student Assessment,Student Body Events,Student Council
END:VEVENT
BEGIN:VEVENT
DTSTART;TZID=America/Denver:20210322T080000
DTEND;TZID=America/Denver:20210327T170000
DTSTAMP:20260421T040751
CREATED:20200930T175220Z
LAST-MODIFIED:20200930T175220Z
UID:10000118-1616400000-1616864400@senderoprep.com
SUMMARY:Spring Break
DESCRIPTION:Spring Break
URL:https://senderoprep.com/event/spring-break/
CATEGORIES:Cafeteria Menu,Faculty Events,Governance Council Meetings,Parent Events,Staff Events,Student Assessment,Student Body Events,Student Council
END:VEVENT
BEGIN:VEVENT
DTSTART;TZID=America/Denver:20210322T080000
DTEND;TZID=America/Denver:20210327T170000
DTSTAMP:20260421T040751
CREATED:20200930T175220Z
LAST-MODIFIED:20200930T175220Z
UID:10000128-1616400000-1616864400@senderoprep.com
SUMMARY:Spring Break
DESCRIPTION:Spring Break
URL:https://senderoprep.com/event/spring-break-2/
CATEGORIES:Cafeteria Menu,Faculty Events,Governance Council Meetings,Parent Events,Staff Events,Student Assessment,Student Body Events,Student Council
END:VEVENT
BEGIN:VEVENT
DTSTART;TZID=America/Denver:20210316T173000
DTEND;TZID=America/Denver:20210316T183000
DTSTAMP:20260421T040751
CREATED:20200930T172513Z
LAST-MODIFIED:20200930T172513Z
UID:10000079-1615915800-1615919400@senderoprep.com
SUMMARY:Governance Council Meeting
DESCRIPTION:Governance Council MeetingNOTICE OF ONLINE MEETING \nNOTICE IS GIVEN that a regular meeting of Las Montañas Charter High School Governance Council will be held at: \nLAS MONTAÑAS CHARTER HIGH SCHOOL\n1405 S. Solano\nLas Cruces\, NM 88001\nTuesday\, March 16\, 2021 @ 5:30 PM\nHELD VIRTUALLY: ZOOM\nJoin Zoom Meeting\nTopic: Governance Council March Meeting\nTime: March 16\, 2021 05:30 PM Mountain Time  \nTopic: March GC Meeting\nTime: Mar 16\, 2021 05:30 PM Mountain Time (US and Canada) \nJoin Zoom Meeting\nhttps://us04web.zoom.us/j/79417309690?pwd=ckVmRHFmK1FGb01Jcmw1WlZjemQ5Zz09 \nMeeting ID: 794 1730 9690\nPasscode: 7sJ5J6 \nFor The Transaction Of The Following Business\nDiscussion and Action on February\, 2021 Fiscal. \n Principal’s Report including School reentry plan in the hybrid model\, full reentry plan\, Social/Emotional Learning\nand other items that may be included on the agenda. \nA final agenda for the foregoing meeting may be obtained at\nwww.lasmontanashigh.com\nthree days prior to the meeting. \nIf you have any questions\, call\nLas Montañas Charter High School\nat 575-527-5916.
URL:https://senderoprep.com/event/governance-council-meeting-5/
CATEGORIES:Cafeteria Menu,Faculty Events,Governance Council Meetings,Parent Events,Staff Events,Student Assessment,Student Body Events,Student Council
END:VEVENT
BEGIN:VEVENT
DTSTART;TZID=America/Denver:20210315T080000
DTEND;TZID=America/Denver:20210315T170000
DTSTAMP:20260421T040751
CREATED:20200930T173455Z
LAST-MODIFIED:20200930T173455Z
UID:10000086-1615795200-1615827600@senderoprep.com
SUMMARY:Term 7 Begins
DESCRIPTION:Term 7 Begins
URL:https://senderoprep.com/event/term-7-begins/
CATEGORIES:Cafeteria Menu,Faculty Events,Governance Council Meetings,Parent Events,Staff Events,Student Assessment,Student Body Events,Student Council
END:VEVENT
BEGIN:VEVENT
DTSTART;TZID=America/Denver:20210312T080000
DTEND;TZID=America/Denver:20210312T170000
DTSTAMP:20260421T040751
CREATED:20200930T174605Z
LAST-MODIFIED:20200930T174605Z
UID:10000104-1615536000-1615568400@senderoprep.com
SUMMARY:Professional Development
DESCRIPTION:Professional Development
URL:https://senderoprep.com/event/professional-development-7/
CATEGORIES:Cafeteria Menu,Faculty Events,Governance Council Meetings,Parent Events,Staff Events,Student Assessment,Student Body Events,Student Council
END:VEVENT
BEGIN:VEVENT
DTSTART;TZID=America/Denver:20210311T080000
DTEND;TZID=America/Denver:20210311T170000
DTSTAMP:20260421T040751
CREATED:20200930T173803Z
LAST-MODIFIED:20200930T173803Z
UID:10000098-1615449600-1615482000@senderoprep.com
SUMMARY:End of Term 6
DESCRIPTION:End of Term 6
URL:https://senderoprep.com/event/end-of-term-6/
CATEGORIES:Cafeteria Menu,Faculty Events,Governance Council Meetings,Parent Events,Staff Events,Student Assessment,Student Body Events,Student Council
END:VEVENT
BEGIN:VEVENT
DTSTART;TZID=America/Denver:20210305T090000
DTEND;TZID=America/Denver:20210305T150000
DTSTAMP:20260421T040751
CREATED:20200930T171054Z
LAST-MODIFIED:20200930T171054Z
UID:10000063-1614934800-1614956400@senderoprep.com
SUMMARY:Extended Learning
DESCRIPTION:Extended Learning
URL:https://senderoprep.com/event/extended-learning-8/
CATEGORIES:Cafeteria Menu,Faculty Events,Governance Council Meetings,Parent Events,Staff Events,Student Assessment,Student Body Events,Student Council
END:VEVENT
BEGIN:VEVENT
DTSTART;TZID=America/Denver:20210226T090000
DTEND;TZID=America/Denver:20210226T150000
DTSTAMP:20260421T040751
CREATED:20200930T170909Z
LAST-MODIFIED:20200930T170909Z
UID:10000062-1614330000-1614351600@senderoprep.com
SUMMARY:Extended Learning
DESCRIPTION:Extended Learning
URL:https://senderoprep.com/event/extended-learning-7/
CATEGORIES:Cafeteria Menu,Faculty Events,Governance Council Meetings,Parent Events,Staff Events,Student Assessment,Student Body Events,Student Council
END:VEVENT
BEGIN:VEVENT
DTSTART;TZID=America/Denver:20210216T173000
DTEND;TZID=America/Denver:20210216T183000
DTSTAMP:20260421T040751
CREATED:20200930T172410Z
LAST-MODIFIED:20200930T172410Z
UID:10000078-1613496600-1613500200@senderoprep.com
SUMMARY:Governance Council Meeting: February 16\, 2021
DESCRIPTION:NOTICE OF ONLINE MEETING\nNOTICE IS GIVEN that a regular meeting of Las Montañas Charter High School Governance Council will be held at:\nLAS MONTAÑAS CHARTER HIGH SCHOOL\n1405 S. Solano\nLas Cruces\, NM 88001\nTuesday\, February 16\, 2021 @ 5:30 PM\nHELD VIRTUALLY: ZOOM\nJoin Zoom Meeting\nTopic: Governance Council October Meeting\nTime: February 16\, 2021 05:30 PM Mountain Time\nJoin Zoom Meeting\nhttps://us04web.zoom.us/j/77479251145?pwd=S1AvMlExYnkwaGdFb3A0WWNBNjlXQT09\nMeeting ID: 774 7925 1145\nPasscode: E6xDc8\nFor The Transaction Of The Following Business Discussion and Action on January\, 2021 Fiscal.\nPrincipal’s Report including School reentry plan in the hybrid model and other items that may be included on the agenda.\n A final agenda for the foregoing meeting may be obtained at www.lasmontanashigh.com three days prior to the meeting.\nIf you have any questions\, call Las Montañas Charter High School at 575-527-5916.\n \n“Home of the Rams” 
URL:https://senderoprep.com/event/governance-council-meeting-4/
CATEGORIES:Cafeteria Menu,Faculty Events,Governance Council Meetings,Parent Events,Staff Events,Student Assessment,Student Body Events,Student Council
END:VEVENT
BEGIN:VEVENT
DTSTART;TZID=America/Denver:20210215T080000
DTEND;TZID=America/Denver:20210215T170000
DTSTAMP:20260421T040751
CREATED:20200930T174824Z
LAST-MODIFIED:20200930T174824Z
UID:10000106-1613376000-1613408400@senderoprep.com
SUMMARY:Presidents' Day-No School
DESCRIPTION:Presidents’ Day-No School
URL:https://senderoprep.com/event/dr-king-holiday-no-school/
CATEGORIES:Cafeteria Menu,Faculty Events,Governance Council Meetings,Parent Events,Staff Events,Student Assessment,Student Body Events,Student Council
END:VEVENT
END:VCALENDAR