BEGIN:VCALENDAR
VERSION:2.0
PRODID:-//Sendero Prep - ECPv6.15.20//NONSGML v1.0//EN
CALSCALE:GREGORIAN
METHOD:PUBLISH
X-WR-CALNAME:Sendero Prep
X-ORIGINAL-URL:https://senderoprep.com
X-WR-CALDESC:Events for Sendero Prep
REFRESH-INTERVAL;VALUE=DURATION:PT1H
X-Robots-Tag:noindex
X-PUBLISHED-TTL:PT1H
BEGIN:VTIMEZONE
TZID:America/Denver
BEGIN:DAYLIGHT
TZOFFSETFROM:-0700
TZOFFSETTO:-0600
TZNAME:MDT
DTSTART:20240310T090000
END:DAYLIGHT
BEGIN:STANDARD
TZOFFSETFROM:-0600
TZOFFSETTO:-0700
TZNAME:MST
DTSTART:20241103T080000
END:STANDARD
BEGIN:DAYLIGHT
TZOFFSETFROM:-0700
TZOFFSETTO:-0600
TZNAME:MDT
DTSTART:20250309T090000
END:DAYLIGHT
BEGIN:STANDARD
TZOFFSETFROM:-0600
TZOFFSETTO:-0700
TZNAME:MST
DTSTART:20251102T080000
END:STANDARD
BEGIN:DAYLIGHT
TZOFFSETFROM:-0700
TZOFFSETTO:-0600
TZNAME:MDT
DTSTART:20260308T090000
END:DAYLIGHT
BEGIN:STANDARD
TZOFFSETFROM:-0600
TZOFFSETTO:-0700
TZNAME:MST
DTSTART:20261101T080000
END:STANDARD
END:VTIMEZONE
BEGIN:VEVENT
DTSTART;TZID=America/Denver:20250617T173000
DTEND;TZID=America/Denver:20250617T183000
DTSTAMP:20260419T145255
CREATED:20200827T170027Z
LAST-MODIFIED:20200827T170027Z
UID:10000017-1750181400-1750185000@senderoprep.com
SUMMARY:LMCHS Governance Council September Meeting
DESCRIPTION:NOTICE IS GIVEN that a regular meeting of Las Montañas Charter High School\nGovernance Council will be held at:\nLAS MONTAÑAS CHARTER HIGH SCHOOL\n1405 S. Solano\nLas Cruces\, NM 88001\nTuesday\, September 15\, 2020\nHELD VIRTUALLY: ZOOM\nJoin Zoom Meeting\nhttps://us04web.zoom.us/j/75332616536?pwd=eXhjajQ0eVhWT3R0S\nlZxWWlvNzBHUT09\nMeeting ID: 753 3261 6536\nPasscode: 39CPuL    at 5:30 PM\nFor The Transaction Of The Following Business\nDiscussion and Action on August\, 2020 Fiscal.\nPrincipal’s Report including School reentry\, enrollment\, student engagement\,\nand other items as may be included on the agenda.\nA final agenda for the foregoing meeting may be obtained at\nwww.lasmontanashigh.com\nthree days prior to the meeting.\nIf you have any questions\, call\nLas Montañas Charter High School\nat 575-527-5916.\n“Home of the Rams”\nVirtual Meeting (ensure Zoom is setup 20 min prior to meeting) \n 
URL:https://senderoprep.com/event/lmchs-governance-council-september-meeting-2/2025-06-17/
CATEGORIES:Governance Council Meetings
ATTACH;FMTTYPE=image/png:https://senderoprep.com/wp-content/uploads/2020/06/no-photo-available.png
END:VEVENT
BEGIN:VEVENT
DTSTART;TZID=America/Denver:20250617T173000
DTEND;TZID=America/Denver:20250617T183000
DTSTAMP:20260419T145255
CREATED:20200827T170027Z
LAST-MODIFIED:20200827T170027Z
UID:10000389-1750181400-1750185000@senderoprep.com
SUMMARY:LMCHS Governance Council September Meeting
DESCRIPTION:NOTICE IS GIVEN that a regular meeting of Las Montañas Charter High School\nGovernance Council will be held at:\nLAS MONTAÑAS CHARTER HIGH SCHOOL\n1405 S. Solano\nLas Cruces\, NM 88001\nTuesday\, September 15\, 2020\nHELD VIRTUALLY: ZOOM\nJoin Zoom Meeting\nhttps://us04web.zoom.us/j/75332616536?pwd=eXhjajQ0eVhWT3R0S\nlZxWWlvNzBHUT09\nMeeting ID: 753 3261 6536\nPasscode: 39CPuL    at 5:30 PM\nFor The Transaction Of The Following Business\nDiscussion and Action on August\, 2020 Fiscal.\nPrincipal’s Report including School reentry\, enrollment\, student engagement\,\nand other items as may be included on the agenda.\nA final agenda for the foregoing meeting may be obtained at\nwww.lasmontanashigh.com\nthree days prior to the meeting.\nIf you have any questions\, call\nLas Montañas Charter High School\nat 575-527-5916.\n“Home of the Rams”\nVirtual Meeting (ensure Zoom is setup 20 min prior to meeting) \n 
URL:https://senderoprep.com/event/lmchs-governance-council-september-meeting-2-2/2025-06-17/
CATEGORIES:Governance Council Meetings
ATTACH;FMTTYPE=image/png:https://senderoprep.com/wp-content/uploads/2020/06/no-photo-available.png
END:VEVENT
BEGIN:VEVENT
DTSTART;TZID=America/Denver:20250617T173000
DTEND;TZID=America/Denver:20250617T183000
DTSTAMP:20260419T145255
CREATED:20200827T170027Z
LAST-MODIFIED:20200827T170027Z
UID:10000036-1750181400-1750185000@senderoprep.com
SUMMARY:LMCHS Governance Council September Meeting
DESCRIPTION:NOTICE IS GIVEN that a regular meeting of Las Montañas Charter High School\nGovernance Council will be held at:\nLAS MONTAÑAS CHARTER HIGH SCHOOL\n1405 S. Solano\nLas Cruces\, NM 88001\nTuesday\, September 15\, 2020\nHELD VIRTUALLY: ZOOM\nJoin Zoom Meeting\nhttps://us04web.zoom.us/j/75332616536?pwd=eXhjajQ0eVhWT3R0S\nlZxWWlvNzBHUT09\nMeeting ID: 753 3261 6536\nPasscode: 39CPuL    at 5:30 PM\nFor The Transaction Of The Following Business\nDiscussion and Action on August\, 2020 Fiscal.\nPrincipal’s Report including School reentry\, enrollment\, student engagement\,\nand other items as may be included on the agenda.\nA final agenda for the foregoing meeting may be obtained at\nwww.lasmontanashigh.com\nthree days prior to the meeting.\nIf you have any questions\, call\nLas Montañas Charter High School\nat 575-527-5916.\n“Home of the Rams”\nVirtual Meeting (ensure Zoom is setup 20 min prior to meeting) \n 
URL:https://senderoprep.com/event/lmchs-governance-council-september-meeting-2022-09-20-2022-10-18-2/2025-06-17/
CATEGORIES:Governance Council Meetings
ATTACH;FMTTYPE=image/png:https://senderoprep.com/wp-content/uploads/2020/06/no-photo-available.png
END:VEVENT
BEGIN:VEVENT
DTSTART;TZID=America/Denver:20250617T173000
DTEND;TZID=America/Denver:20250617T183000
DTSTAMP:20260419T145255
CREATED:20200827T170027Z
LAST-MODIFIED:20200827T170027Z
UID:10000408-1750181400-1750185000@senderoprep.com
SUMMARY:LMCHS Governance Council September Meeting
DESCRIPTION:NOTICE IS GIVEN that a regular meeting of Las Montañas Charter High School\nGovernance Council will be held at:\nLAS MONTAÑAS CHARTER HIGH SCHOOL\n1405 S. Solano\nLas Cruces\, NM 88001\nTuesday\, September 15\, 2020\nHELD VIRTUALLY: ZOOM\nJoin Zoom Meeting\nhttps://us04web.zoom.us/j/75332616536?pwd=eXhjajQ0eVhWT3R0S\nlZxWWlvNzBHUT09\nMeeting ID: 753 3261 6536\nPasscode: 39CPuL    at 5:30 PM\nFor The Transaction Of The Following Business\nDiscussion and Action on August\, 2020 Fiscal.\nPrincipal’s Report including School reentry\, enrollment\, student engagement\,\nand other items as may be included on the agenda.\nA final agenda for the foregoing meeting may be obtained at\nwww.lasmontanashigh.com\nthree days prior to the meeting.\nIf you have any questions\, call\nLas Montañas Charter High School\nat 575-527-5916.\n“Home of the Rams”\nVirtual Meeting (ensure Zoom is setup 20 min prior to meeting) \n 
URL:https://senderoprep.com/event/lmchs-governance-council-september-meeting-2022-09-20-2022-10-18-2-2025-06-17-2/
CATEGORIES:Governance Council Meetings
ATTACH;FMTTYPE=image/png:https://senderoprep.com/wp-content/uploads/2020/06/no-photo-available.png
END:VEVENT
BEGIN:VEVENT
DTSTART;TZID=America/Denver:20250617T173000
DTEND;TZID=America/Denver:20250617T183000
DTSTAMP:20260419T145255
CREATED:20200827T170027Z
LAST-MODIFIED:20200827T170027Z
UID:10000037-1750181400-1750185000@senderoprep.com
SUMMARY:LMCHS Governance Council September Meeting
DESCRIPTION:NOTICE OF ONLINE MEETING \n NOTICE IS GIVEN that a regular meeting of Las Montañas Charter High School Governance Council will be held at:  \nLAS MONTAÑAS CHARTER HIGH SCHOOL \n1405 S. Solano\, Las Cruces\, NM 88001 \nTopic: December GC Meeting \nTime: Dec 13\, 2022 05:30 PM Mountain Time (US and Canada) \nJoin Zoom Meeting \nhttps://us04web.zoom.us/j/78332806153?pwd=RJ3MDxm1U7xvaxwUuPbLw3AIHMdnrM.1 \nMeeting ID: 783 3280 6153 \nPasscode: WZHVG3 \nDecember  13\, 2022\, 5:30 PM \nFor The Transaction Of The Following Business \nDiscussion and Action on November\, 2022 Fiscal\, potential board member addition.  \n Principal’s Report including Enrollment\, End of Semester\, Accelerated Learning\, and other items that may be included on the agenda. \n A final agenda for the foregoing meeting may be obtained at www.lasmontanashigh.com three days prior to the meeting. \n If you have any questions\, call Las Montañas Charter High School at 575-527-5916. \n “Home of the Rams”  \n  \n\n 
URL:https://senderoprep.com/event/lmchs-governance-council-september-meeting-2022-09-20-2022-12-20/2025-06-17/
CATEGORIES:Governance Council Meetings
ATTACH;FMTTYPE=image/png:https://senderoprep.com/wp-content/uploads/2020/06/no-photo-available.png
END:VEVENT
BEGIN:VEVENT
DTSTART;TZID=America/Denver:20250617T173000
DTEND;TZID=America/Denver:20250617T183000
DTSTAMP:20260419T145255
CREATED:20200827T170027Z
LAST-MODIFIED:20200827T170027Z
UID:10000409-1750181400-1750185000@senderoprep.com
SUMMARY:LMCHS Governance Council September Meeting
DESCRIPTION:NOTICE OF ONLINE MEETING \n NOTICE IS GIVEN that a regular meeting of Las Montañas Charter High School Governance Council will be held at:  \nLAS MONTAÑAS CHARTER HIGH SCHOOL \n1405 S. Solano\, Las Cruces\, NM 88001 \nTopic: December GC Meeting \nTime: Dec 13\, 2022 05:30 PM Mountain Time (US and Canada) \nJoin Zoom Meeting \nhttps://us04web.zoom.us/j/78332806153?pwd=RJ3MDxm1U7xvaxwUuPbLw3AIHMdnrM.1 \nMeeting ID: 783 3280 6153 \nPasscode: WZHVG3 \nDecember  13\, 2022\, 5:30 PM \nFor The Transaction Of The Following Business \nDiscussion and Action on November\, 2022 Fiscal\, potential board member addition.  \n Principal’s Report including Enrollment\, End of Semester\, Accelerated Learning\, and other items that may be included on the agenda. \n A final agenda for the foregoing meeting may be obtained at www.lasmontanashigh.com three days prior to the meeting. \n If you have any questions\, call Las Montañas Charter High School at 575-527-5916. \n “Home of the Rams”  \n  \n\n 
URL:https://senderoprep.com/event/lmchs-governance-council-september-meeting-2022-09-20-2022-12-20-2025-06-17-2/
CATEGORIES:Governance Council Meetings
ATTACH;FMTTYPE=image/png:https://senderoprep.com/wp-content/uploads/2020/06/no-photo-available.png
END:VEVENT
BEGIN:VEVENT
DTSTART;TZID=America/Denver:20250530T083000
DTEND;TZID=America/Denver:20250530T170000
DTSTAMP:20260419T145255
CREATED:20240717T191843Z
LAST-MODIFIED:20240717T191843Z
UID:10000351-1748593800-1748624400@senderoprep.com
SUMMARY:End of Spring Semester
DESCRIPTION:
URL:https://senderoprep.com/event/end-of-spring-semester/
END:VEVENT
BEGIN:VEVENT
DTSTART;TZID=America/Denver:20250526T080000
DTEND;TZID=America/Denver:20250526T170000
DTSTAMP:20260419T145255
CREATED:20240717T191757Z
LAST-MODIFIED:20240717T191757Z
UID:10000350-1748246400-1748278800@senderoprep.com
SUMMARY:Memorial Day (No School)
DESCRIPTION:
URL:https://senderoprep.com/event/memorial-day-no-school/
END:VEVENT
BEGIN:VEVENT
DTSTART;TZID=America/Denver:20250522T183000
DTEND;TZID=America/Denver:20250522T193000
DTSTAMP:20260419T145255
CREATED:20240717T191723Z
LAST-MODIFIED:20240717T191723Z
UID:10000349-1747938600-1747942200@senderoprep.com
SUMMARY:Graduation at LCCC
DESCRIPTION:
URL:https://senderoprep.com/event/graduation-at-lccc/
END:VEVENT
BEGIN:VEVENT
DTSTART;TZID=America/Denver:20250520T173000
DTEND;TZID=America/Denver:20250520T183000
DTSTAMP:20260419T145255
CREATED:20200827T170027Z
LAST-MODIFIED:20200827T170027Z
UID:10000014-1747762200-1747765800@senderoprep.com
SUMMARY:LMCHS Governance Council September Meeting
DESCRIPTION:NOTICE IS GIVEN that a regular meeting of Las Montañas Charter High School\nGovernance Council will be held at:\nLAS MONTAÑAS CHARTER HIGH SCHOOL\n1405 S. Solano\nLas Cruces\, NM 88001\nTuesday\, September 15\, 2020\nHELD VIRTUALLY: ZOOM\nJoin Zoom Meeting\nhttps://us04web.zoom.us/j/75332616536?pwd=eXhjajQ0eVhWT3R0S\nlZxWWlvNzBHUT09\nMeeting ID: 753 3261 6536\nPasscode: 39CPuL    at 5:30 PM\nFor The Transaction Of The Following Business\nDiscussion and Action on August\, 2020 Fiscal.\nPrincipal’s Report including School reentry\, enrollment\, student engagement\,\nand other items as may be included on the agenda.\nA final agenda for the foregoing meeting may be obtained at\nwww.lasmontanashigh.com\nthree days prior to the meeting.\nIf you have any questions\, call\nLas Montañas Charter High School\nat 575-527-5916.\n“Home of the Rams”\nVirtual Meeting (ensure Zoom is setup 20 min prior to meeting) \n 
URL:https://senderoprep.com/event/lmchs-governance-council-september-meeting-2/2025-05-20/
CATEGORIES:Governance Council Meetings
ATTACH;FMTTYPE=image/png:https://senderoprep.com/wp-content/uploads/2020/06/no-photo-available.png
END:VEVENT
BEGIN:VEVENT
DTSTART;TZID=America/Denver:20250520T173000
DTEND;TZID=America/Denver:20250520T183000
DTSTAMP:20260419T145255
CREATED:20200827T170027Z
LAST-MODIFIED:20200827T170027Z
UID:10000386-1747762200-1747765800@senderoprep.com
SUMMARY:LMCHS Governance Council September Meeting
DESCRIPTION:NOTICE IS GIVEN that a regular meeting of Las Montañas Charter High School\nGovernance Council will be held at:\nLAS MONTAÑAS CHARTER HIGH SCHOOL\n1405 S. Solano\nLas Cruces\, NM 88001\nTuesday\, September 15\, 2020\nHELD VIRTUALLY: ZOOM\nJoin Zoom Meeting\nhttps://us04web.zoom.us/j/75332616536?pwd=eXhjajQ0eVhWT3R0S\nlZxWWlvNzBHUT09\nMeeting ID: 753 3261 6536\nPasscode: 39CPuL    at 5:30 PM\nFor The Transaction Of The Following Business\nDiscussion and Action on August\, 2020 Fiscal.\nPrincipal’s Report including School reentry\, enrollment\, student engagement\,\nand other items as may be included on the agenda.\nA final agenda for the foregoing meeting may be obtained at\nwww.lasmontanashigh.com\nthree days prior to the meeting.\nIf you have any questions\, call\nLas Montañas Charter High School\nat 575-527-5916.\n“Home of the Rams”\nVirtual Meeting (ensure Zoom is setup 20 min prior to meeting) \n 
URL:https://senderoprep.com/event/lmchs-governance-council-september-meeting-2-2/2025-05-20/
CATEGORIES:Governance Council Meetings
ATTACH;FMTTYPE=image/png:https://senderoprep.com/wp-content/uploads/2020/06/no-photo-available.png
END:VEVENT
BEGIN:VEVENT
DTSTART;TZID=America/Denver:20250520T173000
DTEND;TZID=America/Denver:20250520T183000
DTSTAMP:20260419T145255
CREATED:20200827T170027Z
LAST-MODIFIED:20200827T170027Z
UID:10000015-1747762200-1747765800@senderoprep.com
SUMMARY:LMCHS Governance Council September Meeting
DESCRIPTION:NOTICE IS GIVEN that a regular meeting of Las Montañas Charter High School\nGovernance Council will be held at:\nLAS MONTAÑAS CHARTER HIGH SCHOOL\n1405 S. Solano\nLas Cruces\, NM 88001\nTuesday\, September 15\, 2020\nHELD VIRTUALLY: ZOOM\nJoin Zoom Meeting\nhttps://us04web.zoom.us/j/75332616536?pwd=eXhjajQ0eVhWT3R0S\nlZxWWlvNzBHUT09\nMeeting ID: 753 3261 6536\nPasscode: 39CPuL    at 5:30 PM\nFor The Transaction Of The Following Business\nDiscussion and Action on August\, 2020 Fiscal.\nPrincipal’s Report including School reentry\, enrollment\, student engagement\,\nand other items as may be included on the agenda.\nA final agenda for the foregoing meeting may be obtained at\nwww.lasmontanashigh.com\nthree days prior to the meeting.\nIf you have any questions\, call\nLas Montañas Charter High School\nat 575-527-5916.\n“Home of the Rams”\nVirtual Meeting (ensure Zoom is setup 20 min prior to meeting) \n 
URL:https://senderoprep.com/event/lmchs-governance-council-september-meeting-2022-09-20-2022-10-18-2/2025-05-20/
CATEGORIES:Governance Council Meetings
ATTACH;FMTTYPE=image/png:https://senderoprep.com/wp-content/uploads/2020/06/no-photo-available.png
END:VEVENT
BEGIN:VEVENT
DTSTART;TZID=America/Denver:20250520T173000
DTEND;TZID=America/Denver:20250520T183000
DTSTAMP:20260419T145255
CREATED:20200827T170027Z
LAST-MODIFIED:20200827T170027Z
UID:10000387-1747762200-1747765800@senderoprep.com
SUMMARY:LMCHS Governance Council September Meeting
DESCRIPTION:NOTICE IS GIVEN that a regular meeting of Las Montañas Charter High School\nGovernance Council will be held at:\nLAS MONTAÑAS CHARTER HIGH SCHOOL\n1405 S. Solano\nLas Cruces\, NM 88001\nTuesday\, September 15\, 2020\nHELD VIRTUALLY: ZOOM\nJoin Zoom Meeting\nhttps://us04web.zoom.us/j/75332616536?pwd=eXhjajQ0eVhWT3R0S\nlZxWWlvNzBHUT09\nMeeting ID: 753 3261 6536\nPasscode: 39CPuL    at 5:30 PM\nFor The Transaction Of The Following Business\nDiscussion and Action on August\, 2020 Fiscal.\nPrincipal’s Report including School reentry\, enrollment\, student engagement\,\nand other items as may be included on the agenda.\nA final agenda for the foregoing meeting may be obtained at\nwww.lasmontanashigh.com\nthree days prior to the meeting.\nIf you have any questions\, call\nLas Montañas Charter High School\nat 575-527-5916.\n“Home of the Rams”\nVirtual Meeting (ensure Zoom is setup 20 min prior to meeting) \n 
URL:https://senderoprep.com/event/lmchs-governance-council-september-meeting-2022-09-20-2022-10-18-2-2025-05-20-2/
CATEGORIES:Governance Council Meetings
ATTACH;FMTTYPE=image/png:https://senderoprep.com/wp-content/uploads/2020/06/no-photo-available.png
END:VEVENT
BEGIN:VEVENT
DTSTART;TZID=America/Denver:20250520T173000
DTEND;TZID=America/Denver:20250520T183000
DTSTAMP:20260419T145255
CREATED:20200827T170027Z
LAST-MODIFIED:20200827T170027Z
UID:10000016-1747762200-1747765800@senderoprep.com
SUMMARY:LMCHS Governance Council September Meeting
DESCRIPTION:NOTICE OF ONLINE MEETING \n NOTICE IS GIVEN that a regular meeting of Las Montañas Charter High School Governance Council will be held at:  \nLAS MONTAÑAS CHARTER HIGH SCHOOL \n1405 S. Solano\, Las Cruces\, NM 88001 \nTopic: December GC Meeting \nTime: Dec 13\, 2022 05:30 PM Mountain Time (US and Canada) \nJoin Zoom Meeting \nhttps://us04web.zoom.us/j/78332806153?pwd=RJ3MDxm1U7xvaxwUuPbLw3AIHMdnrM.1 \nMeeting ID: 783 3280 6153 \nPasscode: WZHVG3 \nDecember  13\, 2022\, 5:30 PM \nFor The Transaction Of The Following Business \nDiscussion and Action on November\, 2022 Fiscal\, potential board member addition.  \n Principal’s Report including Enrollment\, End of Semester\, Accelerated Learning\, and other items that may be included on the agenda. \n A final agenda for the foregoing meeting may be obtained at www.lasmontanashigh.com three days prior to the meeting. \n If you have any questions\, call Las Montañas Charter High School at 575-527-5916. \n “Home of the Rams”  \n  \n\n 
URL:https://senderoprep.com/event/lmchs-governance-council-september-meeting-2022-09-20-2022-12-20/2025-05-20/
CATEGORIES:Governance Council Meetings
ATTACH;FMTTYPE=image/png:https://senderoprep.com/wp-content/uploads/2020/06/no-photo-available.png
END:VEVENT
BEGIN:VEVENT
DTSTART;TZID=America/Denver:20250520T173000
DTEND;TZID=America/Denver:20250520T183000
DTSTAMP:20260419T145255
CREATED:20200827T170027Z
LAST-MODIFIED:20200827T170027Z
UID:10000388-1747762200-1747765800@senderoprep.com
SUMMARY:LMCHS Governance Council September Meeting
DESCRIPTION:NOTICE OF ONLINE MEETING \n NOTICE IS GIVEN that a regular meeting of Las Montañas Charter High School Governance Council will be held at:  \nLAS MONTAÑAS CHARTER HIGH SCHOOL \n1405 S. Solano\, Las Cruces\, NM 88001 \nTopic: December GC Meeting \nTime: Dec 13\, 2022 05:30 PM Mountain Time (US and Canada) \nJoin Zoom Meeting \nhttps://us04web.zoom.us/j/78332806153?pwd=RJ3MDxm1U7xvaxwUuPbLw3AIHMdnrM.1 \nMeeting ID: 783 3280 6153 \nPasscode: WZHVG3 \nDecember  13\, 2022\, 5:30 PM \nFor The Transaction Of The Following Business \nDiscussion and Action on November\, 2022 Fiscal\, potential board member addition.  \n Principal’s Report including Enrollment\, End of Semester\, Accelerated Learning\, and other items that may be included on the agenda. \n A final agenda for the foregoing meeting may be obtained at www.lasmontanashigh.com three days prior to the meeting. \n If you have any questions\, call Las Montañas Charter High School at 575-527-5916. \n “Home of the Rams”  \n  \n\n 
URL:https://senderoprep.com/event/lmchs-governance-council-september-meeting-2022-09-20-2022-12-20-2025-05-20-2/
CATEGORIES:Governance Council Meetings
ATTACH;FMTTYPE=image/png:https://senderoprep.com/wp-content/uploads/2020/06/no-photo-available.png
END:VEVENT
BEGIN:VEVENT
DTSTART;TZID=America/Denver:20250428T083000
DTEND;TZID=America/Denver:20250428T160500
DTSTAMP:20260419T145255
CREATED:20240717T164309Z
LAST-MODIFIED:20240717T164309Z
UID:10000348-1745829000-1745856300@senderoprep.com
SUMMARY:Term 8 Starts
DESCRIPTION:
URL:https://senderoprep.com/event/term-8-starts/
END:VEVENT
BEGIN:VEVENT
DTSTART;TZID=America/Denver:20250424T080000
DTEND;TZID=America/Denver:20250424T170000
DTSTAMP:20260419T145255
CREATED:20240717T164222Z
LAST-MODIFIED:20240717T164222Z
UID:10000347-1745481600-1745514000@senderoprep.com
SUMMARY:Term 7 Ends
DESCRIPTION:
URL:https://senderoprep.com/event/term-7-ends-2/
END:VEVENT
BEGIN:VEVENT
DTSTART;TZID=America/Denver:20250421T083000
DTEND;TZID=America/Denver:20250421T160500
DTSTAMP:20260419T145255
CREATED:20240717T164129Z
LAST-MODIFIED:20240717T164129Z
UID:10000346-1745224200-1745251500@senderoprep.com
SUMMARY:Remote Day
DESCRIPTION:
URL:https://senderoprep.com/event/remote-day-2/
END:VEVENT
BEGIN:VEVENT
DTSTART;TZID=America/Denver:20250411T090000
DTEND;TZID=America/Denver:20250411T140000
DTSTAMP:20260419T145255
CREATED:20240717T151301Z
LAST-MODIFIED:20240717T151301Z
UID:10000345-1744362000-1744380000@senderoprep.com
SUMMARY:School Day (Enrichment)
DESCRIPTION:
URL:https://senderoprep.com/event/school-day-enrichment-4/
END:VEVENT
BEGIN:VEVENT
DTSTART;TZID=America/Denver:20250324T083000
DTEND;TZID=America/Denver:20250324T160500
DTSTAMP:20260419T145255
CREATED:20240717T151121Z
LAST-MODIFIED:20240717T151121Z
UID:10000344-1742805000-1742832300@senderoprep.com
SUMMARY:Term 7 Starts
DESCRIPTION:
URL:https://senderoprep.com/event/term-7-starts/
END:VEVENT
BEGIN:VEVENT
DTSTART;TZID=America/Denver:20250310T083000
DTEND;TZID=America/Denver:20250321T160500
DTSTAMP:20260419T145255
CREATED:20240717T150740Z
LAST-MODIFIED:20240717T150740Z
UID:10000343-1741595400-1742573100@senderoprep.com
SUMMARY:Spring Break (No School)
DESCRIPTION:
URL:https://senderoprep.com/event/spring-break-no-school/
END:VEVENT
BEGIN:VEVENT
DTSTART;TZID=America/Denver:20250306T080000
DTEND;TZID=America/Denver:20250306T170000
DTSTAMP:20260419T145255
CREATED:20240717T150508Z
LAST-MODIFIED:20240717T150508Z
UID:10000341-1741248000-1741280400@senderoprep.com
SUMMARY:Term 6 Ends
DESCRIPTION:
URL:https://senderoprep.com/event/term-6-ends-3/
END:VEVENT
BEGIN:VEVENT
DTSTART;TZID=America/Denver:20250221T080000
DTEND;TZID=America/Denver:20250221T170000
DTSTAMP:20260419T145255
CREATED:20240717T150325Z
LAST-MODIFIED:20240717T150325Z
UID:10000340-1740124800-1740157200@senderoprep.com
SUMMARY:Next Step Planning (No School)
DESCRIPTION:
URL:https://senderoprep.com/event/next-step-planning-no-school/
END:VEVENT
BEGIN:VEVENT
DTSTART;TZID=America/Denver:20250219T100000
DTEND;TZID=America/Denver:20250219T110000
DTSTAMP:20260419T145255
CREATED:20250213T180701Z
LAST-MODIFIED:20250213T180701Z
UID:10000748-1739959200-1739962800@senderoprep.com
SUMMARY:LMCHS Governance Council Meeting
DESCRIPTION:
URL:https://senderoprep.com/event/lmchs-governance-council-meeting-6-2/
END:VEVENT
BEGIN:VEVENT
DTSTART;TZID=America/Denver:20250217T080000
DTEND;TZID=America/Denver:20250217T170000
DTSTAMP:20260419T145255
CREATED:20240717T150229Z
LAST-MODIFIED:20240717T150229Z
UID:10000339-1739779200-1739811600@senderoprep.com
SUMMARY:Presidents' Day (No School)
DESCRIPTION:
URL:https://senderoprep.com/event/presidents-day-no-school/
END:VEVENT
BEGIN:VEVENT
DTSTART;TZID=America/Denver:20250210T083000
DTEND;TZID=America/Denver:20250210T160500
DTSTAMP:20260419T145255
CREATED:20240717T150558Z
LAST-MODIFIED:20240717T150558Z
UID:10000342-1739176200-1739203500@senderoprep.com
SUMMARY:Term 6 Starts
DESCRIPTION:
URL:https://senderoprep.com/event/term-6-starts/
END:VEVENT
BEGIN:VEVENT
DTSTART;TZID=America/Denver:20250206T083000
DTEND;TZID=America/Denver:20250206T160500
DTSTAMP:20260419T145255
CREATED:20240717T145831Z
LAST-MODIFIED:20240717T145831Z
UID:10000338-1738830600-1738857900@senderoprep.com
SUMMARY:Term 5 Ends
DESCRIPTION:
URL:https://senderoprep.com/event/5847/
END:VEVENT
BEGIN:VEVENT
DTSTART;TZID=America/Denver:20250129T100000
DTEND;TZID=America/Denver:20250129T110000
DTSTAMP:20260419T145255
CREATED:20250114T005951Z
LAST-MODIFIED:20250114T005951Z
UID:10000747-1738144800-1738148400@senderoprep.com
SUMMARY:LMCHS Goverance Council Online Meeting
DESCRIPTION:https://www.lasmontanashigh.com/notice-of-lmchs-govenance-council-meeting/
URL:https://senderoprep.com/event/lmchs-goverance-council-online-meeting/
END:VEVENT
BEGIN:VEVENT
DTSTART;TZID=America/Denver:20250124T080000
DTEND;TZID=America/Denver:20250124T170000
DTSTAMP:20260419T145255
CREATED:20240716T221916Z
LAST-MODIFIED:20240716T221916Z
UID:10000337-1737705600-1737738000@senderoprep.com
SUMMARY:School Day (Enrichment)
DESCRIPTION:
URL:https://senderoprep.com/event/school-day-enrichment-3/
END:VEVENT
BEGIN:VEVENT
DTSTART;TZID=America/Denver:20250120T083000
DTEND;TZID=America/Denver:20250120T160500
DTSTAMP:20260419T145255
CREATED:20240716T221843Z
LAST-MODIFIED:20240716T221843Z
UID:10000336-1737361800-1737389100@senderoprep.com
SUMMARY:Dr. King Holiday (No School)
DESCRIPTION:
URL:https://senderoprep.com/event/dr-king-holiday-no-school-5/
END:VEVENT
END:VCALENDAR