BEGIN:VCALENDAR
VERSION:2.0
PRODID:-//Sendero Prep - ECPv6.15.20//NONSGML v1.0//EN
CALSCALE:GREGORIAN
METHOD:PUBLISH
X-WR-CALNAME:Sendero Prep
X-ORIGINAL-URL:https://senderoprep.com
X-WR-CALDESC:Events for Sendero Prep
REFRESH-INTERVAL;VALUE=DURATION:PT1H
X-Robots-Tag:noindex
X-PUBLISHED-TTL:PT1H
BEGIN:VTIMEZONE
TZID:America/Denver
BEGIN:DAYLIGHT
TZOFFSETFROM:-0700
TZOFFSETTO:-0600
TZNAME:MDT
DTSTART:20190310T090000
END:DAYLIGHT
BEGIN:STANDARD
TZOFFSETFROM:-0600
TZOFFSETTO:-0700
TZNAME:MST
DTSTART:20191103T080000
END:STANDARD
BEGIN:DAYLIGHT
TZOFFSETFROM:-0700
TZOFFSETTO:-0600
TZNAME:MDT
DTSTART:20200308T090000
END:DAYLIGHT
BEGIN:STANDARD
TZOFFSETFROM:-0600
TZOFFSETTO:-0700
TZNAME:MST
DTSTART:20201101T080000
END:STANDARD
BEGIN:DAYLIGHT
TZOFFSETFROM:-0700
TZOFFSETTO:-0600
TZNAME:MDT
DTSTART:20210314T090000
END:DAYLIGHT
BEGIN:STANDARD
TZOFFSETFROM:-0600
TZOFFSETTO:-0700
TZNAME:MST
DTSTART:20211107T080000
END:STANDARD
END:VTIMEZONE
BEGIN:VEVENT
DTSTART;TZID=America/Denver:20201114T150000
DTEND;TZID=America/Denver:20201114T170000
DTSTAMP:20260421T125543
CREATED:20201013T193800Z
LAST-MODIFIED:20201013T193800Z
UID:10000495-1605366000-1605373200@senderoprep.com
SUMMARY:UNM VIRTUAL Open House!
DESCRIPTION:Questions? Contact Toby Tafoya\, (505) 277-1417 or toybyago@unm.edu.
URL:https://senderoprep.com/event/unm-virtual-open-house-3/2020-11-14/
CATEGORIES:Parent Events,Staff Events,Student Body Events
END:VEVENT
BEGIN:VEVENT
DTSTART;TZID=America/Denver:20201114T150000
DTEND;TZID=America/Denver:20201114T170000
DTSTAMP:20260421T125543
CREATED:20201013T193800Z
LAST-MODIFIED:20201013T193800Z
UID:10000505-1605366000-1605373200@senderoprep.com
SUMMARY:UNM VIRTUAL Open House!
DESCRIPTION:Questions? Contact Toby Tafoya\, (505) 277-1417 or toybyago@unm.edu.
URL:https://senderoprep.com/event/unm-virtual-open-house-2-2/2020-11-14/
CATEGORIES:Parent Events,Staff Events,Student Body Events
END:VEVENT
BEGIN:VEVENT
DTSTART;TZID=America/Denver:20201113T090000
DTEND;TZID=America/Denver:20201113T150000
DTSTAMP:20260421T125543
CREATED:20200930T170517Z
LAST-MODIFIED:20200930T170517Z
UID:10000431-1605258000-1605279600@senderoprep.com
SUMMARY:Extended Learning
DESCRIPTION:Extended Learning
URL:https://senderoprep.com/event/extended-learning-4-3/
CATEGORIES:Cafeteria Menu,Faculty Events,Governance Council Meetings,Parent Events,Staff Events,Student Assessment,Student Body Events,Student Council
END:VEVENT
BEGIN:VEVENT
DTSTART;TZID=America/Denver:20201113T090000
DTEND;TZID=America/Denver:20201113T150000
DTSTAMP:20260421T125543
CREATED:20200930T170517Z
LAST-MODIFIED:20200930T170517Z
UID:10000441-1605258000-1605279600@senderoprep.com
SUMMARY:Extended Learning
DESCRIPTION:Extended Learning
URL:https://senderoprep.com/event/extended-learning-4-2-2/
CATEGORIES:Cafeteria Menu,Faculty Events,Governance Council Meetings,Parent Events,Staff Events,Student Assessment,Student Body Events,Student Council
END:VEVENT
BEGIN:VEVENT
DTSTART;TZID=America/Denver:20201113T090000
DTEND;TZID=America/Denver:20201113T150000
DTSTAMP:20260421T125543
CREATED:20200930T170517Z
LAST-MODIFIED:20200930T170517Z
UID:10000059-1605258000-1605279600@senderoprep.com
SUMMARY:Extended Learning
DESCRIPTION:Extended Learning
URL:https://senderoprep.com/event/extended-learning-4/
CATEGORIES:Cafeteria Menu,Faculty Events,Governance Council Meetings,Parent Events,Staff Events,Student Assessment,Student Body Events,Student Council
END:VEVENT
BEGIN:VEVENT
DTSTART;TZID=America/Denver:20201113T090000
DTEND;TZID=America/Denver:20201113T150000
DTSTAMP:20260421T125543
CREATED:20200930T170517Z
LAST-MODIFIED:20200930T170517Z
UID:10000069-1605258000-1605279600@senderoprep.com
SUMMARY:Extended Learning
DESCRIPTION:Extended Learning
URL:https://senderoprep.com/event/extended-learning-4-2/
CATEGORIES:Cafeteria Menu,Faculty Events,Governance Council Meetings,Parent Events,Staff Events,Student Assessment,Student Body Events,Student Council
END:VEVENT
BEGIN:VEVENT
DTSTART;TZID=America/Denver:20201109T080000
DTEND;TZID=America/Denver:20201109T170000
DTSTAMP:20260421T125543
CREATED:20200929T202359Z
LAST-MODIFIED:20200929T202359Z
UID:10000040-1604908800-1604941200@senderoprep.com
SUMMARY:Term 4 Begins
DESCRIPTION:Term 4 Begins
URL:https://senderoprep.com/event/term-4-begins/
CATEGORIES:Cafeteria Menu,Faculty Events,Governance Council Meetings,Parent Events,Staff Events,Student Body Events
END:VEVENT
BEGIN:VEVENT
DTSTART;TZID=America/Denver:20201109T080000
DTEND;TZID=America/Denver:20201109T170000
DTSTAMP:20260421T125543
CREATED:20200929T202359Z
LAST-MODIFIED:20200929T202359Z
UID:10000050-1604908800-1604941200@senderoprep.com
SUMMARY:Term 4 Begins
DESCRIPTION:Term 4 Begins
URL:https://senderoprep.com/event/term-4-begins-2/
CATEGORIES:Cafeteria Menu,Faculty Events,Governance Council Meetings,Parent Events,Staff Events,Student Body Events
END:VEVENT
BEGIN:VEVENT
DTSTART;TZID=America/Denver:20201109T080000
DTEND;TZID=America/Denver:20201109T170000
DTSTAMP:20260421T125543
CREATED:20200929T202359Z
LAST-MODIFIED:20200929T202359Z
UID:10000412-1604908800-1604941200@senderoprep.com
SUMMARY:Term 4 Begins
DESCRIPTION:Term 4 Begins
URL:https://senderoprep.com/event/term-4-begins-4/
CATEGORIES:Cafeteria Menu,Faculty Events,Governance Council Meetings,Parent Events,Staff Events,Student Body Events
END:VEVENT
BEGIN:VEVENT
DTSTART;TZID=America/Denver:20201109T080000
DTEND;TZID=America/Denver:20201109T170000
DTSTAMP:20260421T125543
CREATED:20200929T202359Z
LAST-MODIFIED:20200929T202359Z
UID:10000422-1604908800-1604941200@senderoprep.com
SUMMARY:Term 4 Begins
DESCRIPTION:Term 4 Begins
URL:https://senderoprep.com/event/term-4-begins-2-2/
CATEGORIES:Cafeteria Menu,Faculty Events,Governance Council Meetings,Parent Events,Staff Events,Student Body Events
END:VEVENT
BEGIN:VEVENT
DTSTART;VALUE=DATE:20201106
DTEND;VALUE=DATE:20201107
DTSTAMP:20260421T125543
CREATED:20200929T194641Z
LAST-MODIFIED:20200929T194641Z
UID:10000022-1604620800-1604707199@senderoprep.com
SUMMARY:Professional Development
DESCRIPTION:Professional Development
URL:https://senderoprep.com/event/professional-development-2/
CATEGORIES:Faculty Events,Governance Council Meetings,Staff Events
END:VEVENT
BEGIN:VEVENT
DTSTART;VALUE=DATE:20201106
DTEND;VALUE=DATE:20201107
DTSTAMP:20260421T125543
CREATED:20200929T194641Z
LAST-MODIFIED:20200929T194641Z
UID:10000031-1604620800-1604707199@senderoprep.com
SUMMARY:Professional Development
DESCRIPTION:Professional Development
URL:https://senderoprep.com/event/professional-development-2-2/
CATEGORIES:Faculty Events,Governance Council Meetings,Staff Events
END:VEVENT
BEGIN:VEVENT
DTSTART;VALUE=DATE:20201106
DTEND;VALUE=DATE:20201107
DTSTAMP:20260421T125543
CREATED:20200929T194641Z
LAST-MODIFIED:20200929T194641Z
UID:10000394-1604620800-1604707199@senderoprep.com
SUMMARY:Professional Development
DESCRIPTION:Professional Development
URL:https://senderoprep.com/event/professional-development-2-3/
CATEGORIES:Faculty Events,Governance Council Meetings,Staff Events
END:VEVENT
BEGIN:VEVENT
DTSTART;VALUE=DATE:20201106
DTEND;VALUE=DATE:20201107
DTSTAMP:20260421T125543
CREATED:20200929T194641Z
LAST-MODIFIED:20200929T194641Z
UID:10000403-1604620800-1604707199@senderoprep.com
SUMMARY:Professional Development
DESCRIPTION:Professional Development
URL:https://senderoprep.com/event/professional-development-2-2-2/
CATEGORIES:Faculty Events,Governance Council Meetings,Staff Events
END:VEVENT
BEGIN:VEVENT
DTSTART;TZID=America/Denver:20201105T080000
DTEND;TZID=America/Denver:20201105T170000
DTSTAMP:20260421T125543
CREATED:20200929T182046Z
LAST-MODIFIED:20200929T182046Z
UID:10000020-1604563200-1604595600@senderoprep.com
SUMMARY:End of Term 3
DESCRIPTION:  \n \nFinal Exam and all work is due.
URL:https://senderoprep.com/event/end-of-term-3/
CATEGORIES:Faculty Events,Governance Council Meetings,Parent Events,Staff Events,Student Body Events,Student Council
END:VEVENT
BEGIN:VEVENT
DTSTART;TZID=America/Denver:20201105T080000
DTEND;TZID=America/Denver:20201105T170000
DTSTAMP:20260421T125543
CREATED:20200929T182046Z
LAST-MODIFIED:20200929T182046Z
UID:10000029-1604563200-1604595600@senderoprep.com
SUMMARY:End of Term 3
DESCRIPTION:  \n \nFinal Exam and all work is due.
URL:https://senderoprep.com/event/end-of-term-3-2/
CATEGORIES:Faculty Events,Governance Council Meetings,Parent Events,Staff Events,Student Body Events,Student Council
END:VEVENT
BEGIN:VEVENT
DTSTART;TZID=America/Denver:20201105T080000
DTEND;TZID=America/Denver:20201105T170000
DTSTAMP:20260421T125543
CREATED:20200929T182046Z
LAST-MODIFIED:20200929T182046Z
UID:10000392-1604563200-1604595600@senderoprep.com
SUMMARY:End of Term 3
DESCRIPTION:  \n \nFinal Exam and all work is due.
URL:https://senderoprep.com/event/end-of-term-3-3/
CATEGORIES:Faculty Events,Governance Council Meetings,Parent Events,Staff Events,Student Body Events,Student Council
END:VEVENT
BEGIN:VEVENT
DTSTART;TZID=America/Denver:20201105T080000
DTEND;TZID=America/Denver:20201105T170000
DTSTAMP:20260421T125543
CREATED:20200929T182046Z
LAST-MODIFIED:20200929T182046Z
UID:10000401-1604563200-1604595600@senderoprep.com
SUMMARY:End of Term 3
DESCRIPTION:  \n \nFinal Exam and all work is due.
URL:https://senderoprep.com/event/end-of-term-3-2-2/
CATEGORIES:Faculty Events,Governance Council Meetings,Parent Events,Staff Events,Student Body Events,Student Council
END:VEVENT
BEGIN:VEVENT
DTSTART;TZID=America/Denver:20201030T090000
DTEND;TZID=America/Denver:20201030T150000
DTSTAMP:20260421T125543
CREATED:20200930T170405Z
LAST-MODIFIED:20200930T170405Z
UID:10000058-1604048400-1604070000@senderoprep.com
SUMMARY:Extended Learning
DESCRIPTION:Extended Learning
URL:https://senderoprep.com/event/extended-learning-3/
CATEGORIES:Cafeteria Menu,Faculty Events,Governance Council Meetings,Parent Events,Staff Events,Student Assessment,Student Body Events,Student Council
END:VEVENT
BEGIN:VEVENT
DTSTART;TZID=America/Denver:20201030T090000
DTEND;TZID=America/Denver:20201030T150000
DTSTAMP:20260421T125543
CREATED:20200930T170405Z
LAST-MODIFIED:20200930T170405Z
UID:10000068-1604048400-1604070000@senderoprep.com
SUMMARY:Extended Learning
DESCRIPTION:Extended Learning
URL:https://senderoprep.com/event/extended-learning-3-2/
CATEGORIES:Cafeteria Menu,Faculty Events,Governance Council Meetings,Parent Events,Staff Events,Student Assessment,Student Body Events,Student Council
END:VEVENT
BEGIN:VEVENT
DTSTART;TZID=America/Denver:20201030T090000
DTEND;TZID=America/Denver:20201030T150000
DTSTAMP:20260421T125543
CREATED:20200930T170405Z
LAST-MODIFIED:20200930T170405Z
UID:10000430-1604048400-1604070000@senderoprep.com
SUMMARY:Extended Learning
DESCRIPTION:Extended Learning
URL:https://senderoprep.com/event/extended-learning-3-3/
CATEGORIES:Cafeteria Menu,Faculty Events,Governance Council Meetings,Parent Events,Staff Events,Student Assessment,Student Body Events,Student Council
END:VEVENT
BEGIN:VEVENT
DTSTART;TZID=America/Denver:20201030T090000
DTEND;TZID=America/Denver:20201030T150000
DTSTAMP:20260421T125543
CREATED:20200930T170405Z
LAST-MODIFIED:20200930T170405Z
UID:10000440-1604048400-1604070000@senderoprep.com
SUMMARY:Extended Learning
DESCRIPTION:Extended Learning
URL:https://senderoprep.com/event/extended-learning-3-2-2/
CATEGORIES:Cafeteria Menu,Faculty Events,Governance Council Meetings,Parent Events,Staff Events,Student Assessment,Student Body Events,Student Council
END:VEVENT
BEGIN:VEVENT
DTSTART;VALUE=DATE:20201023
DTEND;VALUE=DATE:20201024
DTSTAMP:20260421T125543
CREATED:20200929T193416Z
LAST-MODIFIED:20200929T193416Z
UID:10000393-1603411200-1603497599@senderoprep.com
SUMMARY:Professional Development
DESCRIPTION:Professional Development
URL:https://senderoprep.com/event/professional-development-13/2020-10-23/
CATEGORIES:Faculty Events,Governance Council Meetings,Parent Events,Staff Events
END:VEVENT
BEGIN:VEVENT
DTSTART;VALUE=DATE:20201023
DTEND;VALUE=DATE:20201024
DTSTAMP:20260421T125543
CREATED:20200929T193416Z
LAST-MODIFIED:20200929T193416Z
UID:10000402-1603411200-1603497599@senderoprep.com
SUMMARY:Professional Development
DESCRIPTION:Professional Development
URL:https://senderoprep.com/event/professional-development-9-2/2020-10-23/
CATEGORIES:Faculty Events,Governance Council Meetings,Parent Events,Staff Events
END:VEVENT
BEGIN:VEVENT
DTSTART;VALUE=DATE:20201023
DTEND;VALUE=DATE:20201024
DTSTAMP:20260421T125543
CREATED:20200929T193416Z
LAST-MODIFIED:20200929T193416Z
UID:10000021-1603411200-1603497599@senderoprep.com
SUMMARY:Professional Development
DESCRIPTION:Professional Development
URL:https://senderoprep.com/event/professional-development/2020-10-23/
CATEGORIES:Faculty Events,Governance Council Meetings,Parent Events,Staff Events
END:VEVENT
BEGIN:VEVENT
DTSTART;VALUE=DATE:20201023
DTEND;VALUE=DATE:20201024
DTSTAMP:20260421T125543
CREATED:20200929T193416Z
LAST-MODIFIED:20200929T193416Z
UID:10000030-1603411200-1603497599@senderoprep.com
SUMMARY:Professional Development
DESCRIPTION:Professional Development
URL:https://senderoprep.com/event/professional-development-9/2020-10-23/
CATEGORIES:Faculty Events,Governance Council Meetings,Parent Events,Staff Events
END:VEVENT
BEGIN:VEVENT
DTSTART;TZID=America/Denver:20201022T183000
DTEND;TZID=America/Denver:20201022T193000
DTSTAMP:20260421T125543
CREATED:20201013T193109Z
LAST-MODIFIED:20201013T193109Z
UID:10000122-1603391400-1603395000@senderoprep.com
SUMMARY:UNM Civil\, Construction & Environmental Engineering NIGHT!
DESCRIPTION:For more information\, contact Toby Tafoya at (505) 277-1417 or tobyago@unm.edu.
URL:https://senderoprep.com/event/unm-civil-construction-environmental-engineering-night/
CATEGORIES:Parent Events,Student Body Events
END:VEVENT
BEGIN:VEVENT
DTSTART;TZID=America/Denver:20201022T183000
DTEND;TZID=America/Denver:20201022T193000
DTSTAMP:20260421T125543
CREATED:20201013T193109Z
LAST-MODIFIED:20201013T193109Z
UID:10000132-1603391400-1603395000@senderoprep.com
SUMMARY:UNM Civil\, Construction & Environmental Engineering NIGHT!
DESCRIPTION:For more information\, contact Toby Tafoya at (505) 277-1417 or tobyago@unm.edu.
URL:https://senderoprep.com/event/unm-civil-construction-environmental-engineering-night-2/
CATEGORIES:Parent Events,Student Body Events
END:VEVENT
BEGIN:VEVENT
DTSTART;TZID=America/Denver:20201022T183000
DTEND;TZID=America/Denver:20201022T193000
DTSTAMP:20260421T125543
CREATED:20201013T193109Z
LAST-MODIFIED:20201013T193109Z
UID:10000494-1603391400-1603395000@senderoprep.com
SUMMARY:UNM Civil\, Construction & Environmental Engineering NIGHT!
DESCRIPTION:For more information\, contact Toby Tafoya at (505) 277-1417 or tobyago@unm.edu.
URL:https://senderoprep.com/event/unm-civil-construction-environmental-engineering-night-3/
CATEGORIES:Parent Events,Student Body Events
END:VEVENT
BEGIN:VEVENT
DTSTART;TZID=America/Denver:20201022T183000
DTEND;TZID=America/Denver:20201022T193000
DTSTAMP:20260421T125543
CREATED:20201013T193109Z
LAST-MODIFIED:20201013T193109Z
UID:10000504-1603391400-1603395000@senderoprep.com
SUMMARY:UNM Civil\, Construction & Environmental Engineering NIGHT!
DESCRIPTION:For more information\, contact Toby Tafoya at (505) 277-1417 or tobyago@unm.edu.
URL:https://senderoprep.com/event/unm-civil-construction-environmental-engineering-night-2-2/
CATEGORIES:Parent Events,Student Body Events
END:VEVENT
END:VCALENDAR