BEGIN:VCALENDAR
VERSION:2.0
PRODID:-//Sendero Prep - ECPv6.15.20//NONSGML v1.0//EN
CALSCALE:GREGORIAN
METHOD:PUBLISH
X-WR-CALNAME:Sendero Prep
X-ORIGINAL-URL:https://senderoprep.com
X-WR-CALDESC:Events for Sendero Prep
REFRESH-INTERVAL;VALUE=DURATION:PT1H
X-Robots-Tag:noindex
X-PUBLISHED-TTL:PT1H
BEGIN:VTIMEZONE
TZID:America/Denver
BEGIN:DAYLIGHT
TZOFFSETFROM:-0700
TZOFFSETTO:-0600
TZNAME:MDT
DTSTART:20190310T090000
END:DAYLIGHT
BEGIN:STANDARD
TZOFFSETFROM:-0600
TZOFFSETTO:-0700
TZNAME:MST
DTSTART:20191103T080000
END:STANDARD
BEGIN:DAYLIGHT
TZOFFSETFROM:-0700
TZOFFSETTO:-0600
TZNAME:MDT
DTSTART:20200308T090000
END:DAYLIGHT
BEGIN:STANDARD
TZOFFSETFROM:-0600
TZOFFSETTO:-0700
TZNAME:MST
DTSTART:20201101T080000
END:STANDARD
BEGIN:DAYLIGHT
TZOFFSETFROM:-0700
TZOFFSETTO:-0600
TZNAME:MDT
DTSTART:20210314T090000
END:DAYLIGHT
BEGIN:STANDARD
TZOFFSETFROM:-0600
TZOFFSETTO:-0700
TZNAME:MST
DTSTART:20211107T080000
END:STANDARD
END:VTIMEZONE
BEGIN:VEVENT
DTSTART;TZID=America/Denver:20201015T183000
DTEND;TZID=America/Denver:20201015T193000
DTSTAMP:20260421T171039
CREATED:20201013T192726Z
LAST-MODIFIED:20201013T192726Z
UID:10000493-1602786600-1602790200@senderoprep.com
SUMMARY:UNM Center for Water and the Environment Night!
DESCRIPTION:For more information\, contact Toby Tafoya at (505) 277-1417 or tobyago@unm.edu
URL:https://senderoprep.com/event/unm-center-for-water-and-the-environment-night-3/
CATEGORIES:Parent Events,Student Body Events
END:VEVENT
BEGIN:VEVENT
DTSTART;TZID=America/Denver:20201015T183000
DTEND;TZID=America/Denver:20201015T193000
DTSTAMP:20260421T171039
CREATED:20201013T192726Z
LAST-MODIFIED:20201013T192726Z
UID:10000503-1602786600-1602790200@senderoprep.com
SUMMARY:UNM Center for Water and the Environment Night!
DESCRIPTION:For more information\, contact Toby Tafoya at (505) 277-1417 or tobyago@unm.edu
URL:https://senderoprep.com/event/unm-center-for-water-and-the-environment-night-2-2/
CATEGORIES:Parent Events,Student Body Events
END:VEVENT
BEGIN:VEVENT
DTSTART;VALUE=DATE:20201012
DTEND;VALUE=DATE:20201013
DTSTAMP:20260421T171039
CREATED:20200929T181443Z
LAST-MODIFIED:20200929T181443Z
UID:10000019-1602460800-1602547199@senderoprep.com
SUMMARY:Term 3 Begins
DESCRIPTION:Term 3 Begins \n 
URL:https://senderoprep.com/event/term-3-begins/
CATEGORIES:Faculty Events,Governance Council Meetings,Parent Events,Staff Events,Student Body Events,Student Council
END:VEVENT
BEGIN:VEVENT
DTSTART;VALUE=DATE:20201012
DTEND;VALUE=DATE:20201013
DTSTAMP:20260421T171039
CREATED:20200929T181443Z
LAST-MODIFIED:20200929T181443Z
UID:10000028-1602460800-1602547199@senderoprep.com
SUMMARY:Term 3 Begins
DESCRIPTION:Term 3 Begins \n 
URL:https://senderoprep.com/event/term-3-begins-2/
CATEGORIES:Faculty Events,Governance Council Meetings,Parent Events,Staff Events,Student Body Events,Student Council
END:VEVENT
BEGIN:VEVENT
DTSTART;VALUE=DATE:20201012
DTEND;VALUE=DATE:20201013
DTSTAMP:20260421T171039
CREATED:20200929T181443Z
LAST-MODIFIED:20200929T181443Z
UID:10000391-1602460800-1602547199@senderoprep.com
SUMMARY:Term 3 Begins
DESCRIPTION:Term 3 Begins \n 
URL:https://senderoprep.com/event/term-3-begins-3/
CATEGORIES:Faculty Events,Governance Council Meetings,Parent Events,Staff Events,Student Body Events,Student Council
END:VEVENT
BEGIN:VEVENT
DTSTART;VALUE=DATE:20201012
DTEND;VALUE=DATE:20201013
DTSTAMP:20260421T171039
CREATED:20200929T181443Z
LAST-MODIFIED:20200929T181443Z
UID:10000400-1602460800-1602547199@senderoprep.com
SUMMARY:Term 3 Begins
DESCRIPTION:Term 3 Begins \n 
URL:https://senderoprep.com/event/term-3-begins-2-2/
CATEGORIES:Faculty Events,Governance Council Meetings,Parent Events,Staff Events,Student Body Events,Student Council
END:VEVENT
BEGIN:VEVENT
DTSTART;TZID=America/Denver:20201009T080000
DTEND;TZID=America/Denver:20201009T170000
DTSTAMP:20260421T171039
CREATED:20200929T201819Z
LAST-MODIFIED:20200929T201819Z
UID:10000420-1602230400-1602262800@senderoprep.com
SUMMARY:Parent Teacher Conferences
DESCRIPTION:Parent Teacher Conferences
URL:https://senderoprep.com/event/parent-teacher-conferences-2-2/
CATEGORIES:Cafeteria Menu,Faculty Events,Governance Council Meetings,Parent Events,Staff Events,Student Body Events
END:VEVENT
BEGIN:VEVENT
DTSTART;TZID=America/Denver:20201009T080000
DTEND;TZID=America/Denver:20201009T170000
DTSTAMP:20260421T171039
CREATED:20200929T201819Z
LAST-MODIFIED:20200929T201819Z
UID:10000038-1602230400-1602262800@senderoprep.com
SUMMARY:Parent Teacher Conferences
DESCRIPTION:Parent Teacher Conferences
URL:https://senderoprep.com/event/parent-teacher-conferences/
CATEGORIES:Cafeteria Menu,Faculty Events,Governance Council Meetings,Parent Events,Staff Events,Student Body Events
END:VEVENT
BEGIN:VEVENT
DTSTART;TZID=America/Denver:20201009T080000
DTEND;TZID=America/Denver:20201009T170000
DTSTAMP:20260421T171039
CREATED:20200929T201819Z
LAST-MODIFIED:20200929T201819Z
UID:10000048-1602230400-1602262800@senderoprep.com
SUMMARY:Parent Teacher Conferences
DESCRIPTION:Parent Teacher Conferences
URL:https://senderoprep.com/event/parent-teacher-conferences-2/
CATEGORIES:Cafeteria Menu,Faculty Events,Governance Council Meetings,Parent Events,Staff Events,Student Body Events
END:VEVENT
BEGIN:VEVENT
DTSTART;TZID=America/Denver:20201009T080000
DTEND;TZID=America/Denver:20201009T170000
DTSTAMP:20260421T171039
CREATED:20200929T201819Z
LAST-MODIFIED:20200929T201819Z
UID:10000410-1602230400-1602262800@senderoprep.com
SUMMARY:Parent Teacher Conferences
DESCRIPTION:Parent Teacher Conferences
URL:https://senderoprep.com/event/parent-teacher-conferences-4/
CATEGORIES:Cafeteria Menu,Faculty Events,Governance Council Meetings,Parent Events,Staff Events,Student Body Events
END:VEVENT
BEGIN:VEVENT
DTSTART;VALUE=DATE:20201008
DTEND;VALUE=DATE:20201009
DTSTAMP:20260421T171039
CREATED:20200929T174518Z
LAST-MODIFIED:20200929T174518Z
UID:10000399-1602115200-1602201599@senderoprep.com
SUMMARY:End of Term 2
DESCRIPTION:Last Day of Term 2 \nFinal Exam Day and ALL assignment are Due for Term 2.
URL:https://senderoprep.com/event/end-of-term-2-2-2/
CATEGORIES:Governance Council Meetings,Parent Events,Staff Events,Student Assessment,Student Body Events,Student Council
END:VEVENT
BEGIN:VEVENT
DTSTART;VALUE=DATE:20201008
DTEND;VALUE=DATE:20201009
DTSTAMP:20260421T171039
CREATED:20200929T174518Z
LAST-MODIFIED:20200929T174518Z
UID:10000018-1602115200-1602201599@senderoprep.com
SUMMARY:End of Term 2
DESCRIPTION:Last Day of Term 2 \nFinal Exam Day and ALL assignment are Due for Term 2.
URL:https://senderoprep.com/event/end-of-term-2/
CATEGORIES:Governance Council Meetings,Parent Events,Staff Events,Student Assessment,Student Body Events,Student Council
END:VEVENT
BEGIN:VEVENT
DTSTART;VALUE=DATE:20201008
DTEND;VALUE=DATE:20201009
DTSTAMP:20260421T171039
CREATED:20200929T174518Z
LAST-MODIFIED:20200929T174518Z
UID:10000027-1602115200-1602201599@senderoprep.com
SUMMARY:End of Term 2
DESCRIPTION:Last Day of Term 2 \nFinal Exam Day and ALL assignment are Due for Term 2.
URL:https://senderoprep.com/event/end-of-term-2-2/
CATEGORIES:Governance Council Meetings,Parent Events,Staff Events,Student Assessment,Student Body Events,Student Council
END:VEVENT
BEGIN:VEVENT
DTSTART;VALUE=DATE:20201008
DTEND;VALUE=DATE:20201009
DTSTAMP:20260421T171039
CREATED:20200929T174518Z
LAST-MODIFIED:20200929T174518Z
UID:10000390-1602115200-1602201599@senderoprep.com
SUMMARY:End of Term 2
DESCRIPTION:Last Day of Term 2 \nFinal Exam Day and ALL assignment are Due for Term 2.
URL:https://senderoprep.com/event/end-of-term-2-3/
CATEGORIES:Governance Council Meetings,Parent Events,Staff Events,Student Assessment,Student Body Events,Student Council
END:VEVENT
BEGIN:VEVENT
DTSTART;TZID=America/Denver:20200925T090000
DTEND;TZID=America/Denver:20200925T150000
DTSTAMP:20260421T171040
CREATED:20200930T164744Z
LAST-MODIFIED:20200930T164744Z
UID:10000047-1601024400-1601046000@senderoprep.com
SUMMARY:Extended Learning
DESCRIPTION:Extended Learning
URL:https://senderoprep.com/event/extended-learning-2/
CATEGORIES:Cafeteria Menu,Faculty Events,Governance Council Meetings,Parent Events,Staff Events,Student Assessment,Student Body Events,Student Council
END:VEVENT
BEGIN:VEVENT
DTSTART;TZID=America/Denver:20200925T090000
DTEND;TZID=America/Denver:20200925T150000
DTSTAMP:20260421T171040
CREATED:20200930T164744Z
LAST-MODIFIED:20200930T164744Z
UID:10000057-1601024400-1601046000@senderoprep.com
SUMMARY:Extended Learning
DESCRIPTION:Extended Learning
URL:https://senderoprep.com/event/extended-learning-2-2/
CATEGORIES:Cafeteria Menu,Faculty Events,Governance Council Meetings,Parent Events,Staff Events,Student Assessment,Student Body Events,Student Council
END:VEVENT
BEGIN:VEVENT
DTSTART;TZID=America/Denver:20200925T090000
DTEND;TZID=America/Denver:20200925T150000
DTSTAMP:20260421T171040
CREATED:20200930T164744Z
LAST-MODIFIED:20200930T164744Z
UID:10000419-1601024400-1601046000@senderoprep.com
SUMMARY:Extended Learning
DESCRIPTION:Extended Learning
URL:https://senderoprep.com/event/extended-learning-2-3/
CATEGORIES:Cafeteria Menu,Faculty Events,Governance Council Meetings,Parent Events,Staff Events,Student Assessment,Student Body Events,Student Council
END:VEVENT
BEGIN:VEVENT
DTSTART;TZID=America/Denver:20200925T090000
DTEND;TZID=America/Denver:20200925T150000
DTSTAMP:20260421T171040
CREATED:20200930T164744Z
LAST-MODIFIED:20200930T164744Z
UID:10000429-1601024400-1601046000@senderoprep.com
SUMMARY:Extended Learning
DESCRIPTION:Extended Learning
URL:https://senderoprep.com/event/extended-learning-2-2-2/
CATEGORIES:Cafeteria Menu,Faculty Events,Governance Council Meetings,Parent Events,Staff Events,Student Assessment,Student Body Events,Student Council
END:VEVENT
BEGIN:VEVENT
DTSTART;TZID=America/Denver:20200915T173000
DTEND;TZID=America/Denver:20200915T183000
DTSTAMP:20260421T171040
CREATED:20200827T170027Z
LAST-MODIFIED:20200827T170027Z
UID:10000378-1600191000-1600194600@senderoprep.com
SUMMARY:LMCHS Governance Council September Meeting
DESCRIPTION:NOTICE IS GIVEN that a regular meeting of Las Montañas Charter High School\nGovernance Council will be held at:\nLAS MONTAÑAS CHARTER HIGH SCHOOL\n1405 S. Solano\nLas Cruces\, NM 88001\nTuesday\, September 15\, 2020\nHELD VIRTUALLY: ZOOM\nJoin Zoom Meeting\nhttps://us04web.zoom.us/j/75332616536?pwd=eXhjajQ0eVhWT3R0S\nlZxWWlvNzBHUT09\nMeeting ID: 753 3261 6536\nPasscode: 39CPuL    at 5:30 PM\nFor The Transaction Of The Following Business\nDiscussion and Action on August\, 2020 Fiscal.\nPrincipal’s Report including School reentry\, enrollment\, student engagement\,\nand other items as may be included on the agenda.\nA final agenda for the foregoing meeting may be obtained at\nwww.lasmontanashigh.com\nthree days prior to the meeting.\nIf you have any questions\, call\nLas Montañas Charter High School\nat 575-527-5916.\n“Home of the Rams”\nVirtual Meeting (ensure Zoom is setup 20 min prior to meeting) \n 
URL:https://senderoprep.com/event/lmchs-governance-council-september-meeting-2-2/2020-09-15/
CATEGORIES:Governance Council Meetings
END:VEVENT
BEGIN:VEVENT
DTSTART;TZID=America/Denver:20200915T173000
DTEND;TZID=America/Denver:20200915T183000
DTSTAMP:20260421T171040
CREATED:20200827T170027Z
LAST-MODIFIED:20200827T170027Z
UID:10000006-1600191000-1600194600@senderoprep.com
SUMMARY:LMCHS Governance Council September Meeting
DESCRIPTION:NOTICE IS GIVEN that a regular meeting of Las Montañas Charter High School\nGovernance Council will be held at:\nLAS MONTAÑAS CHARTER HIGH SCHOOL\n1405 S. Solano\nLas Cruces\, NM 88001\nTuesday\, September 15\, 2020\nHELD VIRTUALLY: ZOOM\nJoin Zoom Meeting\nhttps://us04web.zoom.us/j/75332616536?pwd=eXhjajQ0eVhWT3R0S\nlZxWWlvNzBHUT09\nMeeting ID: 753 3261 6536\nPasscode: 39CPuL    at 5:30 PM\nFor The Transaction Of The Following Business\nDiscussion and Action on August\, 2020 Fiscal.\nPrincipal’s Report including School reentry\, enrollment\, student engagement\,\nand other items as may be included on the agenda.\nA final agenda for the foregoing meeting may be obtained at\nwww.lasmontanashigh.com\nthree days prior to the meeting.\nIf you have any questions\, call\nLas Montañas Charter High School\nat 575-527-5916.\n“Home of the Rams”\nVirtual Meeting (ensure Zoom is setup 20 min prior to meeting) \n 
URL:https://senderoprep.com/event/lmchs-governance-council-september-meeting-2/2020-09-15/
CATEGORIES:Governance Council Meetings
END:VEVENT
BEGIN:VEVENT
DTSTART;TZID=America/Denver:20200908T080000
DTEND;TZID=America/Denver:20200908T170000
DTSTAMP:20260421T171040
CREATED:20200930T155639Z
LAST-MODIFIED:20200930T155639Z
UID:10000043-1599552000-1599584400@senderoprep.com
SUMMARY:Term 2 Begins
DESCRIPTION:Term 2 Begins
URL:https://senderoprep.com/event/term-2-begins/
END:VEVENT
BEGIN:VEVENT
DTSTART;TZID=America/Denver:20200908T080000
DTEND;TZID=America/Denver:20200908T170000
DTSTAMP:20260421T171040
CREATED:20200930T155639Z
LAST-MODIFIED:20200930T155639Z
UID:10000053-1599552000-1599584400@senderoprep.com
SUMMARY:Term 2 Begins
DESCRIPTION:Term 2 Begins
URL:https://senderoprep.com/event/term-2-begins-2/
END:VEVENT
BEGIN:VEVENT
DTSTART;TZID=America/Denver:20200908T080000
DTEND;TZID=America/Denver:20200908T170000
DTSTAMP:20260421T171040
CREATED:20200930T155639Z
LAST-MODIFIED:20200930T155639Z
UID:10000415-1599552000-1599584400@senderoprep.com
SUMMARY:Term 2 Begins
DESCRIPTION:Term 2 Begins
URL:https://senderoprep.com/event/term-2-begins-3/
END:VEVENT
BEGIN:VEVENT
DTSTART;TZID=America/Denver:20200908T080000
DTEND;TZID=America/Denver:20200908T170000
DTSTAMP:20260421T171040
CREATED:20200930T155639Z
LAST-MODIFIED:20200930T155639Z
UID:10000425-1599552000-1599584400@senderoprep.com
SUMMARY:Term 2 Begins
DESCRIPTION:Term 2 Begins
URL:https://senderoprep.com/event/term-2-begins-2-2/
END:VEVENT
BEGIN:VEVENT
DTSTART;TZID=America/Denver:20200907T080000
DTEND;TZID=America/Denver:20200907T170000
DTSTAMP:20260421T171040
CREATED:20200907T154603Z
LAST-MODIFIED:20200907T154603Z
UID:10000026-1599465600-1599498000@senderoprep.com
SUMMARY:Labor Day No School
DESCRIPTION:No School Labor Day Holiday
URL:https://senderoprep.com/event/labor-day-no-school/
CATEGORIES:Cafeteria Menu,Faculty Events,Governance Council Meetings,Parent Events,Staff Events,Student Body Events
END:VEVENT
BEGIN:VEVENT
DTSTART;TZID=America/Denver:20200907T080000
DTEND;TZID=America/Denver:20200907T170000
DTSTAMP:20260421T171040
CREATED:20200907T154603Z
LAST-MODIFIED:20200907T154603Z
UID:10000035-1599465600-1599498000@senderoprep.com
SUMMARY:Labor Day No School
DESCRIPTION:No School Labor Day Holiday
URL:https://senderoprep.com/event/labor-day-no-school-2/
CATEGORIES:Cafeteria Menu,Faculty Events,Governance Council Meetings,Parent Events,Staff Events,Student Body Events
END:VEVENT
BEGIN:VEVENT
DTSTART;TZID=America/Denver:20200907T080000
DTEND;TZID=America/Denver:20200907T170000
DTSTAMP:20260421T171040
CREATED:20200907T154603Z
LAST-MODIFIED:20200907T154603Z
UID:10000398-1599465600-1599498000@senderoprep.com
SUMMARY:Labor Day No School
DESCRIPTION:No School Labor Day Holiday
URL:https://senderoprep.com/event/labor-day-no-school-5/
CATEGORIES:Cafeteria Menu,Faculty Events,Governance Council Meetings,Parent Events,Staff Events,Student Body Events
END:VEVENT
BEGIN:VEVENT
DTSTART;TZID=America/Denver:20200907T080000
DTEND;TZID=America/Denver:20200907T170000
DTSTAMP:20260421T171040
CREATED:20200907T154603Z
LAST-MODIFIED:20200907T154603Z
UID:10000407-1599465600-1599498000@senderoprep.com
SUMMARY:Labor Day No School
DESCRIPTION:No School Labor Day Holiday
URL:https://senderoprep.com/event/labor-day-no-school-2-2/
CATEGORIES:Cafeteria Menu,Faculty Events,Governance Council Meetings,Parent Events,Staff Events,Student Body Events
END:VEVENT
BEGIN:VEVENT
DTSTART;TZID=America/Denver:20200902T080000
DTEND;TZID=America/Denver:20200902T130000
DTSTAMP:20260421T171040
CREATED:20200929T200748Z
LAST-MODIFIED:20200929T200748Z
UID:10000405-1599033600-1599051600@senderoprep.com
SUMMARY:Menu
DESCRIPTION:Breakfast\nSausage Croissant \nFruit \nMilk \nLunch\nWG Pepperoni Pizza ( 4×6 ) \nSpring Mix salad ( ½ c ) \nCauliflower Florets ( 2 oz ) \nPineapple tidbits ( ¼ c ) \nLF Milk \n 
URL:https://senderoprep.com/event/menu-2-2-2/
CATEGORIES:Cafeteria Menu,Faculty Events,Parent Events,Staff Events,Student Body Events
END:VEVENT
BEGIN:VEVENT
DTSTART;TZID=America/Denver:20200902T080000
DTEND;TZID=America/Denver:20200902T130000
DTSTAMP:20260421T171040
CREATED:20200929T200748Z
LAST-MODIFIED:20200929T200748Z
UID:10000024-1599033600-1599051600@senderoprep.com
SUMMARY:Menu
DESCRIPTION:Breakfast\nSausage Croissant \nFruit \nMilk \nLunch\nWG Pepperoni Pizza ( 4×6 ) \nSpring Mix salad ( ½ c ) \nCauliflower Florets ( 2 oz ) \nPineapple tidbits ( ¼ c ) \nLF Milk \n 
URL:https://senderoprep.com/event/menu-2/
CATEGORIES:Cafeteria Menu,Faculty Events,Parent Events,Staff Events,Student Body Events
END:VEVENT
END:VCALENDAR