BEGIN:VCALENDAR
VERSION:2.0
PRODID:-//Sendero Prep - ECPv6.15.20//NONSGML v1.0//EN
CALSCALE:GREGORIAN
METHOD:PUBLISH
X-WR-CALNAME:Sendero Prep
X-ORIGINAL-URL:https://senderoprep.com
X-WR-CALDESC:Events for Sendero Prep
REFRESH-INTERVAL;VALUE=DURATION:PT1H
X-Robots-Tag:noindex
X-PUBLISHED-TTL:PT1H
BEGIN:VTIMEZONE
TZID:America/Denver
BEGIN:DAYLIGHT
TZOFFSETFROM:-0700
TZOFFSETTO:-0600
TZNAME:MDT
DTSTART:20190310T090000
END:DAYLIGHT
BEGIN:STANDARD
TZOFFSETFROM:-0600
TZOFFSETTO:-0700
TZNAME:MST
DTSTART:20191103T080000
END:STANDARD
BEGIN:DAYLIGHT
TZOFFSETFROM:-0700
TZOFFSETTO:-0600
TZNAME:MDT
DTSTART:20200308T090000
END:DAYLIGHT
BEGIN:STANDARD
TZOFFSETFROM:-0600
TZOFFSETTO:-0700
TZNAME:MST
DTSTART:20201101T080000
END:STANDARD
BEGIN:DAYLIGHT
TZOFFSETFROM:-0700
TZOFFSETTO:-0600
TZNAME:MDT
DTSTART:20210314T090000
END:DAYLIGHT
BEGIN:STANDARD
TZOFFSETFROM:-0600
TZOFFSETTO:-0700
TZNAME:MST
DTSTART:20211107T080000
END:STANDARD
END:VTIMEZONE
BEGIN:VEVENT
DTSTART;TZID=America/Denver:20200828T090000
DTEND;TZID=America/Denver:20200828T150000
DTSTAMP:20260422T020657
CREATED:20200930T164645Z
LAST-MODIFIED:20200930T164645Z
UID:10000418-1598605200-1598626800@senderoprep.com
SUMMARY:Extended Learning
DESCRIPTION:Extended Learning
URL:https://senderoprep.com/event/extended-learning-19/
CATEGORIES:Cafeteria Menu,Faculty Events,Governance Council Meetings,Parent Events,Staff Events,Student Assessment,Student Body Events,Student Council
END:VEVENT
BEGIN:VEVENT
DTSTART;TZID=America/Denver:20200828T090000
DTEND;TZID=America/Denver:20200828T150000
DTSTAMP:20260422T020657
CREATED:20200930T164645Z
LAST-MODIFIED:20200930T164645Z
UID:10000428-1598605200-1598626800@senderoprep.com
SUMMARY:Extended Learning
DESCRIPTION:Extended Learning
URL:https://senderoprep.com/event/extended-learning-11-3/
CATEGORIES:Cafeteria Menu,Faculty Events,Governance Council Meetings,Parent Events,Staff Events,Student Assessment,Student Body Events,Student Council
END:VEVENT
BEGIN:VEVENT
DTSTART;TZID=America/Denver:20200828T090000
DTEND;TZID=America/Denver:20200828T150000
DTSTAMP:20260422T020657
CREATED:20200930T164645Z
LAST-MODIFIED:20200930T164645Z
UID:10000046-1598605200-1598626800@senderoprep.com
SUMMARY:Extended Learning
DESCRIPTION:Extended Learning
URL:https://senderoprep.com/event/extended-learning/
CATEGORIES:Cafeteria Menu,Faculty Events,Governance Council Meetings,Parent Events,Staff Events,Student Assessment,Student Body Events,Student Council
END:VEVENT
BEGIN:VEVENT
DTSTART;TZID=America/Denver:20200828T090000
DTEND;TZID=America/Denver:20200828T150000
DTSTAMP:20260422T020657
CREATED:20200930T164645Z
LAST-MODIFIED:20200930T164645Z
UID:10000056-1598605200-1598626800@senderoprep.com
SUMMARY:Extended Learning
DESCRIPTION:Extended Learning
URL:https://senderoprep.com/event/extended-learning-11/
CATEGORIES:Cafeteria Menu,Faculty Events,Governance Council Meetings,Parent Events,Staff Events,Student Assessment,Student Body Events,Student Council
END:VEVENT
BEGIN:VEVENT
DTSTART;TZID=America/Denver:20200821T080000
DTEND;TZID=America/Denver:20200821T170000
DTSTAMP:20260422T020657
CREATED:20200930T155005Z
LAST-MODIFIED:20200930T155005Z
UID:10000414-1597996800-1598029200@senderoprep.com
SUMMARY:Professional Development
DESCRIPTION:Teacher Professional Development
URL:https://senderoprep.com/event/professional-development-3-3/
CATEGORIES:Cafeteria Menu,Faculty Events,Governance Council Meetings,Parent Events,Staff Events,Student Body Events
END:VEVENT
BEGIN:VEVENT
DTSTART;TZID=America/Denver:20200821T080000
DTEND;TZID=America/Denver:20200821T170000
DTSTAMP:20260422T020657
CREATED:20200930T155005Z
LAST-MODIFIED:20200930T155005Z
UID:10000424-1597996800-1598029200@senderoprep.com
SUMMARY:Professional Development
DESCRIPTION:Teacher Professional Development
URL:https://senderoprep.com/event/professional-development-3-2-2/
CATEGORIES:Cafeteria Menu,Faculty Events,Governance Council Meetings,Parent Events,Staff Events,Student Body Events
END:VEVENT
BEGIN:VEVENT
DTSTART;TZID=America/Denver:20200821T080000
DTEND;TZID=America/Denver:20200821T170000
DTSTAMP:20260422T020657
CREATED:20200930T155005Z
LAST-MODIFIED:20200930T155005Z
UID:10000042-1597996800-1598029200@senderoprep.com
SUMMARY:Professional Development
DESCRIPTION:Teacher Professional Development
URL:https://senderoprep.com/event/professional-development-3/
CATEGORIES:Cafeteria Menu,Faculty Events,Governance Council Meetings,Parent Events,Staff Events,Student Body Events
END:VEVENT
BEGIN:VEVENT
DTSTART;TZID=America/Denver:20200821T080000
DTEND;TZID=America/Denver:20200821T170000
DTSTAMP:20260422T020657
CREATED:20200930T155005Z
LAST-MODIFIED:20200930T155005Z
UID:10000052-1597996800-1598029200@senderoprep.com
SUMMARY:Professional Development
DESCRIPTION:Teacher Professional Development
URL:https://senderoprep.com/event/professional-development-3-2/
CATEGORIES:Cafeteria Menu,Faculty Events,Governance Council Meetings,Parent Events,Staff Events,Student Body Events
END:VEVENT
BEGIN:VEVENT
DTSTART;TZID=America/Denver:20200806T080000
DTEND;TZID=America/Denver:20200806T170000
DTSTAMP:20260422T020657
CREATED:20200930T154828Z
LAST-MODIFIED:20200930T154828Z
UID:10000041-1596700800-1596733200@senderoprep.com
SUMMARY:First Day of Term 1
DESCRIPTION:Term 1 Begins
URL:https://senderoprep.com/event/first-day-of-instruction/
CATEGORIES:Cafeteria Menu,Faculty Events,Governance Council Meetings,Parent Events,Staff Events,Student Body Events,Student Council
END:VEVENT
BEGIN:VEVENT
DTSTART;TZID=America/Denver:20200806T080000
DTEND;TZID=America/Denver:20200806T170000
DTSTAMP:20260422T020657
CREATED:20200930T154828Z
LAST-MODIFIED:20200930T154828Z
UID:10000051-1596700800-1596733200@senderoprep.com
SUMMARY:First Day of Term 1
DESCRIPTION:Term 1 Begins
URL:https://senderoprep.com/event/first-day-of-instruction-2/
CATEGORIES:Cafeteria Menu,Faculty Events,Governance Council Meetings,Parent Events,Staff Events,Student Body Events,Student Council
END:VEVENT
BEGIN:VEVENT
DTSTART;TZID=America/Denver:20200806T080000
DTEND;TZID=America/Denver:20200806T170000
DTSTAMP:20260422T020657
CREATED:20200930T154828Z
LAST-MODIFIED:20200930T154828Z
UID:10000413-1596700800-1596733200@senderoprep.com
SUMMARY:First Day of Term 1
DESCRIPTION:Term 1 Begins
URL:https://senderoprep.com/event/first-day-of-instruction-3/
CATEGORIES:Cafeteria Menu,Faculty Events,Governance Council Meetings,Parent Events,Staff Events,Student Body Events,Student Council
END:VEVENT
BEGIN:VEVENT
DTSTART;TZID=America/Denver:20200806T080000
DTEND;TZID=America/Denver:20200806T170000
DTSTAMP:20260422T020657
CREATED:20200930T154828Z
LAST-MODIFIED:20200930T154828Z
UID:10000423-1596700800-1596733200@senderoprep.com
SUMMARY:First Day of Term 1
DESCRIPTION:Term 1 Begins
URL:https://senderoprep.com/event/first-day-of-instruction-2-2/
CATEGORIES:Cafeteria Menu,Faculty Events,Governance Council Meetings,Parent Events,Staff Events,Student Body Events,Student Council
END:VEVENT
END:VCALENDAR