BEGIN:VCALENDAR
VERSION:2.0
PRODID:-//Sendero Prep - ECPv6.15.20//NONSGML v1.0//EN
CALSCALE:GREGORIAN
METHOD:PUBLISH
X-WR-CALNAME:Sendero Prep
X-ORIGINAL-URL:https://senderoprep.com
X-WR-CALDESC:Events for Sendero Prep
REFRESH-INTERVAL;VALUE=DURATION:PT1H
X-Robots-Tag:noindex
X-PUBLISHED-TTL:PT1H
BEGIN:VTIMEZONE
TZID:America/Denver
BEGIN:DAYLIGHT
TZOFFSETFROM:-0700
TZOFFSETTO:-0600
TZNAME:MDT
DTSTART:20230312T090000
END:DAYLIGHT
BEGIN:STANDARD
TZOFFSETFROM:-0600
TZOFFSETTO:-0700
TZNAME:MST
DTSTART:20231105T080000
END:STANDARD
BEGIN:DAYLIGHT
TZOFFSETFROM:-0700
TZOFFSETTO:-0600
TZNAME:MDT
DTSTART:20240310T090000
END:DAYLIGHT
BEGIN:STANDARD
TZOFFSETFROM:-0600
TZOFFSETTO:-0700
TZNAME:MST
DTSTART:20241103T080000
END:STANDARD
BEGIN:DAYLIGHT
TZOFFSETFROM:-0700
TZOFFSETTO:-0600
TZNAME:MDT
DTSTART:20250309T090000
END:DAYLIGHT
BEGIN:STANDARD
TZOFFSETFROM:-0600
TZOFFSETTO:-0700
TZNAME:MST
DTSTART:20251102T080000
END:STANDARD
END:VTIMEZONE
BEGIN:VEVENT
DTSTART;TZID=America/Denver:20241219T083000
DTEND;TZID=America/Denver:20241219T160500
DTSTAMP:20260419T235958
CREATED:20240716T215338Z
LAST-MODIFIED:20240716T215338Z
UID:10000330-1734597000-1734624300@senderoprep.com
SUMMARY:End of Term 4
DESCRIPTION:
URL:https://senderoprep.com/event/end-of-term-4/
END:VEVENT
BEGIN:VEVENT
DTSTART;TZID=America/Denver:20241218T100000
DTEND;TZID=America/Denver:20241218T110000
DTSTAMP:20260419T235958
CREATED:20241210T211417Z
LAST-MODIFIED:20241210T211417Z
UID:10000746-1734516000-1734519600@senderoprep.com
SUMMARY:LMCHS GC Online Meeting
DESCRIPTION:LMCHS GC Online Meeting
URL:https://senderoprep.com/event/6268/
END:VEVENT
BEGIN:VEVENT
DTSTART;TZID=America/Denver:20241206T083000
DTEND;TZID=America/Denver:20241206T140000
DTSTAMP:20260419T235958
CREATED:20240716T215247Z
LAST-MODIFIED:20240716T215247Z
UID:10000329-1733473800-1733493600@senderoprep.com
SUMMARY:School Day (Enrichment)
DESCRIPTION:
URL:https://senderoprep.com/event/school-day-enrichment-2/
END:VEVENT
BEGIN:VEVENT
DTSTART;TZID=America/Denver:20241125T083000
DTEND;TZID=America/Denver:20241129T160500
DTSTAMP:20260419T235958
CREATED:20240716T215118Z
LAST-MODIFIED:20240716T215118Z
UID:10000327-1732523400-1732896300@senderoprep.com
SUMMARY:Thanksgiving Break
DESCRIPTION:
URL:https://senderoprep.com/event/thanksgiving-break-3/
END:VEVENT
BEGIN:VEVENT
DTSTART;TZID=America/Denver:20241120T100000
DTEND;TZID=America/Denver:20241120T110000
DTSTAMP:20260419T235958
CREATED:20241119T194359Z
LAST-MODIFIED:20241119T194359Z
UID:10000745-1732096800-1732100400@senderoprep.com
SUMMARY:LMCHS GC Meeting
DESCRIPTION:https://www.lasmontanashigh.com/download/2024-november-lmchs-gc-agenda/
URL:https://senderoprep.com/event/lmchs-gc-meeting-2-2/
END:VEVENT
BEGIN:VEVENT
DTSTART;TZID=America/Denver:20241111T083000
DTEND;TZID=America/Denver:20241111T160500
DTSTAMP:20260419T235958
CREATED:20240716T215208Z
LAST-MODIFIED:20240716T215208Z
UID:10000328-1731313800-1731341100@senderoprep.com
SUMMARY:Term 4 Begins
DESCRIPTION:
URL:https://senderoprep.com/event/term-4-begins-3/
END:VEVENT
BEGIN:VEVENT
DTSTART;TZID=America/Denver:20241108T083000
DTEND;TZID=America/Denver:20241108T160500
DTSTAMP:20260419T235958
CREATED:20240716T215025Z
LAST-MODIFIED:20240716T215025Z
UID:10000326-1731054600-1731081900@senderoprep.com
SUMMARY:Remote Day/Term 3 Ends
DESCRIPTION:
URL:https://senderoprep.com/event/remote-day-term-3-ends/
END:VEVENT
BEGIN:VEVENT
DTSTART;TZID=America/Denver:20241105T080000
DTEND;TZID=America/Denver:20241105T170000
DTSTAMP:20260419T235958
CREATED:20240716T214929Z
LAST-MODIFIED:20240716T214929Z
UID:10000325-1730793600-1730826000@senderoprep.com
SUMMARY:Election Day (No School)
DESCRIPTION:
URL:https://senderoprep.com/event/election-day-no-school/
END:VEVENT
BEGIN:VEVENT
DTSTART;TZID=America/Denver:20241025T083000
DTEND;TZID=America/Denver:20241025T140000
DTSTAMP:20260419T235958
CREATED:20240716T214826Z
LAST-MODIFIED:20240716T214826Z
UID:10000324-1729845000-1729864800@senderoprep.com
SUMMARY:School Day (Enrichment)
DESCRIPTION:
URL:https://senderoprep.com/event/school-day-enrichment/
END:VEVENT
BEGIN:VEVENT
DTSTART;TZID=America/Denver:20241007T083000
DTEND;TZID=America/Denver:20241007T160500
DTSTAMP:20260419T235958
CREATED:20240716T214729Z
LAST-MODIFIED:20240716T214729Z
UID:10000323-1728289800-1728317100@senderoprep.com
SUMMARY:Students Return from Fall Break
DESCRIPTION:
URL:https://senderoprep.com/event/students-return-from-fall-break/
END:VEVENT
BEGIN:VEVENT
DTSTART;TZID=America/Denver:20241001T083000
DTEND;TZID=America/Denver:20241004T160500
DTSTAMP:20260419T235958
CREATED:20240716T213303Z
LAST-MODIFIED:20240716T213303Z
UID:10000322-1727771400-1728057900@senderoprep.com
SUMMARY:Fall Break (No School)
DESCRIPTION:
URL:https://senderoprep.com/event/fall-break-2/
END:VEVENT
BEGIN:VEVENT
DTSTART;TZID=America/Denver:20240923T083000
DTEND;TZID=America/Denver:20240930T160500
DTSTAMP:20260419T235958
CREATED:20240716T213152Z
LAST-MODIFIED:20240716T213152Z
UID:10000321-1727080200-1727712300@senderoprep.com
SUMMARY:Fall Break (No School)
DESCRIPTION:
URL:https://senderoprep.com/event/fall-break-no-school/
END:VEVENT
BEGIN:VEVENT
DTSTART;TZID=America/Denver:20240919T083000
DTEND;TZID=America/Denver:20240919T160500
DTSTAMP:20260419T235958
CREATED:20240716T212856Z
LAST-MODIFIED:20240716T212856Z
UID:10000320-1726734600-1726761900@senderoprep.com
SUMMARY:Term 2 Ends
DESCRIPTION:
URL:https://senderoprep.com/event/term-2-ends/
END:VEVENT
BEGIN:VEVENT
DTSTART;TZID=America/Denver:20240918T100000
DTEND;TZID=America/Denver:20240918T110000
DTSTAMP:20260419T235958
CREATED:20240913T201507Z
LAST-MODIFIED:20240913T201507Z
UID:10000357-1726653600-1726657200@senderoprep.com
SUMMARY:September\, 2024 GC Meeting
DESCRIPTION:September\, 2024 GC Meeting \n\n\n\nTime: Sep 18\, 2024 10:00 AM Mountain Time (US and Canada) \n\n\n\nJoin Zoom Meeting \n\n\n\nhttps://us06web.zoom.us/j/86095298836?pwd=zXUGK7oujyHvJa6bQfHuyUyGOPLRpt.1 \n\n\n\nMeeting ID: 860 9529 8836 \n\n\n\nPasscode: NLKH6Y
URL:https://senderoprep.com/event/september-2024-gc-meeting/
END:VEVENT
BEGIN:VEVENT
DTSTART;TZID=America/Denver:20240918T100000
DTEND;TZID=America/Denver:20240918T110000
DTSTAMP:20260419T235958
CREATED:20240913T201507Z
LAST-MODIFIED:20240913T201507Z
UID:10000729-1726653600-1726657200@senderoprep.com
SUMMARY:September\, 2024 GC Meeting
DESCRIPTION:September\, 2024 GC Meeting \n\n\n\nTime: Sep 18\, 2024 10:00 AM Mountain Time (US and Canada) \n\n\n\nJoin Zoom Meeting \n\n\n\nhttps://us06web.zoom.us/j/86095298836?pwd=zXUGK7oujyHvJa6bQfHuyUyGOPLRpt.1 \n\n\n\nMeeting ID: 860 9529 8836 \n\n\n\nPasscode: NLKH6Y
URL:https://senderoprep.com/event/september-2024-gc-meeting-2/
END:VEVENT
BEGIN:VEVENT
DTSTART;TZID=America/Denver:20240910T093000
DTEND;TZID=America/Denver:20240910T130000
DTSTAMP:20260419T235958
CREATED:20240827T220815Z
LAST-MODIFIED:20240827T220815Z
UID:10000355-1725960600-1725973200@senderoprep.com
SUMMARY:ONE COMMUNITY CAREER FAIR
DESCRIPTION:
URL:https://senderoprep.com/event/one-community-career-fair/
END:VEVENT
BEGIN:VEVENT
DTSTART;TZID=America/Denver:20240906T080000
DTEND;TZID=America/Denver:20240906T170000
DTSTAMP:20260419T235958
CREATED:20240716T212803Z
LAST-MODIFIED:20240716T212803Z
UID:10000319-1725609600-1725642000@senderoprep.com
SUMMARY:Parent Teacher Conferences (No School)
DESCRIPTION:
URL:https://senderoprep.com/event/parent-teacher-conferences-no-school/
END:VEVENT
BEGIN:VEVENT
DTSTART;TZID=America/Denver:20240903T083000
DTEND;TZID=America/Denver:20240903T120000
DTSTAMP:20260419T235958
CREATED:20240828T214753Z
LAST-MODIFIED:20240828T214753Z
UID:10000356-1725352200-1725364800@senderoprep.com
SUMMARY:School Pictures
DESCRIPTION:https://www.lasmontanashigh.com/its-picture-day-tuesday-september-3rd/
URL:https://senderoprep.com/event/school-pictures/
END:VEVENT
BEGIN:VEVENT
DTSTART;TZID=America/Denver:20240902T080000
DTEND;TZID=America/Denver:20240902T170000
DTSTAMP:20260419T235958
CREATED:20240717T192147Z
LAST-MODIFIED:20240717T192147Z
UID:10000352-1725264000-1725296400@senderoprep.com
SUMMARY:Labor Day (No School)
DESCRIPTION:
URL:https://senderoprep.com/event/labor-day-no-school-4/
END:VEVENT
BEGIN:VEVENT
DTSTART;TZID=America/Denver:20240828T100000
DTEND;TZID=America/Denver:20240828T110000
DTSTAMP:20260419T235958
CREATED:20240814T204808Z
LAST-MODIFIED:20240814T204808Z
UID:10000354-1724839200-1724842800@senderoprep.com
SUMMARY:LMCHS Governance Council Online Meeting
DESCRIPTION:
URL:https://senderoprep.com/event/lmchs-governance-council-online-meeting-4/
END:VEVENT
BEGIN:VEVENT
DTSTART;TZID=America/Denver:20240826T083000
DTEND;TZID=America/Denver:20240826T160500
DTSTAMP:20260419T235958
CREATED:20240716T212616Z
LAST-MODIFIED:20240716T212616Z
UID:10000318-1724661000-1724688300@senderoprep.com
SUMMARY:1st Day of Term 2
DESCRIPTION:
URL:https://senderoprep.com/event/1st-day-of-term-2/
END:VEVENT
BEGIN:VEVENT
DTSTART;TZID=America/Denver:20240822T083000
DTEND;TZID=America/Denver:20240822T160500
DTSTAMP:20260419T235958
CREATED:20240716T212326Z
LAST-MODIFIED:20240716T212326Z
UID:10000316-1724315400-1724342700@senderoprep.com
SUMMARY:Term 1 Ends
DESCRIPTION:
URL:https://senderoprep.com/event/term-1-ends/
END:VEVENT
BEGIN:VEVENT
DTSTART;TZID=America/Denver:20240724T100000
DTEND;TZID=America/Denver:20240724T110000
DTSTAMP:20260419T235958
CREATED:20240722T143307Z
LAST-MODIFIED:20240722T143307Z
UID:10000353-1721815200-1721818800@senderoprep.com
SUMMARY:LMCHS COUNCIL MEETING
DESCRIPTION:
URL:https://senderoprep.com/event/lmchs-council-meeting/
END:VEVENT
BEGIN:VEVENT
DTSTART;TZID=America/Denver:20240722T083000
DTEND;TZID=America/Denver:20240722T160500
DTSTAMP:20260419T235958
CREATED:20240716T212245Z
LAST-MODIFIED:20240716T212245Z
UID:10000315-1721637000-1721664300@senderoprep.com
SUMMARY:Students First Day of Term 1
DESCRIPTION:
URL:https://senderoprep.com/event/students-first-day-of-term-1/
END:VEVENT
BEGIN:VEVENT
DTSTART;TZID=America/Denver:20240718T083000
DTEND;TZID=America/Denver:20240718T160000
DTSTAMP:20260419T235958
CREATED:20240716T211915Z
LAST-MODIFIED:20240716T211915Z
UID:10000312-1721291400-1721318400@senderoprep.com
SUMMARY:Teacher Professional Development
DESCRIPTION:
URL:https://senderoprep.com/event/teacher-professional-development-9/
END:VEVENT
BEGIN:VEVENT
DTSTART;TZID=America/Denver:20240717T083000
DTEND;TZID=America/Denver:20240717T160000
DTSTAMP:20260419T235959
CREATED:20240716T212151Z
LAST-MODIFIED:20240716T212151Z
UID:10000314-1721205000-1721232000@senderoprep.com
SUMMARY:Teacher Professional Development
DESCRIPTION:
URL:https://senderoprep.com/event/teacher-professional-development-11/
END:VEVENT
BEGIN:VEVENT
DTSTART;TZID=America/Denver:20240716T083000
DTEND;TZID=America/Denver:20240716T160000
DTSTAMP:20260419T235959
CREATED:20240716T212118Z
LAST-MODIFIED:20240716T212118Z
UID:10000313-1721118600-1721145600@senderoprep.com
SUMMARY:Teacher Professional Development
DESCRIPTION:
URL:https://senderoprep.com/event/teacher-professional-development-10/
END:VEVENT
BEGIN:VEVENT
DTSTART;TZID=America/Denver:20240716T080000
DTEND;TZID=America/Denver:20240716T170000
DTSTAMP:20260419T235959
CREATED:20240716T212520Z
LAST-MODIFIED:20240716T212520Z
UID:10000317-1721116800-1721149200@senderoprep.com
SUMMARY:Labor Day (No School)
DESCRIPTION:
URL:https://senderoprep.com/event/labor-day-no-school-3/
END:VEVENT
BEGIN:VEVENT
DTSTART;TZID=America/Denver:20240619T100000
DTEND;TZID=America/Denver:20240619T110000
DTSTAMP:20260419T235959
CREATED:20240611T192202Z
LAST-MODIFIED:20240611T192202Z
UID:10000311-1718791200-1718794800@senderoprep.com
SUMMARY:LMCHS Governance Council Meeting
DESCRIPTION:LAS MONTAÑAS CHARTER HIGH SCHOOL \n\n\n\n1405 S. Solano \n\n\n\nLas Cruces\, NM 88001 \n\n\n\nVia Zoom at the link below \n\n\n\nTopic: June 19\, 2024 GC Meeting \n\n\n\nTime: Jun 19\, 2024 10:00 AM Mountain Time (US and Canada) \n\n\n\nJoin Zoom Meeting \n\n\n\nhttps://us06web.zoom.us/j/81083693264?pwd=6KAlyOcoOzmeptOGGuTbWmaG02g4zr.1 \n\n\n\nMeeting ID: 810 8369 3264 \n\n\n\nPasscode: 56rxQn
URL:https://senderoprep.com/event/lmchs-governance-council-meeting-5/
END:VEVENT
BEGIN:VEVENT
DTSTART;TZID=America/Denver:20240531T083000
DTEND;TZID=America/Denver:20240531T120000
DTSTAMP:20260419T235959
CREATED:20240515T203934Z
LAST-MODIFIED:20240515T203934Z
UID:10000309-1717144200-1717156800@senderoprep.com
SUMMARY:END OF SEMESTER
DESCRIPTION:8:30-12:00 Enrichment Activities \n\n\n\nEnd of Semester- early release
URL:https://senderoprep.com/event/end-of-semester/
END:VEVENT
END:VCALENDAR