BEGIN:VCALENDAR
VERSION:2.0
PRODID:-//Sendero Prep - ECPv6.15.20//NONSGML v1.0//EN
CALSCALE:GREGORIAN
METHOD:PUBLISH
X-WR-CALNAME:Sendero Prep
X-ORIGINAL-URL:https://senderoprep.com
X-WR-CALDESC:Events for Sendero Prep
REFRESH-INTERVAL;VALUE=DURATION:PT1H
X-Robots-Tag:noindex
X-PUBLISHED-TTL:PT1H
BEGIN:VTIMEZONE
TZID:America/Denver
BEGIN:DAYLIGHT
TZOFFSETFROM:-0700
TZOFFSETTO:-0600
TZNAME:MDT
DTSTART:20220313T090000
END:DAYLIGHT
BEGIN:STANDARD
TZOFFSETFROM:-0600
TZOFFSETTO:-0700
TZNAME:MST
DTSTART:20221106T080000
END:STANDARD
BEGIN:DAYLIGHT
TZOFFSETFROM:-0700
TZOFFSETTO:-0600
TZNAME:MDT
DTSTART:20230312T090000
END:DAYLIGHT
BEGIN:STANDARD
TZOFFSETFROM:-0600
TZOFFSETTO:-0700
TZNAME:MST
DTSTART:20231105T080000
END:STANDARD
BEGIN:DAYLIGHT
TZOFFSETFROM:-0700
TZOFFSETTO:-0600
TZNAME:MDT
DTSTART:20240310T090000
END:DAYLIGHT
BEGIN:STANDARD
TZOFFSETFROM:-0600
TZOFFSETTO:-0700
TZNAME:MST
DTSTART:20241103T080000
END:STANDARD
BEGIN:DAYLIGHT
TZOFFSETFROM:-0700
TZOFFSETTO:-0600
TZNAME:MDT
DTSTART:20250309T090000
END:DAYLIGHT
BEGIN:STANDARD
TZOFFSETFROM:-0600
TZOFFSETTO:-0700
TZNAME:MST
DTSTART:20251102T080000
END:STANDARD
END:VTIMEZONE
BEGIN:VEVENT
DTSTART;TZID=America/Denver:20240521T113000
DTEND;TZID=America/Denver:20240521T160000
DTSTAMP:20260420T052226
CREATED:20240515T203243Z
LAST-MODIFIED:20240515T203243Z
UID:10000305-1716291000-1716307200@senderoprep.com
SUMMARY:Graduates Check OUT
DESCRIPTION:
URL:https://senderoprep.com/event/graduates-check-out/
END:VEVENT
BEGIN:VEVENT
DTSTART;TZID=America/Denver:20240521T110000
DTEND;TZID=America/Denver:20240521T113000
DTSTAMP:20260420T052226
CREATED:20240515T203148Z
LAST-MODIFIED:20240515T203148Z
UID:10000304-1716289200-1716291000@senderoprep.com
SUMMARY:Graduates Group Picture
DESCRIPTION:Senior Pictures behind Munson Center (Valley View Park) in cap and gown
URL:https://senderoprep.com/event/graduates-group-picture/
END:VEVENT
BEGIN:VEVENT
DTSTART;TZID=America/Denver:20240521T090000
DTEND;TZID=America/Denver:20240521T103000
DTSTAMP:20260420T052226
CREATED:20240515T202837Z
LAST-MODIFIED:20240515T202837Z
UID:10000303-1716282000-1716287400@senderoprep.com
SUMMARY:Senior Breakfast Activities
DESCRIPTION:9:00-10:30 Senior Breakfast and guest speaker\, Senior recognitions\, and Senior walk at LMCHS
URL:https://senderoprep.com/event/graduates-activities/
END:VEVENT
BEGIN:VEVENT
DTSTART;TZID=America/Denver:20240516T080000
DTEND;TZID=America/Denver:20240516T170000
DTSTAMP:20260420T052226
CREATED:20240515T201445Z
LAST-MODIFIED:20240515T201445Z
UID:10000301-1715846400-1715878800@senderoprep.com
SUMMARY:Seniors Last Day!!
DESCRIPTION:
URL:https://senderoprep.com/event/seniors-last-day-2/
END:VEVENT
BEGIN:VEVENT
DTSTART;TZID=America/Denver:20240418T080000
DTEND;TZID=America/Denver:20240418T170000
DTSTAMP:20260420T052226
CREATED:20240319T185618Z
LAST-MODIFIED:20240319T185618Z
UID:10000300-1713427200-1713459600@senderoprep.com
SUMMARY:End of Term 7
DESCRIPTION:Final Projects and Exams are due.
URL:https://senderoprep.com/event/end-of-term-7-3/
END:VEVENT
BEGIN:VEVENT
DTSTART;TZID=America/Denver:20240326T053000
DTEND;TZID=America/Denver:20240326T183000
DTSTAMP:20260420T052226
CREATED:20240319T185400Z
LAST-MODIFIED:20240319T185400Z
UID:10000298-1711431000-1711477800@senderoprep.com
SUMMARY:LMCHS GC Meeting
DESCRIPTION:
URL:https://senderoprep.com/event/lmchs-gc-meeting/
CATEGORIES:Governance Council Meetings
END:VEVENT
BEGIN:VEVENT
DTSTART;TZID=America/Denver:20240318T080000
DTEND;TZID=America/Denver:20240318T170000
DTSTAMP:20260420T052226
CREATED:20240319T185524Z
LAST-MODIFIED:20240319T185524Z
UID:10000299-1710748800-1710781200@senderoprep.com
SUMMARY:Term 7 Begins
DESCRIPTION:Students pick up your new schedules from the front office.
URL:https://senderoprep.com/event/term-7-begins-4/
END:VEVENT
BEGIN:VEVENT
DTSTART;TZID=America/Denver:20240229T080000
DTEND;TZID=America/Denver:20240229T170000
DTSTAMP:20260420T052226
CREATED:20240107T031637Z
LAST-MODIFIED:20240107T031637Z
UID:10000296-1709193600-1709226000@senderoprep.com
SUMMARY:Term 6 Ends
DESCRIPTION:
URL:https://senderoprep.com/event/term-6-ends-2/
END:VEVENT
BEGIN:VEVENT
DTSTART;TZID=America/Denver:20240223T080000
DTEND;TZID=America/Denver:20240223T170000
DTSTAMP:20260420T052226
CREATED:20240104T163111Z
LAST-MODIFIED:20240104T163111Z
UID:10000294-1708675200-1708707600@senderoprep.com
SUMMARY:Classes in Session
DESCRIPTION:
URL:https://senderoprep.com/event/classes-in-session-2/
END:VEVENT
BEGIN:VEVENT
DTSTART;TZID=America/Denver:20240219T080000
DTEND;TZID=America/Denver:20240219T170000
DTSTAMP:20260420T052226
CREATED:20240107T031501Z
LAST-MODIFIED:20240107T031501Z
UID:10000295-1708329600-1708362000@senderoprep.com
SUMMARY:No School
DESCRIPTION:President’s Day
URL:https://senderoprep.com/event/no-school-2/
END:VEVENT
BEGIN:VEVENT
DTSTART;TZID=America/Denver:20240216T080000
DTEND;TZID=America/Denver:20240216T170000
DTSTAMP:20260420T052226
CREATED:20240104T163004Z
LAST-MODIFIED:20240104T163004Z
UID:10000293-1708070400-1708102800@senderoprep.com
SUMMARY:Next Step Planning
DESCRIPTION:Schedule your Next Step Conference.
URL:https://senderoprep.com/event/next-step-planning/
END:VEVENT
BEGIN:VEVENT
DTSTART;TZID=America/Denver:20240205T080000
DTEND;TZID=America/Denver:20240205T170000
DTSTAMP:20260420T052226
CREATED:20240104T162840Z
LAST-MODIFIED:20240104T162840Z
UID:10000292-1707120000-1707152400@senderoprep.com
SUMMARY:Term 6 Begins
DESCRIPTION:
URL:https://senderoprep.com/event/term-6-begins-3/
END:VEVENT
BEGIN:VEVENT
DTSTART;TZID=America/Denver:20240201T080000
DTEND;TZID=America/Denver:20240201T170000
DTSTAMP:20260420T052226
CREATED:20240104T162755Z
LAST-MODIFIED:20240104T162755Z
UID:10000291-1706774400-1706806800@senderoprep.com
SUMMARY:End of Term 5
DESCRIPTION:Final Day of Term 5
URL:https://senderoprep.com/event/end-of-term-5-3/
END:VEVENT
BEGIN:VEVENT
DTSTART;TZID=America/Denver:20240123T173000
DTEND;TZID=America/Denver:20240123T183000
DTSTAMP:20260420T052226
CREATED:20240108T230754Z
LAST-MODIFIED:20240108T230754Z
UID:10000297-1706031000-1706034600@senderoprep.com
SUMMARY:LMCHS Governance Council Meeting
DESCRIPTION:Notice of January 2024 LMCHS Governance Council Online Meeting
URL:https://senderoprep.com/event/lmchs-governance-council-meeting-4/
END:VEVENT
BEGIN:VEVENT
DTSTART;TZID=America/Denver:20240119T080000
DTEND;TZID=America/Denver:20240119T170000
DTSTAMP:20260420T052226
CREATED:20240104T162657Z
LAST-MODIFIED:20240104T162657Z
UID:10000290-1705651200-1705683600@senderoprep.com
SUMMARY:Classes in Session
DESCRIPTION:Classes are in session.
URL:https://senderoprep.com/event/classes-in-session/
END:VEVENT
BEGIN:VEVENT
DTSTART;TZID=America/Denver:20240115T080000
DTEND;TZID=America/Denver:20240115T170000
DTSTAMP:20260420T052226
CREATED:20240104T162557Z
LAST-MODIFIED:20240104T162557Z
UID:10000289-1705305600-1705338000@senderoprep.com
SUMMARY:NO SCHOOL
DESCRIPTION:Dr. King Holiday
URL:https://senderoprep.com/event/no-school/
END:VEVENT
BEGIN:VEVENT
DTSTART;TZID=America/Denver:20240104T080000
DTEND;TZID=America/Denver:20240104T170000
DTSTAMP:20260420T052226
CREATED:20240104T162120Z
LAST-MODIFIED:20240104T162120Z
UID:10000288-1704355200-1704387600@senderoprep.com
SUMMARY:Term 5 Begins
DESCRIPTION:Students schedules can be picked up in the front office.
URL:https://senderoprep.com/event/term-5-begins-4/
END:VEVENT
BEGIN:VEVENT
DTSTART;TZID=America/Denver:20231128T080000
DTEND;TZID=America/Denver:20231128T170000
DTSTAMP:20260420T052226
CREATED:20231108T230821Z
LAST-MODIFIED:20231108T230821Z
UID:10000286-1701158400-1701190800@senderoprep.com
SUMMARY:Notice of Online Meeting: November 2023
DESCRIPTION:NOTICE OF ONLINE MEETING: November  2023\,LMCHS Governance Council
URL:https://senderoprep.com/event/notice-of-online-meeting-november-2023/
END:VEVENT
BEGIN:VEVENT
DTSTART;TZID=America/Denver:20231120T080000
DTEND;TZID=America/Denver:20231124T170000
DTSTAMP:20260420T052226
CREATED:20231108T231326Z
LAST-MODIFIED:20231108T231326Z
UID:10000287-1700467200-1700845200@senderoprep.com
SUMMARY:Fall Break
DESCRIPTION:NO SCHOOL
URL:https://senderoprep.com/event/fall-break/
END:VEVENT
BEGIN:VEVENT
DTSTART;TZID=America/Denver:20230914T110000
DTEND;TZID=America/Denver:20230914T121500
DTSTAMP:20260420T052226
CREATED:20230912T235852Z
LAST-MODIFIED:20230912T235852Z
UID:10000285-1694689200-1694693700@senderoprep.com
SUMMARY:NM College Fair
DESCRIPTION:Senior’s Field Trip
URL:https://senderoprep.com/event/nm-college-fair/
END:VEVENT
BEGIN:VEVENT
DTSTART;TZID=America/Denver:20230815T053000
DTEND;TZID=America/Denver:20230815T183000
DTSTAMP:20260420T052226
CREATED:20230809T221217Z
LAST-MODIFIED:20230809T221217Z
UID:10000284-1692077400-1692124200@senderoprep.com
SUMMARY:NOTICE OF ONLINE MEETING: August\, LMCHS Governance Board Meeting
DESCRIPTION:NOTICE OF ONLINE MEETING: August 15\, LMCHS Governance Council Meeting.
URL:https://senderoprep.com/event/notice-of-online-meeting-august-lmchs-governance-board-meeting/
END:VEVENT
BEGIN:VEVENT
DTSTART;TZID=America/Denver:20230815T053000
DTEND;TZID=America/Denver:20230815T183000
DTSTAMP:20260420T052226
CREATED:20230809T221217Z
LAST-MODIFIED:20230809T221217Z
UID:10000656-1692077400-1692124200@senderoprep.com
SUMMARY:NOTICE OF ONLINE MEETING: August\, LMCHS Governance Board Meeting
DESCRIPTION:NOTICE OF ONLINE MEETING: August 15\, LMCHS Governance Council Meeting.
URL:https://senderoprep.com/event/notice-of-online-meeting-august-lmchs-governance-board-meeting-2/
END:VEVENT
BEGIN:VEVENT
DTSTART;TZID=America/Denver:20230719T083000
DTEND;TZID=America/Denver:20230719T160500
DTSTAMP:20260420T052226
CREATED:20230605T172858Z
LAST-MODIFIED:20230605T172858Z
UID:10000281-1689755400-1689782700@senderoprep.com
SUMMARY:Term 1 Begins
DESCRIPTION:Classes are in session
URL:https://senderoprep.com/event/term-1-begins/
END:VEVENT
BEGIN:VEVENT
DTSTART;TZID=America/Denver:20230718T173000
DTEND;TZID=America/Denver:20230718T183000
DTSTAMP:20260420T052226
CREATED:20230715T021235Z
LAST-MODIFIED:20230715T021235Z
UID:10000283-1689701400-1689705000@senderoprep.com
SUMMARY:LMCHS Governance Council Online Meeting July 2023
DESCRIPTION:July 2023 Agenda
URL:https://senderoprep.com/event/lmchs-governance-council-online-meeting-3/
END:VEVENT
BEGIN:VEVENT
DTSTART;TZID=America/Denver:20230718T080000
DTEND;TZID=America/Denver:20230718T170000
DTSTAMP:20260420T052226
CREATED:20230605T172731Z
LAST-MODIFIED:20230605T172731Z
UID:10000280-1689667200-1689699600@senderoprep.com
SUMMARY:Teacher Professional Development
DESCRIPTION:
URL:https://senderoprep.com/event/teacher-professional-development-8/
END:VEVENT
BEGIN:VEVENT
DTSTART;TZID=America/Denver:20230717T080000
DTEND;TZID=America/Denver:20230717T170000
DTSTAMP:20260420T052226
CREATED:20230605T172628Z
LAST-MODIFIED:20230605T172628Z
UID:10000279-1689580800-1689613200@senderoprep.com
SUMMARY:Teacher Professional Development
DESCRIPTION:
URL:https://senderoprep.com/event/teacher-professional-development-7/
END:VEVENT
BEGIN:VEVENT
DTSTART;TZID=America/Denver:20230620T173000
DTEND;TZID=America/Denver:20230620T183000
DTSTAMP:20260420T052226
CREATED:20230613T175941Z
LAST-MODIFIED:20230613T175941Z
UID:10000282-1687282200-1687285800@senderoprep.com
SUMMARY:LMCHS Governance Council Meeting
DESCRIPTION:
URL:https://senderoprep.com/event/lmchs-governance-council-meeting-3/
END:VEVENT
BEGIN:VEVENT
DTSTART;TZID=America/Denver:20230518T183000
DTEND;TZID=America/Denver:20230518T193000
DTSTAMP:20260420T052226
CREATED:20230417T155500Z
LAST-MODIFIED:20230417T155500Z
UID:10000276-1684434600-1684438200@senderoprep.com
SUMMARY:LMCHS Graduation
DESCRIPTION:
URL:https://senderoprep.com/event/lmchs-graduation-2/
END:VEVENT
BEGIN:VEVENT
DTSTART;TZID=America/Denver:20230516T053000
DTEND;TZID=America/Denver:20230516T183000
DTSTAMP:20260420T052226
CREATED:20230510T215410Z
LAST-MODIFIED:20230510T215410Z
UID:10000278-1684215000-1684261800@senderoprep.com
SUMMARY:LMCHS Governance Meeting
DESCRIPTION:NOTICE OF LMCHS Governance Council ONLINE MEETING: May 16\, 2023
URL:https://senderoprep.com/event/lmchs-governance-meeting/
END:VEVENT
BEGIN:VEVENT
DTSTART;TZID=America/Denver:20230512T080000
DTEND;TZID=America/Denver:20230512T170000
DTSTAMP:20260420T052226
CREATED:20230213T223018Z
LAST-MODIFIED:20230213T223018Z
UID:10000272-1683878400-1683910800@senderoprep.com
SUMMARY:Staff PD
DESCRIPTION:Staff professional development
URL:https://senderoprep.com/event/staff-pd-4/
END:VEVENT
END:VCALENDAR